{"text_format":"1","workbook":"xlsx","n_sheets":8,"sheets":["検索","更新履歴","詳細版","簡易版","DB","仕様の整理","条件","同意書"],"not_rendered":{"charts":0,"images":31,"macros":1,"external_links":0,"defined_names":11,"comments":1,"pivot_tables":0},"unopened":[],"bounds":{"document_bytes":16777216,"sheet_cells":100000,"rows_first":2000,"rows_last":500,"rows_between":2000,"halvings":0,"cell_chars":16384,"cell_head_chars":4096},"cells_cut":0,"cells_raw":0,"read":"whole","date_system":"1900"}

{"sheet":"検索","index":0,"n_rows":33,"n_cols":22,"rows_kept":33,"cut":false,"hidden":false,"merged":[[3,13,3,14],[35,1,35,3],[35,6,35,12]]}
[null,null,null,null,null,null,null,null,null,null,null,null,"Ver.","1.73",null,"借用同意書：",null,"問い合わせ先："," kouhouhikakuhyou-db@kyugikyo.or.jp",null,"条件検索"]
[null,null,null,null,null,null,null,null,null,null,null,null,null,null,null,"ご利用期間：","2026-02-10","～",{"$f":"IF(Q2=\"\",\"\",EOMONTH(Q2, 0))","v":"2026-02-28"}]
[null,null,null,null,null,null,null,null,null,null,null,null,null,null,null,{"$f":"仕様の整理!F1","v":"30技術93仕様"},{"$f":"仕様の整理!H1","v":"6技術9仕様"},{"$f":"\"検索結果：全\"&$P$3&\"仕様の内、\"&$Q$3&\"が検索されました。\"","v":"検索結果：全30技術93仕様仕様の内、6技術9仕様が検索されました。"},{"$f":"_xlfn.TEXTJOIN(\"／\",,T5,T6,T7,T8,T9,T10,T11)","v":"技術区分:機械系／施工方式:特に指定しない／比較する従来技術:セメント系固化材（一般軟弱土用）による第4種建設発生土の地盤改良／土質区分:第4種建設発生土／汚染土壌の有無:無し／九州のフィールドへの適応性：特に指定しない"}]
["本システムは、毎月NETIS情報を確認し、追加があれば更新していきますので、最新版を入手してお使いください。",null,null,null,null,null,null,null,null,null,null,null,null,"令和8年1月現在",null,null,null,null,{"$f":"\"工法比較表検索結果[\"&$P$3&\"の内、\"&$Q$3&\"]\"","v":"工法比較表検索結果[30技術93仕様の内、6技術9仕様]"}]
[null,null,null,null,null,null,null,null,null,null,null,null,null,null,null,null,"技術区分:",1,{"$f":"IF(R5=1,\"機械系\",IF(R5=2,\"材料系\"))","v":"機械系"},{"$f":"Q5&S5","v":"技術区分:機械系"}]
[null,null,null,null,null,null,null,null,null,null,null,null,null,null,null,null,"施工方式:",1,{"$f":"IF(R6=1,\"特に指定しない\",IF(R6=2,\"定置式プラント方式\",IF(R6=3,\"自走式プラント方式\",\"-\")))","v":"特に指定しない"},{"$f":"Q6&S6","v":"施工方式:特に指定しない"}]
[null,null,null,null,null,null,null,null,null,null,null,null,null,null,null,null,"比較する従来技術:",1,{"$f":"IFERROR(VLOOKUP(R7,Q20:R24,2,0),\"\")","v":"セメント系固化材（一般軟弱土用）による第4種建設発生土の地盤改良"},"比較する従来技術:セメント系固化材（一般軟弱土用）による第4種建設発生土の地盤改良"]
[null,null,null,null,null,null,null,null,null,null,null,null,null,null,null,null,"土質区分:",1,{"$f":"IF(R8=1,\"第4種建設発生土\",IF(R8=2,\"泥土\"))","v":"第4種建設発生土"},"土質区分:第4種建設発生土"]
[null,null,null,null,null,null,null,null,null,null,null,null,null,null,null,null,"汚染土壌の有無:",1,{"$f":"IF(R9=1,\"無し\",IF(R9=2,\"フッ素による汚染地盤\",IF(R9=3,\"ヒ素による汚染地盤\",\"\")))","v":"無し"},"汚染土壌の有無:無し"]
[null,null,null,null,null,null,null,null,null,null,null,null,null,null,null,null,"九州のフィールドへの適応性：",1,{"$f":"IF(R10=1,\"特に指定しない\",IF(R10=2,\"有\",IF(R10=3,\"無\",\"-\")))","v":"特に指定しない"},"九州のフィールドへの適応性：特に指定しない"]
[null,null,null,null,null,null,null,null,null,null,null,null,null,null,null,null,"発注者ニーズへの適応性：",1,{"$f":"IF(R11=1,\"優れている\",IF(R11=2,\"同等以上\",\"-\"))","v":"優れている"},{"$f":"IF(COUNTIF(S13:S18,\"✓\")>0, Q11&S11&\"（\"&_xlfn.TEXTJOIN(\"、\",,T13,T14,T15,T16,T17,T18)&\"）\", \"\")","v":""}]
[null,null,null,null,null,null,null,null,null,null,null,null,null,null,null,null,"騒音・振動の低減",false,{"$f":"IF(R12=TRUE,\"✓\",\"\")","v":""},{"$f":"IF(R12=TRUE,Q12,\"\")","v":""}]
[null,null,null,null,null,null,null,null,null,null,null,null,null,null,null,null,"省人化・省力化",false,{"$f":"IF(R13=TRUE,\"✓\",\"\")","v":""},{"$f":"IF(R13=TRUE,Q13,\"\")","v":""}]
[null,null,null,null,null,null,null,null,null,null,null,null,null,null,null,null,"粉塵等の飛散防止",false,"",""]
[null,null,null,null,null,null,null,null,null,null,null,null,null,null,null,null,"早期強度発現性（即効性）",false,"",""]
[null,null,null,null,null,null,null,null,null,null,null,null,null,null,null,null,"改良材由来の六価クロム等の溶出防止",false,"",""]
[null,null,null,null,null,null,null,null,null,null,null,null,null,null,null,null,"中性域での処理（固化材自体が中性）",false,"",""]
[]
[null,null,null,null,null,null,null,null,null,null,null,null,null,null,null,null,null,null,null,"土質区分",null,"汚染土壌の有無"]
[null,null,null,null,null,null,null,null,null,null,null,null,null,null,null,null,1,"セメント系固化材（一般軟弱土用）による第4種建設発生土の地盤改良",null,"第4種建設発生土",null,"どれを選択しても表示"]
[null,null,null,null,null,null,null,null,null,null,null,null,null,null,null,null,2,"セメント系固化材（一般軟弱土用）による泥土の地盤改良",null,"泥土",null,"どれを選択しても表示"]
[null,null,null,null,null,null,null,null,null,null,null,null,null,null,null,null,3,"セメント系固化材（六価クロム対応型）による特殊土の地盤改良",null,"どちらを選択しても表示"]
[null,null,null,null,null,null,null,null,null,null,null,null,null,null,null,null,4,"石灰系固化材（生石灰）による第4種建設発生土の地盤改良",null,"第4種建設発生土",null,"どれを選択しても表示"]
[null,null,null,null,null,null,null,null,null,null,null,null,null,null,null,null,5,"石灰系固化材（生石灰）による泥土の地盤改良",null,"泥土",null,"どれを選択しても表示"]
[]
[]
[]
[]
[]
[]
[]
[]
["新技術の検索"]

{"sheet":"更新履歴","index":1,"n_rows":224,"n_cols":2,"rows_kept":224,"cut":false,"hidden":false,"merged":[]}
[null,"■更新履歴"]
[null,"2020/1/31\n＜Ver1.00＞"]
[null,"・初版アップロード"]
[]
[null,"2020/2/28\n＜Ver1.01＞"]
[null,"・新規登録は無し。"]
[]
[null,"2020/3/31\n＜Ver1.02＞"]
[null,"・新規登録は無し。"]
[]
[null,"2020/4/30\n＜Ver1.03＞"]
[null,"・ＮＥＴＩＳ登録状況を確認し1技術を新規登録しました（NETIS申請情報のみ）。"]
[]
[null,"2020/5/29\n＜Ver1.04＞"]
[null,"・新規登録は無し。"]
[]
[null,"2020/6/30\n＜Ver1.05＞"]
[null,"・ＮＥＴＩＳ登録状況を確認し1技術を新規登録しました（NETIS申請情報のみ）。"]
[]
[null,"2020/7/31\n＜Ver1.06＞"]
[null,"・新規登録は無し。"]
[]
[null,"2020/7/31\n＜Ver1.07＞"]
[null,"・ＮＥＴＩＳ登録状況を確認し1技術を新規登録しました（NETIS申請情報のみ）。"]
[]
[null,"2020/8/31\n＜Ver1.08＞"]
[null,"・ＮＥＴＩＳ登録状況を確認し2技術を新規登録しました（NETIS申請情報のみ）。"]
[]
[null,"2020/9/30\n＜Ver1.09＞"]
[null,"・新規登録は無し。"]
[]
[null,"2020/10/31\n＜Ver1.10＞"]
[null,"・ＮＥＴＩＳ登録状況を確認し1技術を新規登録しました（NETIS申請情報のみ）。"]
[]
[null,"2020/11/30\n＜Ver1.11＞"]
[null,"・新規登録は無し。"]
[]
[null,"2020/12/31\n＜Ver1.12＞"]
[null,"・新規登録は無し。"]
[]
[null,"2021/1/31\n＜Ver1.13＞"]
[null,"・新規登録は無し。"]
[]
[null,"2021/2/26\n＜Ver1.14＞"]
[null,"・ＮＥＴＩＳ登録状況を確認し1技術を新規登録しました（NETIS申請情報のみ）。"]
[]
[null,"2021/3/31\n＜Ver1.15＞"]
[null,"・新規登録は無し。"]
[]
[null,"2021/4/30\n＜Ver1.16＞"]
[null,"・新規登録は無し。"]
[]
[null,"2021/5/31\n＜Ver1.17＞"]
[null,"・新規登録は無し。"]
[]
[null,"2021/6/30\n＜Ver1.18＞"]
[null,"・新規登録は無し。"]
[]
[null,"2021/7/31\n＜Ver1.19＞"]
[null,"・新規登録は無し。"]
[]
[null,"2021/8/31\n＜Ver1.20＞"]
[null,"・新規登録は無し。"]
[]
[null,"2021/9/30\n＜Ver1.21＞"]
[null,"・ＮＥＴＩＳ登録状況を確認し2技術を新規登録しました（NETIS申請情報のみ）。"]
[]
[null,"2021/10/31\n＜Ver1.22＞"]
[null,"・ＮＥＴＩＳ登録状況を確認し1技術を新規登録しました（NETIS申請情報のみ）。"]
[]
[null,"2021/11/30\n＜Ver1.23＞"]
[null,"・新規登録は無し。"]
[]
[null,"2021/12/31\n＜Ver1.24＞"]
[null,"・ＮＥＴＩＳ登録状況を確認し1技術を新規登録しました（NETIS申請情報のみ）。"]
[]
[null,"2022/1/31\n＜Ver1.25＞"]
[null,"・新規登録は無し。"]
[]
[null,"2022/2/28\n＜Ver1.26＞"]
[null,"・新規登録は無し。"]
[]
[null,"2022/3/31\n＜Ver1.27＞"]
[null,"・新規登録は無し。"]
[]
[null,"2022/4/30\n＜Ver1.28＞"]
[null,"・新規登録は無し。"]
[]
[null,"2022/5/31\n＜Ver1.29＞"]
[null,"・新規登録は無し。"]
[]
[null,"2022/6/30\n＜Ver1.30＞"]
[null,"・ＮＥＴＩＳ登録状況を確認し1技術を新規登録しました（NETIS申請情報のみ）。"]
[]
[null,"2022/7/31\n＜Ver1.31＞"]
[null,"・新規登録は無し。"]
[]
[null,"2022/8/31\n＜Ver1.32＞"]
[null,"・ＮＥＴＩＳ登録状況を確認し1技術を新規登録しました（NETIS申請情報のみ）。"]
[]
[null,"2022/9/30\n＜Ver1.33＞"]
[null,"・新規登録は無し。"]
[]
[null,"2022/10/31\n＜Ver1.34＞"]
[null,"・新規登録は無し。"]
[]
[null,"2022/11/30\n＜Ver1.35＞"]
[null,"・ＮＥＴＩＳ登録状況を確認し1技術を新規登録しました（NETIS申請情報のみ）。"]
[]
[null,"2022/12/31\n＜Ver1.36＞"]
[null,"・新規登録は無し。"]
[]
[null,"2023/1/31\n＜Ver1.37＞"]
[null,"・ＮＥＴＩＳ登録状況を確認し1技術を新規登録しました（NETIS申請情報のみ）。"]
[]
[null,"2023/2/28\n＜Ver1.38＞"]
[null,"・新規登録は無し。"]
[]
[null,"2023/3/31\n＜Ver1.39＞"]
[null,"・新規登録は無し。"]
[]
[null,"2023/4/30\n＜Ver1.40＞"]
[null,"・新規登録は無し。"]
[]
[null,"2023/5/31\n＜Ver1.41＞"]
[null,"・ＮＥＴＩＳ登録状況を確認し1技術を新規登録しました（NETIS申請情報のみ）。"]
[]
[null,"2023/6/30\n＜Ver1.42＞"]
[null,"・新規登録は無し。"]
[]
[null,"2023/7/31\n＜Ver1.43＞"]
[null,"・ＮＥＴＩＳ登録状況を確認し1技術を新規登録しました（NETIS申請情報のみ）。"]
[]
[null,"2023/8/31\n＜Ver1.44＞"]
[null,"・新規登録は無し。"]
[]
[null,"2023/9/30\n＜Ver1.45＞"]
[null,"・新規登録は無し。"]
[]
[null,"2023/10/31\n＜Ver1.46＞"]
[null,"・新規登録は無し。"]
[]
[null,"2023/11/30\n＜Ver1.47＞"]
[null,"・新規登録は無し。"]
[]
[null,"2023/12/31\n＜Ver1.48＞"]
[null,"・ＮＥＴＩＳ登録状況を確認し1技術を新規登録しました（NETIS申請情報のみ）。"]
[]
[null,"2024/1/31\n＜Ver1.49＞"]
[null,"・新規登録は無し。"]
[]
[null,"2024/2/29\n＜Ver1.50＞"]
[null,"・新規登録は無し。"]
[]
[null,"2024/3/31\n＜Ver1.51＞"]
[null,"・新規登録は無し。"]
[]
[null,"2024/4/30\n＜Ver1.52＞"]
[null,"・新規登録は無し。"]
[]
[null,"2024/5/31\n＜Ver1.53＞"]
[null,"・新規登録は無し。"]
[]
[null,"2024/6/30\n＜Ver1.54＞"]
[null,"・新規登録は無し。"]
[]
[null,"2024/7/31\n＜Ver1.55＞"]
[null,"・ＮＥＴＩＳ登録状況を確認し1技術を新規登録しました（NETIS申請情報のみ）。"]
[]
[null,"2024/8/31\n＜Ver1.56＞"]
[null,"・ＮＥＴＩＳ登録状況を確認し1技術を新規登録しました（NETIS申請情報のみ）。"]
[]
[null,"2024/9/30\n＜Ver1.57＞"]
[null,"・新規登録は無し。"]
[]
[null,"2024/10/31\n＜Ver1.58＞"]
[null,"・新規登録は無し。"]
[]
[null,"2024/11/30\n＜Ver1.59＞"]
[null,"・ＮＥＴＩＳ登録状況を確認し1技術を新規登録しました（NETIS申請情報のみ）。"]
[null,"・施工費用および施工日数等を令和6年度の情報に更新"]
[]
[null,"2024/12/31\n＜Ver1.60＞"]
[null,"・ＮＥＴＩＳ登録状況を確認し1技術を新規登録しました（NETIS申請情報のみ）。"]
[]
[null,"2025/1/31\n＜Ver1.61＞"]
[null,"・新規登録は無し。"]
[]
[null,"2025/2/28\n＜Ver1.62＞"]
[null,"・新規登録は無し。"]
[]
[null,"2025/3/31\n＜Ver1.63＞"]
[null,"・新規登録は無し。"]
[]
[null,"2025/4/30\n＜Ver1.64＞"]
[null,"・新規登録は無し。"]
[]
[null,"2025/5/31\n＜Ver1.65＞"]
[null,"・新規登録は無し。"]
[]
[null,"2025/6/30\n＜Ver1.66＞"]
[null,"・新規登録は無し。"]
[]
[null,"2025/7/31\n＜Ver1.67＞"]
[null,"・新規登録は無し。"]
[]
[null,"2025/8/31\n＜Ver1.68＞"]
[null,"・新規登録は無し。"]
[]
[null,"2025/9/30\n＜Ver1.69＞"]
[null,"・新規登録は無し。"]
[]
[null,"2025/10/31\n＜Ver1.70＞"]
[null,"・NETIS登録状況を確認し1技術を新規登録しました（NETIS申請情報のみ）。"]
[]
[null,"2025/11/30\n＜Ver1.71＞"]
[null,"・NETIS登録状況を確認し1技術を新規登録しました（NETIS申請情報のみ）。"]
[null,"・施工費用および施工日数等を令和7年度の情報に更新"]
[]
[null,"2025/12/31\n＜Ver1.72＞"]
[null,"・新規登録は無し。"]
[]
[null,"2026/1/31\n＜Ver1.73＞"]
[null,"・新規登録は無し。"]

{"sheet":"詳細版","index":2,"n_rows":77,"n_cols":5,"rows_kept":77,"cut":false,"hidden":false,"merged":[[43,1,52,1],[57,1,62,1],[63,0,63,1],[64,0,75,1],[21,2,27,3],[64,2,75,2],[2,175,2,176],[2,177,2,178],[2,179,2,180],[2,181,2,182],[2,183,2,184],[2,141,2,142],[2,143,2,144],[2,145,2,146],[2,147,2,148],[2,149,2,150],[2,151,2,152],[2,153,2,154],[2,155,2,156],[2,157,2,158],[2,159,2,160],[2,161,2,162],[2,163,2,164],[2,165,2,166],[2,167,2,168],[2,169,2,170],[2,171,2,172],[2,173,2,174],[2,107,2,108],[2,109,2,110],[2,111,2,112],[2,113,2,114],[2,115,2,116],[2,117,2,118],[2,119,2,120],[2,121,2,122],[2,123,2,124],[2,125,2,126],[2,127,2,128],[2,129,2,130],[2,131,2,132],[2,133,2,134],[2,135,2,136],[2,137,2,138],[2,139,2,140],[2,73,2,74],[2,75,2,76],[2,77,2,78],[2,79,2,80],[2,81,2,82],[2,83,2,84],[2,85,2,86],[2,87,2,88],[2,89,2,90],[2,91,2,92],[2,93,2,94],[2,95,2,96],[2,97,2,98],[2,99,2,100],[2,101,2,102],[2,103,2,104],[2,105,2,106],[2,39,2,40],[2,41,2,42],[2,43,2,44],[2,45,2,46],[2,47,2,48],[2,49,2,50],[2,51,2,52],[2,53,2,54],[2,55,2,56],[2,57,2,58],[2,59,2,60],[2,61,2,62],[2,63,2,64],[2,65,2,66],[2,67,2,68],[2,69,2,70],[2,71,2,72],[2,5,2,6],[2,7,2,8],[2,9,2,10],[2,11,2,12],[2,13,2,14],[2,15,2,16],[2,17,2,18],[2,19,2,20],[2,21,2,22],[2,23,2,24],[2,25,2,26],[2,27,2,28],[2,29,2,30],[2,31,2,32],[2,33,2,34],[2,35,2,36],[2,37,2,38],[75,5,75,6],[68,5,68,6],[69,5,69,6],[70,5,70,6],[71,5,71,6],[72,5,72,6],[63,5,63,6],[64,5,64,6],[65,5,65,6],[66,5,66,6],[67,5,67,6],[58,5,58,6],[59,5,59,6],[60,5,60,6],[61,5,61,6],[62,5,62,6],[53,5,53,6],[54,5,54,6],[57,5,57,6],[49,5,49,6],[50,5,50,6],[51,5,51,6],[52,5,52,6],[43,5,43,6],[44,5,44,6],[45,5,45,6],[46,5,46,6],[47,5,47,6],[11,7,11,8],[11,9,11,10],[11,11,11,12],[11,13,11,14],[73,5,73,6],[74,5,74,6],[63,2,63,4],[64,3,72,3],[43,2,52,2],[43,3,45,3],[25,7,25,8],[25,9,25,10],[25,11,25,12],[25,13,25,14],[15,7,15,8],[15,9,15,10],[15,11,15,12],[15,13,15,14],[19,7,19,8],[19,9,19,10],[19,11,19,12],[19,13,19,14],[20,2,20,3],[19,2,19,4],[75,3,75,4],[74,3,74,4],[73,3,73,4],[53,3,53,4],[54,3,54,4],[56,2,56,4],[55,2,55,4],[19,5,19,6],[20,5,20,6],[21,5,21,6],[22,5,22,6],[23,5,23,6],[20,0,27,0],[20,1,27,1],[29,5,29,6],[39,5,39,6],[40,5,40,6],[41,5,41,6],[42,5,42,6],[24,5,24,6],[25,5,25,6],[26,5,26,6],[27,5,27,6],[28,5,28,6],[55,5,55,6],[56,5,56,6],[32,3,32,4],[48,5,48,6],[46,3,46,4],[47,3,47,4],[48,3,52,3],[4,1,4,4],[5,2,5,4],[6,2,6,4],[7,2,7,4],[8,2,8,4],[9,2,9,4],[10,2,10,4],[11,2,11,4],[12,1,18,1],[12,2,18,2],[12,3,12,4],[13,3,13,4],[14,3,14,4],[15,3,15,4],[16,3,16,4],[17,3,17,4],[18,3,18,4],[29,0,56,0],[32,2,35,2],[33,3,35,3],[36,2,36,4],[37,1,42,1],[53,1,54,1],[53,2,54,2],[11,15,11,16],[11,17,11,18],[11,19,11,20],[1,5,1,6],[1,7,1,8],[1,9,1,10],[1,11,1,12],[1,13,1,14],[1,15,1,16],[1,17,1,18],[1,19,1,20],[28,0,28,4],[29,2,29,4],[30,1,30,4],[31,2,31,4],[4,5,4,6],[5,5,5,6],[6,5,6,6],[7,5,7,6],[8,5,8,6],[3,0,3,4],[4,0,19,0],[9,5,9,6],[10,5,10,6],[11,5,11,6],[12,5,12,6],[13,5,13,6],[14,5,14,6],[15,5,15,6],[16,5,16,6],[17,5,17,6],[18,5,18,6],[1,39,1,40],[1,41,1,42],[1,43,1,44],[1,45,1,46],[7,39,7,40],[8,7,8,8],[8,9,8,10],[8,11,8,12],[8,13,8,14],[8,15,8,16],[8,17,8,18],[8,19,8,20],[8,21,8,22],[8,23,8,24],[8,25,8,26],[8,27,8,28],[8,29,8,30],[8,31,8,32],[8,33,8,34],[4,39,4,40],[5,7,5,8],[5,9,5,10],[5,11,5,12],[5,13,5,14],[5,15,5,16],[1,47,1,48],[1,49,1,50],[1,51,1,52],[1,53,1,54],[1,55,1,56],[1,21,1,22],[1,23,1,24],[1,25,1,26],[1,27,1,28],[1,29,1,30],[1,31,1,32],[1,33,1,34],[1,35,1,36],[1,37,1,38],[1,101,1,102],[1,103,1,104],[1,105,1,106],[1,107,1,108],[1,109,1,110],[1,75,1,76],[1,77,1,78],[1,79,1,80],[1,81,1,82],[1,83,1,84],[1,85,1,86],[1,87,1,88],[1,89,1,90],[1,91,1,92],[1,57,1,58],[1,59,1,60],[1,61,1,62],[1,63,1,64],[1,65,1,66],[1,67,1,68],[1,69,1,70],[1,71,1,72],[1,73,1,74],[20,43,20,44],[1,147,1,148],[1,149,1,150],[1,151,1,152],[1,153,1,154],[1,155,1,156],[1,157,1,158],[1,159,1,160],[1,161,1,162],[1,163,1,164],[1,129,1,130],[1,131,1,132],[1,133,1,134],[1,135,1,136],[1,137,1,138],[1,139,1,140],[1,141,1,142],[1,143,1,144],[1,145,1,146],[1,111,1,112],[1,113,1,114],[1,115,1,116],[1,117,1,118],[1,119,1,120],[1,121,1,122],[1,123,1,124],[1,125,1,126],[1,127,1,128],[1,93,1,94],[1,95,1,96],[1,97,1,98],[1,99,1,100],[20,45,20,46],[20,47,20,48],[20,49,20,50],[20,51,20,52],[20,53,20,54],[20,55,20,56],[20,57,20,58],[20,59,20,60],[20,61,20,62],[1,165,1,166],[1,167,1,168],[1,169,1,170],[1,171,1,172],[1,173,1,174],[20,7,20,8],[20,9,20,10],[20,11,20,12],[20,13,20,14],[20,15,20,16],[20,17,20,18],[20,19,20,20],[20,21,20,22],[20,23,20,24],[20,25,20,26],[20,27,20,28],[20,29,20,30],[20,31,20,32],[20,33,20,34],[20,35,20,36],[20,37,20,38],[20,39,20,40],[20,41,20,42],[20,107,20,108],[20,109,20,110],[20,111,20,112],[20,113,20,114],[20,115,20,116],[20,81,20,82],[20,83,20,84],[20,85,20,86],[20,87,20,88],[20,89,20,90],[20,91,20,92],[20,93,20,94],[20,95,20,96],[20,97,20,98],[20,63,20,64],[20,65,20,66],[20,67,20,68],[20,69,20,70],[20,71,20,72],[20,73,20,74],[20,75,20,76],[20,77,20,78],[20,79,20,80],[21,49,21,50],[20,153,20,154],[20,155,20,156],[20,157,20,158],[20,159,20,160],[20,161,20,162],[20,163,20,164],[20,165,20,166],[20,167,20,168],[20,169,20,170],[20,135,20,136],[20,137,20,138],[20,139,20,140],[20,141,20,142],[20,143,20,144],[20,145,20,146],[20,147,20,148],[20,149,20,150],[20,151,20,152],[20,117,20,118],[20,119,20,120],[20,121,20,122],[20,123,20,124],[20,125,20,126],[20,127,20,128],[20,129,20,130],[20,131,20,132],[20,133,20,134],[20,99,20,100],[20,101,20,102],[20,103,20,104],[20,105,20,106],[21,51,21,52],[21,53,21,54],[21,55,21,56],[21,57,21,58],[21,59,21,60],[21,61,21,62],[21,63,21,64],[21,65,21,66],[21,67,21,68],[20,171,20,172],[20,173,20,174],[21,7,21,8],[21,9,21,10],[21,11,21,12],[21,13,21,14],[21,15,21,16],[21,17,21,18],[21,19,21,20],[21,21,21,22],[21,23,21,24],[21,25,21,26],[21,27,21,28],[21,29,21,30],[21,31,21,32],[21,33,21,34],[21,35,21,36],[21,37,21,38],[21,39,21,40],[21,41,21,42],[21,43,21,44],[21,45,21,46],[21,47,21,48],[21,87,21,88],[21,89,21,90],[21,91,21,92],[21,93,21,94],[21,95,21,96],[21,97,21,98],[21,99,21,100],[21,101,21,102],[21,103,21,104],[21,69,21,70],[21,71,21,72],[21,73,21,74],[21,75,21,76],[21,77,21,78],[21,79,21,80],[21,81,21,82],[21,83,21,84],[21,85,21,86],[21,157,21,158],[21,123,21,124],[21,125,21,126],[21,127,21,128],[21,129,21,130],[21,131,21,132],[21,133,21,134],[21,135,21,136],[21,137,21,138],[21,139,21,140],[21,105,21,106],[21,107,21,108],[21,109,21,110],[21,111,21,112],[21,113,21,114],[21,115,21,116],[21,117,21,118],[21,119,21,120],[21,121,21,122],[21,159,21,160],[21,161,21,162],[21,163,21,164],[21,165,21,166],[21,167,21,168],[21,169,21,170],[21,171,21,172],[21,173,21,174],[22,7,22,8],[22,9,22,10],[22,11,22,12],[22,13,22,14],[22,15,22,16],[22,17,22,18],[22,19,22,20],[22,21,22,22],[22,23,22,24],[22,25,22,26],[22,27,22,28],[22,29,22,30],[22,31,22,32],[22,33,22,34],[22,35,22,36],[22,37,22,38],[21,141,21,142],[21,143,21,144],[21,145,21,146],[21,147,21,148],[21,149,21,150],[21,151,21,152],[21,153,21,154],[21,155,21,156],[22,57,22,58],[22,59,22,60],[22,61,22,62],[22,63,22,64],[22,65,22,66],[22,67,22,68],[22,69,22,70],[22,71,22,72],[22,73,22,74],[22,39,22,40],[22,41,22,42],[22,43,22,44],[22,45,22,46],[22,47,22,48],[22,49,22,50],[22,51,22,52],[22,53,22,54],[22,55,22,56],[22,93,22,94],[22,95,22,96],[22,97,22,98],[22,99,22,100],[22,101,22,102],[22,103,22,104],[22,105,22,106],[22,107,22,108],[22,109,22,110],[22,75,22,76],[22,77,22,78],[22,79,22,80],[22,81,22,82],[22,83,22,84],[22,85,22,86],[22,87,22,88],[22,89,22,90],[22,91,22,92],[22,163,22,164],[22,129,22,130],[22,131,22,132],[22,133,22,134],[22,135,22,136],[22,137,22,138],[22,139,22,140],[22,141,22,142],[22,143,22,144],[22,145,22,146],[22,111,22,112],[22,113,22,114],[22,115,22,116],[22,117,22,118],[22,119,22,120],[22,121,22,122],[22,123,22,124],[22,125,22,126],[22,127,22,128],[22,165,22,166],[22,167,22,168],[22,169,22,170],[22,171,22,172],[22,173,22,174],[23,7,23,8],[23,9,23,10],[23,11,23,12],[23,13,23,14],[23,15,23,16],[23,17,23,18],[23,19,23,20],[23,21,23,22],[23,23,23,24],[23,25,23,26],[23,27,23,28],[23,29,23,30],[23,31,23,32],[23,33,23,34],[23,35,23,36],[23,37,23,38],[23,39,23,40],[23,41,23,42],[23,43,23,44],[22,147,22,148],[22,149,22,150],[22,151,22,152],[22,153,22,154],[22,155,22,156],[22,157,22,158],[22,159,22,160],[22,161,22,162],[23,63,23,64],[23,65,23,66],[23,67,23,68],[23,69,23,70],[23,71,23,72],[23,73,23,74],[23,75,23,76],[23,77,23,78],[23,79,23,80],[23,45,23,46],[23,47,23,48],[23,49,23,50],[23,51,23,52],[23,53,23,54],[23,55,23,56],[23,57,23,58],[23,59,23,60],[23,61,23,62],[23,99,23,100],[23,101,23,102],[23,103,23,104],[23,105,23,106],[23,107,23,108],[23,109,23,110],[23,111,23,112],[23,113,23,114],[23,115,23,116],[23,81,23,82],[23,83,23,84],[23,85,23,86],[23,87,23,88],[23,89,23,90],[23,91,23,92],[23,93,23,94],[23,95,23,96],[23,97,23,98],[23,169,23,170],[23,135,23,136],[23,137,23,138],[23,139,23,140],[23,141,23,142],[23,143,23,144],[23,145,23,146],[23,147,23,148],[23,149,23,150],[23,151,23,152],[23,117,23,118],[23,119,23,120],[23,121,23,122],[23,123,23,124],[23,125,23,126],[23,127,23,128],[23,129,23,130],[23,131,23,132],[23,133,23,134],[23,171,23,172],[23,173,23,174],[24,7,24,8],[24,9,24,10],[24,11,24,12],[24,13,24,14],[24,15,24,16],[24,17,24,18],[24,19,24,20],[24,21,24,22],[24,23,24,24],[24,25,24,26],[24,27,24,28],[24,29,24,30],[24,31,24,32],[24,33,24,34],[24,35,24,36],[24,37,24,38],[24,39,24,40],[24,41,24,42],[24,43,24,44],[24,45,24,46],[24,47,24,48],[24,49,24,50],[23,153,23,154],[23,155,23,156],[23,157,23,158],[23,159,23,160],[23,161,23,162],[23,163,23,164],[23,165,23,166],[23,167,23,168],[24,95,24,96],[24,97,24,98],[24,99,24,100],[24,101,24,102],[24,103,24,104],[24,69,24,70],[24,71,24,72],[24,73,24,74],[24,75,24,76],[24,77,24,78],[24,79,24,80],[24,81,24,82],[24,83,24,84],[24,85,24,86],[24,51,24,52],[24,53,24,54],[24,55,24,56],[24,57,24,58],[24,59,24,60],[24,61,24,62],[24,63,24,64],[24,65,24,66],[24,67,24,68],[25,15,25,16],[25,17,25,18],[25,19,25,20],[25,21,25,22],[25,23,25,24],[25,25,25,26],[25,27,25,28],[25,29,25,30],[25,31,25,32],[25,33,25,34],[25,35,25,36],[25,37,25,38],[24,141,24,142],[24,123,24,124],[24,125,24,126],[24,127,24,128],[24,129,24,130],[24,131,24,132],[24,133,24,134],[24,135,24,136],[24,137,24,138],[24,139,24,140],[24,105,24,106],[24,107,24,108],[24,109,24,110],[24,111,24,112],[24,113,24,114],[24,115,24,116],[25,39,25,40],[25,41,25,42],[25,43,25,44],[25,45,25,46],[25,47,25,48],[25,49,25,50],[25,51,25,52],[25,53,25,54],[25,55,25,56],[24,159,24,160],[24,161,24,162],[24,163,24,164],[24,165,24,166],[24,167,24,168],[24,169,24,170],[24,171,24,172],[24,173,24,174],[24,143,24,144],[24,145,24,146],[24,147,24,148],[24,149,24,150],[24,151,24,152],[24,153,24,154],[24,155,24,156],[24,157,24,158],[24,117,24,118],[24,119,24,120],[24,121,24,122],[24,87,24,88],[24,89,24,90],[24,91,24,92],[24,93,24,94],[25,101,25,102],[25,103,25,104],[25,105,25,106],[25,107,25,108],[25,93,25,94],[25,95,25,96],[25,97,25,98],[25,99,25,100],[25,109,25,110],[25,75,25,76],[25,77,25,78],[25,79,25,80],[25,81,25,82],[25,83,25,84],[25,85,25,86],[25,87,25,88],[25,89,25,90],[25,91,25,92],[25,57,25,58],[25,59,25,60],[25,61,25,62],[25,63,25,64],[25,65,25,66],[25,67,25,68],[25,69,25,70],[25,71,25,72],[25,73,25,74],[25,163,25,164],[25,129,25,130],[25,131,25,132],[25,133,25,134],[25,135,25,136],[25,137,25,138],[25,139,25,140],[25,141,25,142],[25,143,25,144],[25,145,25,146],[25,111,25,112],[25,113,25,114],[25,115,25,116],[25,117,25,118],[25,119,25,120],[25,121,25,122],[25,123,25,124],[25,125,25,126],[25,127,25,128],[25,165,25,166],[25,167,25,168],[25,169,25,170],[25,171,25,172],[25,173,25,174],[26,7,26,8],[26,9,26,10],[26,11,26,12],[26,13,26,14],[26,15,26,16],[26,17,26,18],[26,19,26,20],[26,21,26,22],[26,23,26,24],[26,25,26,26],[26,27,26,28],[26,29,26,30],[26,31,26,32],[26,33,26,34],[26,35,26,36],[26,37,26,38],[26,39,26,40],[26,41,26,42],[26,43,26,44],[25,147,25,148],[25,149,25,150],[25,151,25,152],[25,153,25,154],[25,155,25,156],[25,157,25,158],[25,159,25,160],[25,161,25,162],[26,63,26,64],[26,65,26,66],[26,67,26,68],[26,69,26,70],[26,71,26,72],[26,73,26,74],[26,75,26,76],[26,77,26,78],[26,79,26,80],[26,45,26,46],[26,47,26,48],[26,49,26,50],[26,51,26,52],[26,53,26,54],[26,55,26,56],[26,57,26,58],[26,59,26,60],[26,61,26,62],[26,99,26,100],[26,101,26,102],[26,103,26,104],[26,105,26,106],[26,107,26,108],[26,109,26,110],[26,111,26,112],[26,113,26,114],[26,115,26,116],[26,81,26,82],[26,83,26,84],[26,85,26,86],[26,87,26,88],[26,89,26,90],[26,91,26,92],[26,93,26,94],[26,95,26,96],[26,97,26,98],[26,169,26,170],[26,135,26,136],[26,137,26,138],[26,139,26,140],[26,141,26,142],[26,143,26,144],[26,145,26,146],[26,147,26,148],[26,149,26,150],[26,151,26,152],[26,117,26,118],[26,119,26,120],[26,121,26,122],[26,123,26,124],[26,125,26,126],[26,127,26,128],[26,129,26,130],[26,131,26,132],[26,133,26,134],[26,171,26,172],[26,173,26,174],[27,7,27,8],[27,9,27,10],[27,11,27,12],[27,13,27,14],[27,15,27,16],[27,17,27,18],[27,19,27,20],[27,21,27,22],[27,23,27,24],[27,25,27,26],[27,27,27,28],[27,29,27,30],[27,31,27,32],[27,33,27,34],[27,35,27,36],[27,37,27,38],[27,39,27,40],[27,41,27,42],[27,43,27,44],[27,45,27,46],[27,47,27,48],[27,49,27,50],[26,153,26,154],[26,155,26,156],[26,157,26,158],[26,159,26,160],[26,161,26,162],[26,163,26,164],[26,165,26,166],[26,167,26,168],[27,95,27,96],[27,97,27,98],[27,99,27,100],[27,101,27,102],[27,103,27,104],[27,69,27,70],[27,71,27,72],[27,73,27,74],[27,75,27,76],[27,77,27,78],[27,79,27,80],[27,81,27,82],[27,83,27,84],[27,85,27,86],[27,51,27,52],[27,53,27,54],[27,55,27,56],[27,57,27,58],[27,59,27,60],[27,61,27,62],[27,63,27,64],[27,65,27,66],[27,67,27,68],[28,7,28,8],[28,9,28,10],[28,11,28,12],[28,13,28,14],[28,15,28,16],[28,17,28,18],[28,19,28,20],[28,21,28,22],[28,23,28,24],[28,25,28,26],[28,27,28,28],[28,29,28,30],[28,31,28,32],[28,33,28,34],[28,35,28,36],[28,37,28,38],[27,141,27,142],[27,123,27,124],[27,125,27,126],[27,127,27,128],[27,129,27,130],[27,131,27,132],[27,133,27,134],[27,135,27,136],[27,137,27,138],[27,139,27,140],[27,105,27,106],[27,107,27,108],[27,109,27,110],[27,111,27,112],[27,113,27,114],[27,115,27,116],[28,39,28,40],[28,41,28,42],[28,43,28,44],[28,45,28,46],[28,47,28,48],[28,49,28,50]],"merged_total":8704,"flags":["merged_cut"]}
[]
["残土処理工"]
[{"$f":"検索!S4","v":"工法比較表検索結果[30技術93仕様の内、6技術9仕様]"}]
[]
["ＮＥＴＩＳ情報","技術名"]
[null,"①","ＮＥＴＩＳ登録番号"]
[null,"②","技術の位置付け（有用な新技術）"]
[null,"③","開発者（本社が存在する都道府県）"]
[null,"④","開発者における九州地方との関連性（九州登録九州本社：◎、九州外登録九州本社：○、九州に共同開発者有り：△、その他：－）"]
[null,"⑤","九州地方への機能性　（九州地方に支店等を有する場合：○、その他：－）"]
[null,"⑥","技術概要"]
[null,"⑦","概要図"]
[null,"⑧","施工条件・適用条件等","種類"]
[null,null,null,"施工方式"]
[null,null,null,"対象土質"]
[null,null,null,"対象汚染物質"]
[null,null,null,"適用不可範囲"]
[null,null,null,"処理後の適用先"]
[null,null,null,"現場条件"]
[null,"⑨","比較する従来技術"]
["評価情報 ","⑩","評価基準",null,"項目"]
[null,null,"A：従来技術より極めて優れる\nB：従来技術より優れる\nC：従来技術と同等\nD：従来技術より劣る",null,"経済性"]
[null,null,null,null,"工程"]
[null,null,null,null,"品質・出来形"]
[null,null,null,null,"安全性"]
[null,null,null,null,"施工性"]
[null,null,null,null,"環境"]
[null,null,null,null,"総合評価"]
["統一した従来技術"]
["補完資料等からの情報","⑪","工法の特徴"]
[]
[null,"⑫","固化材等"]
[null,"⑬","概算施工費用","共通仮設費用（組立輸送解体費用）"]
[null,"⑭",null,"施工費","-"]
[null,null,null,null,"-"]
[null,null,null,null,"施工費"]
[null,"⑮","概算施工日数"]
[null,"⑯","統一した従来技術との比較\n\n判定の凡例 \n  ○：従来技術より優れる\n  △：従来技術と同程度\n  －：上記以外",null,"経済性"]
[null,null,null,null,"工程"]
[null,null,null,null,"品質・出来形"]
[null,null,null,null,"安全性"]
[null,null,null,null,"施工性"]
[null,null,null,null,"環境"]
[null,"⑰","九州のフィールドへの適応性","施工実績\n（過去3年）","国土交通省：活用効果調査表数"]
[null,null,null,null,"地方自治体：開発者ヒアリング"]
[null,null,null,null,"その他：開発者ヒアリング"]
[null,null,null,"九州管内での活用市町村（直轄工事活用分のみ）"]
[null,null,null,"改良長、土質条件における九州地方整備局管内での施工実績"]
[null,null,null,"九州の特殊土壌の施工実績例","シラス"]
[null,null,null,null,"有明粘土"]
[null,null,null,null,"黒ボク・赤ボク等"]
[null,null,null,null,"そうら層（泥炭）"]
[null,null,null,null,"その他（島原焼土等）"]
[null,"⑱","特許等","特許"]
[null,null,null,"建設技術審査証明"]
[null,"⑲","生産供給体制（機械保有台数等）"]
[null,"⑳","備考"]
["発注者ニーズへの適応性","㉑","統一した従来技術との比較\n\n判定の凡例 \n  ○：従来技術より優れる\n  △：従来技術と同程度\n  －：上記以外",null,"騒音・振動の低減"]
[null,null,null,null,"粉塵等の飛散防止"]
[null,null,null,null,"省人化・省力化"]
[null,null,null,null,"早期強度発現性（即効性）"]
[null,null,null,null,"改良材由来の六価クロム等の溶出防止"]
[null,null,null,null,"中性域での処理（固化材自体が中性）"]
["㉒",null,"総括"]
["㉓",null,"○：適用可能　空欄：適用外","第二種特定有害物質（重金属類）","カドミウム"]
[null,null,null,null,"六価クロム"]
[null,null,null,null,"シアン"]
[null,null,null,null,"水銀"]
[null,null,null,null,"セレン"]
[null,null,null,null,"鉛"]
[null,null,null,null,"ヒ素"]
[null,null,null,null,"フッ素"]
[null,null,null,null,"ホウ素"]
[null,null,null,"揮発性有機化合物"]
[null,null,null,"農薬類"]
[null,null,null,"ダイオキシン類"]
["注1）施工費用：2025年4月福岡県久留米市　注2）／：補完調査未実施"]

{"sheet":"簡易版","index":3,"n_rows":6,"n_cols":31,"rows_kept":6,"cut":false,"hidden":false,"merged":[[4,8,5,9],[4,10,5,11],[4,12,4,17],[4,18,4,29],[3,3,3,30],[4,3,5,3],[4,4,5,4],[4,5,5,5],[4,6,5,6],[4,7,5,7],[4,30,5,30]]}
[null,null,null,"残土処理工"]
[null,null,null,{"$f":"検索!S4","v":"工法比較表検索結果[30技術93仕様の内、6技術9仕様]"}]
[]
[]
[null,null,null,"番号","技術名","NETIS番号","開発者","仕様","概算施工費用",null,"概算施工日数",null,"発注者ニーズへの適応性",null,null,null,null,null,"重金属類不溶化への適用性",null,null,null,null,null,null,null,null,null,null,null,"概要"]
[null,null,null,null,null,null,null,null,null,null,null,null,"騒音・振動の低減","省人化・省力化","粉塵等の飛散防止","早期強度発現性\n（即効性）","改良材由来の六価クロム等の溶出防止","中性域での処理\n（固化材自体が中性）","カドミウム","六価クロム","シアン","水銀","セレン","鉛","ヒ素","フッ素","ホウ素","揮発性\n有機化合物","農薬類","ダイオキシン類"]

{"sheet":"DB","index":4,"n_rows":85,"n_cols":193,"rows_kept":85,"cut":false,"hidden":false,"merged":[[56,135,56,136],[57,135,57,136],[58,135,58,136],[59,135,59,136],[60,135,60,136],[61,135,61,136],[62,135,62,136],[56,137,56,138],[57,137,57,138],[58,137,58,138],[59,137,59,138],[60,137,60,138],[61,137,61,138],[62,137,62,138],[56,139,56,140],[57,139,57,140],[58,139,58,140],[59,139,59,140],[60,139,60,140],[61,139,61,140],[62,139,62,140],[81,179,81,180],[82,179,82,180],[83,179,83,180],[84,179,84,180],[63,179,63,180],[64,179,64,180],[65,179,65,180],[66,179,66,180],[67,179,67,180],[68,179,68,180],[69,179,69,180],[70,179,70,180],[71,179,71,180],[72,179,72,180],[73,179,73,180],[74,179,74,180],[75,179,75,180],[77,179,77,180],[78,179,78,180],[79,179,79,180],[80,179,80,180],[46,179,46,180],[47,179,47,180],[48,179,48,180],[49,179,49,180],[50,179,50,180],[51,179,51,180],[52,179,52,180],[53,179,53,180],[54,179,54,180],[55,179,55,180],[56,179,56,180],[57,179,57,180],[58,179,58,180],[59,179,59,180],[60,179,60,180],[61,179,61,180],[62,179,62,180],[20,179,20,180],[21,179,21,180],[22,179,22,180],[23,179,23,180],[24,179,24,180],[25,179,25,180],[26,179,26,180],[27,179,27,180],[28,179,28,180],[29,179,29,180],[39,179,39,180],[40,179,40,180],[41,179,41,180],[42,179,42,180],[43,179,43,180],[44,179,44,180],[45,179,45,180],[56,159,56,160],[57,159,57,160],[58,159,58,160],[59,159,59,160],[60,159,60,160],[61,159,61,160],[62,159,62,160],[56,161,56,162],[57,161,57,162],[58,161,58,162],[59,161,59,162],[60,161,60,162],[61,161,61,162],[62,161,62,162],[2,179,2,180],[3,179,3,180],[4,179,4,180],[5,179,5,180],[6,179,6,180],[7,179,7,180],[8,179,8,180],[9,179,9,180],[10,179,10,180],[11,179,11,180],[12,179,12,180],[13,179,13,180],[14,179,14,180],[15,179,15,180],[16,179,16,180],[17,179,17,180],[18,179,18,180],[19,179,19,180],[56,153,56,154],[57,153,57,154],[58,153,58,154],[59,153,59,154],[60,153,60,154],[61,153,61,154],[62,153,62,154],[56,155,56,156],[57,155,57,156],[58,155,58,156],[59,155,59,156],[60,155,60,156],[61,155,61,156],[62,155,62,156],[56,157,56,158],[57,157,57,158],[58,157,58,158],[59,157,59,158],[60,157,60,158],[61,157,61,158],[62,157,62,158],[56,147,56,148],[57,147,57,148],[58,147,58,148],[59,147,59,148],[60,147,60,148],[61,147,61,148],[62,147,62,148],[56,149,56,150],[57,149,57,150],[58,149,58,150],[59,149,59,150],[60,149,60,150],[61,149,61,150],[62,149,62,150],[56,151,56,152],[57,151,57,152],[58,151,58,152],[59,151,59,152],[60,151,60,152],[61,151,61,152],[62,151,62,152],[56,141,56,142],[57,141,57,142],[58,141,58,142],[59,141,59,142],[60,141,60,142],[61,141,61,142],[62,141,62,142],[56,143,56,144],[57,143,57,144],[58,143,58,144],[59,143,59,144],[60,143,60,144],[61,143,61,144],[62,143,62,144],[56,145,56,146],[57,145,57,146],[58,145,58,146],[59,145,59,146],[60,145,60,146],[61,145,61,146],[62,145,62,146],[54,135,54,136],[54,137,54,138],[54,139,54,140],[54,141,54,142],[54,143,54,144],[54,145,54,146],[54,147,54,148],[54,149,54,150],[54,151,54,152],[54,153,54,154],[54,155,54,156],[54,157,54,158],[54,159,54,160],[54,161,54,162],[55,135,55,136],[55,137,55,138],[55,139,55,140],[55,141,55,142],[55,143,55,144],[55,145,55,146],[55,147,55,148],[55,149,55,150],[55,151,55,152],[55,153,55,154],[55,155,55,156],[55,157,55,158],[55,159,55,160],[55,161,55,162],[52,135,52,136],[52,137,52,138],[52,139,52,140],[52,141,52,142],[52,143,52,144],[52,145,52,146],[52,147,52,148],[52,149,52,150],[52,151,52,152],[52,153,52,154],[52,155,52,156],[52,157,52,158],[52,159,52,160],[52,161,52,162],[53,135,53,136],[53,137,53,138],[53,139,53,140],[53,141,53,142],[53,143,53,144],[53,145,53,146],[53,147,53,148],[53,149,53,150],[53,151,53,152],[53,153,53,154],[53,155,53,156],[53,157,53,158],[53,159,53,160],[53,161,53,162],[50,135,50,136],[50,137,50,138],[50,139,50,140],[50,141,50,142],[50,143,50,144],[50,145,50,146],[50,147,50,148],[50,149,50,150],[50,151,50,152],[50,153,50,154],[50,155,50,156],[50,157,50,158],[50,159,50,160],[50,161,50,162],[51,135,51,136],[51,137,51,138],[51,139,51,140],[51,141,51,142],[51,143,51,144],[51,145,51,146],[51,147,51,148],[51,149,51,150],[51,151,51,152],[51,153,51,154],[51,155,51,156],[51,157,51,158],[51,159,51,160],[51,161,51,162],[48,135,48,136],[48,137,48,138],[48,139,48,140],[48,141,48,142],[48,143,48,144],[48,145,48,146],[48,147,48,148],[48,149,48,150],[48,151,48,152],[48,153,48,154],[48,155,48,156],[48,157,48,158],[48,159,48,160],[48,161,48,162],[49,135,49,136],[49,137,49,138],[49,139,49,140],[49,141,49,142],[49,143,49,144],[49,145,49,146],[49,147,49,148],[49,149,49,150],[49,151,49,152],[49,153,49,154],[49,155,49,156],[49,157,49,158],[49,159,49,160],[49,161,49,162],[45,149,45,150],[45,151,45,152],[45,153,45,154],[45,155,45,156],[45,157,45,158],[45,159,45,160],[45,161,45,162],[46,135,46,136],[46,137,46,138],[46,139,46,140],[46,141,46,142],[46,143,46,144],[46,145,46,146],[46,147,46,148],[46,149,46,150],[46,151,46,152],[46,153,46,154],[46,155,46,156],[46,157,46,158],[46,159,46,160],[46,161,46,162],[43,147,43,148],[43,149,43,150],[43,151,43,152],[43,153,43,154],[43,155,43,156],[43,157,43,158],[43,159,43,160],[43,161,43,162],[44,135,44,136],[44,137,44,138],[44,139,44,140],[44,141,44,142],[44,143,44,144],[44,145,44,146],[44,147,44,148],[44,149,44,150],[44,151,44,152],[44,153,44,154],[44,155,44,156],[44,157,44,158],[44,159,44,160],[44,161,44,162],[41,151,41,152],[41,153,41,154],[41,155,41,156],[41,157,41,158],[41,159,41,160],[41,161,41,162],[42,135,42,136],[42,137,42,138],[42,139,42,140],[42,141,42,142],[42,143,42,144],[42,145,42,146],[42,147,42,148],[42,149,42,150],[42,151,42,152],[42,153,42,154],[42,155,42,156],[42,157,42,158],[42,159,42,160],[42,161,42,162],[41,135,41,136],[41,137,41,138],[41,139,41,140],[39,135,39,136],[39,137,39,138],[39,139,39,140],[39,141,39,142],[39,143,39,144],[39,145,39,146],[39,147,39,148],[39,149,39,150],[39,151,39,152],[39,153,39,154],[39,155,39,156],[39,157,39,158],[39,159,39,160],[39,161,39,162],[40,135,40,136],[40,137,40,138],[40,139,40,140],[40,141,40,142],[40,143,40,144],[40,145,40,146],[40,147,40,148],[40,149,40,150],[40,151,40,152],[40,153,40,154],[40,155,40,156],[40,157,40,158],[40,159,40,160],[40,161,40,162],[39,127,39,128],[40,127,40,128],[41,127,41,128],[42,127,42,128],[43,127,43,128],[44,127,44,128],[45,127,45,128],[46,127,46,128],[47,127,47,128],[48,127,48,128],[49,127,49,128],[50,127,50,128],[51,127,51,128],[52,127,52,128],[53,127,53,128],[54,127,54,128],[55,127,55,128],[83,185,83,186],[83,187,83,188],[83,189,83,190],[83,191,83,192],[84,185,84,186],[84,187,84,188],[84,189,84,190],[84,191,84,192],[78,185,78,186],[78,187,78,188],[78,189,78,190],[78,191,78,192],[79,185,79,186],[79,187,79,188],[79,189,79,190],[79,191,79,192],[80,185,80,186],[80,187,80,188],[80,189,80,190],[80,191,80,192],[81,185,81,186],[81,187,81,188],[81,189,81,190],[81,191,81,192],[82,185,82,186],[82,187,82,188],[82,189,82,190],[82,191,82,192],[72,185,72,186],[72,187,72,188],[72,189,72,190],[72,191,72,192],[73,185,73,186],[73,187,73,188],[73,189,73,190],[73,191,73,192],[74,185,74,186],[74,187,74,188],[74,189,74,190],[74,191,74,192],[75,185,75,186],[75,187,75,188],[75,189,75,190],[75,191,75,192],[77,185,77,186],[77,187,77,188],[77,189,77,190],[77,191,77,192],[67,185,67,186],[67,187,67,188],[67,189,67,190],[67,191,67,192],[68,185,68,186],[68,187,68,188],[68,189,68,190],[68,191,68,192],[69,185,69,186],[69,187,69,188],[69,189,69,190],[69,191,69,192],[70,185,70,186],[70,187,70,188],[70,189,70,190],[70,191,70,192],[71,185,71,186],[71,187,71,188],[71,189,71,190],[71,191,71,192],[62,185,62,186],[62,187,62,188],[62,189,62,190],[62,191,62,192],[63,185,63,186],[63,187,63,188],[63,189,63,190],[63,191,63,192],[64,185,64,186],[64,187,64,188],[64,189,64,190],[64,191,64,192],[65,185,65,186],[65,187,65,188],[65,189,65,190],[65,191,65,192],[66,185,66,186],[66,187,66,188],[66,189,66,190],[66,191,66,192],[57,185,57,186],[57,187,57,188],[57,189,57,190],[57,191,57,192],[58,185,58,186],[58,187,58,188],[58,189,58,190],[58,191,58,192],[59,185,59,186],[59,187,59,188],[59,189,59,190],[59,191,59,192],[60,185,60,186],[60,187,60,188],[60,189,60,190],[60,191,60,192],[61,185,61,186],[61,187,61,188],[61,189,61,190],[61,191,61,192],[52,185,52,186],[52,187,52,188],[52,189,52,190],[52,191,52,192],[53,185,53,186],[53,187,53,188],[53,189,53,190],[53,191,53,192],[54,185,54,186],[54,187,54,188],[54,189,54,190],[54,191,54,192],[55,185,55,186],[55,187,55,188],[55,189,55,190],[55,191,55,192],[56,185,56,186],[56,187,56,188],[56,189,56,190],[56,191,56,192],[47,185,47,186],[47,187,47,188],[47,189,47,190],[47,191,47,192],[48,185,48,186],[48,187,48,188],[48,189,48,190],[48,191,48,192],[49,185,49,186],[49,187,49,188],[49,189,49,190],[49,191,49,192],[50,185,50,186],[50,187,50,188],[50,189,50,190],[50,191,50,192],[51,185,51,186],[51,187,51,188],[51,189,51,190],[51,191,51,192],[42,185,42,186],[42,187,42,188],[42,189,42,190],[42,191,42,192],[43,185,43,186],[43,187,43,188],[43,189,43,190],[43,191,43,192],[44,185,44,186],[44,187,44,188],[44,189,44,190],[44,191,44,192],[45,185,45,186],[45,187,45,188],[45,189,45,190],[45,191,45,192],[46,185,46,186],[46,187,46,188],[46,189,46,190],[46,191,46,192],[28,185,28,186],[28,187,28,188],[28,189,28,190],[28,191,28,192],[29,185,29,186],[29,187,29,188],[29,189,29,190],[29,191,29,192],[39,185,39,186],[39,187,39,188],[39,189,39,190],[39,191,39,192],[40,185,40,186],[40,187,40,188],[40,189,40,190],[40,191,40,192],[41,185,41,186],[41,187,41,188],[41,189,41,190],[41,191,41,192],[23,185,23,186],[23,187,23,188],[23,189,23,190],[23,191,23,192],[24,185,24,186],[24,187,24,188],[24,189,24,190],[24,191,24,192],[25,185,25,186],[25,187,25,188],[25,189,25,190],[25,191,25,192],[26,185,26,186],[26,187,26,188],[26,189,26,190],[26,191,26,192],[27,185,27,186],[27,187,27,188],[27,189,27,190],[27,191,27,192],[18,185,18,186],[18,187,18,188],[18,189,18,190],[18,191,18,192],[19,185,19,186],[19,187,19,188],[19,189,19,190],[19,191,19,192],[20,185,20,186],[20,187,20,188],[20,189,20,190],[20,191,20,192],[21,185,21,186],[21,187,21,188],[21,189,21,190],[21,191,21,192],[22,185,22,186],[22,187,22,188],[22,189,22,190],[22,191,22,192],[13,185,13,186],[13,187,13,188],[13,189,13,190],[13,191,13,192],[14,185,14,186],[14,187,14,188],[14,189,14,190],[14,191,14,192],[15,185,15,186],[15,187,15,188],[15,189,15,190],[15,191,15,192],[16,185,16,186],[16,187,16,188],[16,189,16,190],[16,191,16,192],[17,185,17,186],[17,187,17,188],[17,189,17,190],[17,191,17,192],[8,185,8,186],[8,187,8,188],[8,189,8,190],[8,191,8,192],[9,185,9,186],[9,187,9,188],[9,189,9,190],[9,191,9,192],[10,185,10,186],[10,187,10,188],[10,189,10,190],[10,191,10,192],[11,185,11,186],[11,187,11,188],[11,189,11,190],[11,191,11,192],[12,185,12,186],[12,187,12,188],[12,189,12,190],[12,191,12,192],[83,181,83,182],[83,183,83,184],[84,181,84,182],[84,183,84,184],[2,185,2,186],[2,187,2,188],[2,189,2,190],[2,191,2,192],[3,185,3,186],[3,187,3,188],[3,189,3,190],[3,191,3,192],[4,185,4,186],[4,187,4,188],[4,189,4,190],[4,191,4,192],[5,185,5,186],[5,187,5,188],[5,189,5,190],[5,191,5,192],[6,185,6,186],[6,187,6,188],[6,189,6,190],[6,191,6,192],[7,185,7,186],[7,187,7,188],[7,189,7,190],[7,191,7,192],[73,181,73,182],[73,183,73,184],[74,181,74,182],[74,183,74,184],[75,181,75,182],[75,183,75,184],[77,181,77,182],[77,183,77,184],[78,181,78,182],[78,183,78,184],[79,181,79,182],[79,183,79,184],[80,181,80,182],[80,183,80,184],[81,181,81,182],[81,183,81,184],[82,181,82,182],[82,183,82,184],[64,181,64,182],[64,183,64,184],[65,181,65,182],[65,183,65,184],[66,181,66,182],[66,183,66,184],[67,181,67,182],[67,183,67,184],[68,181,68,182],[68,183,68,184],[69,181,69,182],[69,183,69,184],[70,181,70,182],[70,183,70,184],[71,181,71,182],[71,183,71,184],[72,181,72,182],[72,183,72,184],[55,181,55,182],[55,183,55,184],[56,181,56,182],[56,183,56,184],[57,181,57,182],[57,183,57,184],[58,181,58,182],[58,183,58,184],[59,181,59,182],[59,183,59,184],[60,181,60,182],[60,183,60,184],[61,181,61,182],[61,183,61,184],[62,181,62,182],[62,183,62,184],[63,181,63,182],[63,183,63,184],[46,181,46,182],[46,183,46,184],[47,181,47,182],[47,183,47,184],[48,181,48,182],[48,183,48,184],[49,181,49,182],[49,183,49,184],[50,181,50,182],[50,183,50,184],[51,181,51,182],[51,183,51,184],[52,181,52,182],[52,183,52,184],[53,181,53,182],[53,183,53,184],[54,181,54,182],[54,183,54,184],[28,181,28,182],[28,183,28,184],[29,181,29,182],[29,183,29,184],[39,181,39,182],[39,183,39,184],[40,181,40,182],[40,183,40,184],[41,181,41,182],[41,183,41,184],[42,181,42,182],[42,183,42,184],[43,181,43,182],[43,183,43,184],[44,181,44,182],[44,183,44,184],[45,181,45,182],[45,183,45,184],[19,181,19,182],[19,183,19,184],[20,181,20,182],[20,183,20,184],[21,181,21,182],[21,183,21,184],[22,181,22,182],[22,183,22,184],[23,181,23,182],[23,183,23,184],[24,181,24,182],[24,183,24,184],[25,181,25,182],[25,183,25,184],[26,181,26,182],[26,183,26,184],[27,181,27,182],[27,183,27,184],[10,181,10,182],[10,183,10,184],[11,181,11,182],[11,183,11,184],[12,181,12,182],[12,183,12,184],[13,181,13,182],[13,183,13,184],[14,181,14,182],[14,183,14,184],[15,181,15,182],[15,183,15,184],[16,181,16,182],[16,183,16,184],[17,181,17,182],[17,183,17,184],[18,181,18,182],[18,183,18,184],[70,177,70,178],[71,177,71,178],[72,177,72,178],[73,177,73,178],[74,177,74,178],[75,177,75,178],[77,177,77,178],[78,177,78,178],[79,177,79,178],[80,177,80,178],[81,177,81,178],[82,177,82,178],[83,177,83,178],[84,177,84,178],[2,181,2,182],[2,183,2,184],[3,181,3,182],[3,183,3,184],[4,181,4,182],[4,183,4,184],[5,181,5,182],[5,183,5,184],[6,181,6,182],[6,183,6,184],[7,181,7,182],[7,183,7,184],[8,181,8,182],[8,183,8,184],[9,181,9,182],[9,183,9,184],[53,177,53,178],[54,177,54,178],[55,177,55,178],[56,177,56,178],[57,177,57,178],[58,177,58,178],[59,177,59,178],[60,177,60,178],[61,177,61,178],[62,177,62,178],[63,177,63,178],[64,177,64,178],[65,177,65,178],[66,177,66,178],[67,177,67,178],[68,177,68,178],[69,177,69,178],[27,177,27,178],[28,177,28,178],[29,177,29,178],[39,177,39,178],[40,177,40,178],[41,177,41,178],[42,177,42,178],[43,177,43,178],[44,177,44,178],[45,177,45,178],[46,177,46,178],[47,177,47,178],[48,177,48,178],[49,177,49,178],[50,177,50,178],[51,177,51,178],[52,177,52,178],[79,175,79,176],[80,175,80,176],[81,175,81,176],[82,175,82,176],[83,175,83,176],[84,175,84,176],[2,177,2,178],[3,177,3,178],[4,177,4,178],[5,177,5,178],[6,177,6,178],[7,177,7,178],[8,177,8,178],[9,177,9,178],[10,177,10,178],[11,177,11,178],[12,177,12,178],[13,177,13,178],[14,177,14,178],[15,177,15,178],[16,177,16,178],[17,177,17,178],[18,177,18,178],[19,177,19,178],[20,177,20,178],[21,177,21,178],[22,177,22,178],[23,177,23,178],[24,177,24,178],[25,177,25,178],[26,177,26,178],[61,175,61,176],[62,175,62,176],[63,175,63,176],[64,175,64,176],[65,175,65,176],[66,175,66,176],[67,175,67,176],[68,175,68,176],[69,175,69,176],[70,175,70,176],[71,175,71,176],[72,175,72,176],[73,175,73,176],[74,175,74,176],[75,175,75,176],[77,175,77,176],[78,175,78,176],[44,175,44,176],[45,175,45,176],[46,175,46,176],[47,175,47,176],[48,175,48,176],[49,175,49,176],[50,175,50,176],[51,175,51,176],[52,175,52,176],[53,175,53,176],[54,175,54,176],[55,175,55,176],[56,175,56,176],[57,175,57,176],[58,175,58,176],[59,175,59,176],[60,175,60,176],[18,175,18,176],[19,175,19,176],[20,175,20,176],[21,175,21,176],[22,175,22,176],[23,175,23,176],[24,175,24,176],[25,175,25,176],[26,175,26,176],[27,175,27,176],[28,175,28,176],[29,175,29,176],[39,175,39,176],[40,175,40,176],[41,175,41,176],[42,175,42,176],[43,175,43,176],[2,175,2,176],[3,175,3,176],[4,175,4,176],[5,175,5,176],[6,175,6,176],[7,175,7,176],[8,175,8,176],[9,175,9,176],[10,175,10,176],[11,175,11,176],[12,175,12,176],[13,175,13,176],[14,175,14,176],[15,175,15,176],[16,175,16,176],[17,175,17,176],[58,119,58,120],[58,121,58,122],[5,141,5,142],[5,143,5,144],[5,145,5,146],[5,147,5,148],[5,149,5,150],[5,151,5,152],[5,153,5,154],[5,155,5,156],[5,157,5,158],[5,159,5,160],[5,161,5,162],[5,163,5,164],[5,165,5,166],[5,167,5,168],[20,2,20,4],[21,2,27,3],[58,33,58,34],[58,173,58,174],[58,167,58,168],[58,35,58,36]],"merged_total":6886,"flags":["merged_cut"]}
[null,null,null,null,null,"2-1",null,"2-2",null,"3-1",null,"3-2",null,"3-3",null,"7-1",null,"21-2",null,"42-1",null,"42-2",null,"46-1",null,"46-2",null,"48-1",null,"48-2",null,"13-1",null,"13-2",null,"13-3",null,"13-4",null,"16-1",null,"16-2",null,"17-1",null,"17-2",null,"17-3",null,"17-4",null,"18-1",null,"18-2",null,"18-3",null,"18-4",null,"19-1",null,"19-2",null,"19-3",null,"19-4",null,"20-1",null,"20-2",null,"20-3",null,"20-4",null,"36-1",null,"36-2",null,"36-3",null,"36-4",null,"37-1",null,"37-2",null,"37-3",null,"37-4",null,"39-1",null,"39-2",null,"40-1",null,"40-2",null,"41-1",null,"41-2",null,"41-3",null,"41-4",null,"41-5",null,"41-6",null,"43-1",null,"43-2",null,"45-1",null,"45-2",null,"45-3",null,"45-4",null,"47-1",null,"47-2",null,"51-1",null,"51-2",null,"52-1",null,"52-2",null,"53-1",null,"53-2",null,"53-3",null,"54-1",null,"54-2",null,"55-1",null,"55-2",null,"55-3",null,"55-4",null,"55-5",null,"56-1",null,"56-2",null,"56-3",null,"56-4",null,"57-1",null,"57-2",null,"57-3",null,"57-4",null,"57-5",null,"57-6",null,"58-1",null,"58-1",null,"58-2",null,"58-3",null,"58-4",null,"59-1",null,"59-2",null,"59-3",null,"59-4"]
[null,null,null,null,null,{"$f":"IF(LEN(VLOOKUP(F1,仕様の整理!$C:$E,3,0))-LEN(SUBSTITUTE(VLOOKUP(F1,仕様の整理!$C:$E,3,0),\"-\",\"\"))>=2,LEFT(VLOOKUP(F1,仕様の整理!$C:$E,3,0),FIND(\"-\",VLOOKUP(F1,仕様の整理!$C:$E,3,0),FIND(\"-\",VLOOKUP(F1,仕様の整理!$C:$E,3,0))+1)-1),VLOOKUP(F1,仕様の整理!$C:$E,3,0))","v":"KT-090048"},{"$f":"VLOOKUP(F1,仕様の整理!$C:$I,7,0)","v":"機械系"},{"$f":"IF(LEN(VLOOKUP(H1,仕様の整理!$C:$E,3,0))-LEN(SUBSTITUTE(VLOOKUP(H1,仕様の整理!$C:$E,3,0),\"-\",\"\"))>=2,LEFT(VLOOKUP(H1,仕様の整理!$C:$E,3,0),FIND(\"-\",VLOOKUP(H1,仕様の整理!$C:$E,3,0),FIND(\"-\",VLOOKUP(H1,仕様の整理!$C:$E,3,0))+1)-1),VLOOKUP(H1,仕様の整理!$C:$E,3,0))","v":"KT-090048"},{"$f":"VLOOKUP(H1,仕様の整理!$C:$I,7,0)","v":"機械系"},{"$f":"IF(LEN(VLOOKUP(J1,仕様の整理!$C:$E,3,0))-LEN(SUBSTITUTE(VLOOKUP(J1,仕様の整理!$C:$E,3,0),\"-\",\"\"))>=2,LEFT(VLOOKUP(J1,仕様の整理!$C:$E,3,0),FIND(\"-\",VLOOKUP(J1,仕様の整理!$C:$E,3,0),FIND(\"-\",VLOOKUP(J1,仕様の整理!$C:$E,3,0))+1)-1),VLOOKUP(J1,仕様の整理!$C:$E,3,0))","v":"KK-980012"},{"$f":"VLOOKUP(J1,仕様の整理!$C:$I,7,0)","v":"機械系"},{"$f":"IF(LEN(VLOOKUP(L1,仕様の整理!$C:$E,3,0))-LEN(SUBSTITUTE(VLOOKUP(L1,仕様の整理!$C:$E,3,0),\"-\",\"\"))>=2,LEFT(VLOOKUP(L1,仕様の整理!$C:$E,3,0),FIND(\"-\",VLOOKUP(L1,仕様の整理!$C:$E,3,0),FIND(\"-\",VLOOKUP(L1,仕様の整理!$C:$E,3,0))+1)-1),VLOOKUP(L1,仕様の整理!$C:$E,3,0))","v":"KK-980012"},{"$f":"VLOOKUP(L1,仕様の整理!$C:$I,7,0)","v":"機械系"},{"$f":"IF(LEN(VLOOKUP(N1,仕様の整理!$C:$E,3,0))-LEN(SUBSTITUTE(VLOOKUP(N1,仕様の整理!$C:$E,3,0),\"-\",\"\"))>=2,LEFT(VLOOKUP(N1,仕様の整理!$C:$E,3,0),FIND(\"-\",VLOOKUP(N1,仕様の整理!$C:$E,3,0),FIND(\"-\",VLOOKUP(N1,仕様の整理!$C:$E,3,0))+1)-1),VLOOKUP(N1,仕様の整理!$C:$E,3,0))","v":"KK-980012"},{"$f":"VLOOKUP(N1,仕様の整理!$C:$I,7,0)","v":"機械系"},{"$f":"IF(LEN(VLOOKUP(P1,仕様の整理!$C:$E,3,0))-LEN(SUBSTITUTE(VLOOKUP(P1,仕様の整理!$C:$E,3,0),\"-\",\"\"))>=2,LEFT(VLOOKUP(P1,仕様の整理!$C:$E,3,0),FIND(\"-\",VLOOKUP(P1,仕様の整理!$C:$E,3,0),FIND(\"-\",VLOOKUP(P1,仕様の整理!$C:$E,3,0))+1)-1),VLOOKUP(P1,仕様の整理!$C:$E,3,0))","v":"HR-060002"},{"$f":"VLOOKUP(P1,仕様の整理!$C:$I,7,0)","v":"機械系"},{"$f":"IF(LEN(VLOOKUP(R1,仕様の整理!$C:$E,3,0))-LEN(SUBSTITUTE(VLOOKUP(R1,仕様の整理!$C:$E,3,0),\"-\",\"\"))>=2,LEFT(VLOOKUP(R1,仕様の整理!$C:$E,3,0),FIND(\"-\",VLOOKUP(R1,仕様の整理!$C:$E,3,0),FIND(\"-\",VLOOKUP(R1,仕様の整理!$C:$E,3,0))+1)-1),VLOOKUP(R1,仕様の整理!$C:$E,3,0))","v":"CB-030057"},{"$f":"VLOOKUP(R1,仕様の整理!$C:$I,7,0)","v":"機械系"},{"$f":"IF(LEN(VLOOKUP(T1,仕様の整理!$C:$E,3,0))-LEN(SUBSTITUTE(VLOOKUP(T1,仕様の整理!$C:$E,3,0),\"-\",\"\"))>=2,LEFT(VLOOKUP(T1,仕様の整理!$C:$E,3,0),FIND(\"-\",VLOOKUP(T1,仕様の整理!$C:$E,3,0),FIND(\"-\",VLOOKUP(T1,仕様の整理!$C:$E,3,0))+1)-1),VLOOKUP(T1,仕様の整理!$C:$E,3,0))","v":"KT-200094"},{"$f":"VLOOKUP(T1,仕様の整理!$C:$I,7,0)","v":"機械系"},{"$f":"IF(LEN(VLOOKUP(V1,仕様の整理!$C:$E,3,0))-LEN(SUBSTITUTE(VLOOKUP(V1,仕様の整理!$C:$E,3,0),\"-\",\"\"))>=2,LEFT(VLOOKUP(V1,仕様の整理!$C:$E,3,0),FIND(\"-\",VLOOKUP(V1,仕様の整理!$C:$E,3,0),FIND(\"-\",VLOOKUP(V1,仕様の整理!$C:$E,3,0))+1)-1),VLOOKUP(V1,仕様の整理!$C:$E,3,0))","v":"KT-200094"},{"$f":"VLOOKUP(V1,仕様の整理!$C:$I,7,0)","v":"機械系"},{"$f":"IF(LEN(VLOOKUP(X1,仕様の整理!$C:$E,3,0))-LEN(SUBSTITUTE(VLOOKUP(X1,仕様の整理!$C:$E,3,0),\"-\",\"\"))>=2,LEFT(VLOOKUP(X1,仕様の整理!$C:$E,3,0),FIND(\"-\",VLOOKUP(X1,仕様の整理!$C:$E,3,0),FIND(\"-\",VLOOKUP(X1,仕様の整理!$C:$E,3,0))+1)-1),VLOOKUP(X1,仕様の整理!$C:$E,3,0))","v":"KT-210047"},{"$f":"VLOOKUP(X1,仕様の整理!$C:$I,7,0)","v":"機械系"},{"$f":"IF(LEN(VLOOKUP(Z1,仕様の整理!$C:$E,3,0))-LEN(SUBSTITUTE(VLOOKUP(Z1,仕様の整理!$C:$E,3,0),\"-\",\"\"))>=2,LEFT(VLOOKUP(Z1,仕様の整理!$C:$E,3,0),FIND(\"-\",VLOOKUP(Z1,仕様の整理!$C:$E,3,0),FIND(\"-\",VLOOKUP(Z1,仕様の整理!$C:$E,3,0))+1)-1),VLOOKUP(Z1,仕様の整理!$C:$E,3,0))","v":"KT-210047"},{"$f":"VLOOKUP(Z1,仕様の整理!$C:$I,7,0)","v":"機械系"},{"$f":"IF(LEN(VLOOKUP(AB1,仕様の整理!$C:$E,3,0))-LEN(SUBSTITUTE(VLOOKUP(AB1,仕様の整理!$C:$E,3,0),\"-\",\"\"))>=2,LEFT(VLOOKUP(AB1,仕様の整理!$C:$E,3,0),FIND(\"-\",VLOOKUP(AB1,仕様の整理!$C:$E,3,0),FIND(\"-\",VLOOKUP(AB1,仕様の整理!$C:$E,3,0))+1)-1),VLOOKUP(AB1,仕様の整理!$C:$E,3,0))","v":"SK-220002"},{"$f":"VLOOKUP(AB1,仕様の整理!$C:$I,7,0)","v":"機械系"},{"$f":"IF(LEN(VLOOKUP(AD1,仕様の整理!$C:$E,3,0))-LEN(SUBSTITUTE(VLOOKUP(AD1,仕様の整理!$C:$E,3,0),\"-\",\"\"))>=2,LEFT(VLOOKUP(AD1,仕様の整理!$C:$E,3,0),FIND(\"-\",VLOOKUP(AD1,仕様の整理!$C:$E,3,0),FIND(\"-\",VLOOKUP(AD1,仕様の整理!$C:$E,3,0))+1)-1),VLOOKUP(AD1,仕様の整理!$C:$E,3,0))","v":"SK-220002"},{"$f":"VLOOKUP(AD1,仕様の整理!$C:$I,7,0)","v":"機械系"},{"$f":"IF(LEN(VLOOKUP(AF1,仕様の整理!$C:$E,3,0))-LEN(SUBSTITUTE(VLOOKUP(AF1,仕様の整理!$C:$E,3,0),\"-\",\"\"))>=2,LEFT(VLOOKUP(AF1,仕様の整理!$C:$E,3,0),FIND(\"-\",VLOOKUP(AF1,仕様の整理!$C:$E,3,0),FIND(\"-\",VLOOKUP(AF1,仕様の整理!$C:$E,3,0))+1)-1),VLOOKUP(AF1,仕様の整理!$C:$E,3,0))","v":"TH-160010"},{"$f":"VLOOKUP(AF1,仕様の整理!$C:$I,7,0)","v":"材料系"},{"$f":"IF(LEN(VLOOKUP(AH1,仕様の整理!$C:$E,3,0))-LEN(SUBSTITUTE(VLOOKUP(AH1,仕様の整理!$C:$E,3,0),\"-\",\"\"))>=2,LEFT(VLOOKUP(AH1,仕様の整理!$C:$E,3,0),FIND(\"-\",VLOOKUP(AH1,仕様の整理!$C:$E,3,0),FIND(\"-\",VLOOKUP(AH1,仕様の整理!$C:$E,3,0))+1)-1),VLOOKUP(AH1,仕様の整理!$C:$E,3,0))","v":"TH-160010"},{"$f":"VLOOKUP(AH1,仕様の整理!$C:$I,7,0)","v":"材料系"},{"$f":"IF(LEN(VLOOKUP(AJ1,仕様の整理!$C:$E,3,0))-LEN(SUBSTITUTE(VLOOKUP(AJ1,仕様の整理!$C:$E,3,0),\"-\",\"\"))>=2,LEFT(VLOOKUP(AJ1,仕様の整理!$C:$E,3,0),FIND(\"-\",VLOOKUP(AJ1,仕様の整理!$C:$E,3,0),FIND(\"-\",VLOOKUP(AJ1,仕様の整理!$C:$E,3,0))+1)-1),VLOOKUP(AJ1,仕様の整理!$C:$E,3,0))","v":"TH-160010"},{"$f":"VLOOKUP(AJ1,仕様の整理!$C:$I,7,0)","v":"材料系"},{"$f":"IF(LEN(VLOOKUP(AL1,仕様の整理!$C:$E,3,0))-LEN(SUBSTITUTE(VLOOKUP(AL1,仕様の整理!$C:$E,3,0),\"-\",\"\"))>=2,LEFT(VLOOKUP(AL1,仕様の整理!$C:$E,3,0),FIND(\"-\",VLOOKUP(AL1,仕様の整理!$C:$E,3,0),FIND(\"-\",VLOOKUP(AL1,仕様の整理!$C:$E,3,0))+1)-1),VLOOKUP(AL1,仕様の整理!$C:$E,3,0))","v":"TH-160010"},{"$f":"VLOOKUP(AL1,仕様の整理!$C:$I,7,0)","v":"材料系"},{"$f":"IF(LEN(VLOOKUP(AN1,仕様の整理!$C:$E,3,0))-LEN(SUBSTITUTE(VLOOKUP(AN1,仕様の整理!$C:$E,3,0),\"-\",\"\"))>=2,LEFT(VLOOKUP(AN1,仕様の整理!$C:$E,3,0),FIND(\"-\",VLOOKUP(AN1,仕様の整理!$C:$E,3,0),FIND(\"-\",VLOOKUP(AN1,仕様の整理!$C:$E,3,0))+1)-1),VLOOKUP(AN1,仕様の整理!$C:$E,3,0))","v":"CBK-150001"},{"$f":"VLOOKUP(AN1,仕様の整理!$C:$I,7,0)","v":"材料系"},{"$f":"IF(LEN(VLOOKUP(AP1,仕様の整理!$C:$E,3,0))-LEN(SUBSTITUTE(VLOOKUP(AP1,仕様の整理!$C:$E,3,0),\"-\",\"\"))>=2,LEFT(VLOOKUP(AP1,仕様の整理!$C:$E,3,0),FIND(\"-\",VLOOKUP(AP1,仕様の整理!$C:$E,3,0),FIND(\"-\",VLOOKUP(AP1,仕様の整理!$C:$E,3,0))+1)-1),VLOOKUP(AP1,仕様の整理!$C:$E,3,0))","v":"CBK-150001"},{"$f":"VLOOKUP(AP1,仕様の整理!$C:$I,7,0)","v":"材料系"},{"$f":"IF(LEN(VLOOKUP(AR1,仕様の整理!$C:$E,3,0))-LEN(SUBSTITUTE(VLOOKUP(AR1,仕様の整理!$C:$E,3,0),\"-\",\"\"))>=2,LEFT(VLOOKUP(AR1,仕様の整理!$C:$E,3,0),FIND(\"-\",VLOOKUP(AR1,仕様の整理!$C:$E,3,0),FIND(\"-\",VLOOKUP(AR1,仕様の整理!$C:$E,3,0))+1)-1),VLOOKUP(AR1,仕様の整理!$C:$E,3,0))","v":"KK-010008"},{"$f":"VLOOKUP(AR1,仕様の整理!$C:$I,7,0)","v":"材料系"},{"$f":"IF(LEN(VLOOKUP(AT1,仕様の整理!$C:$E,3,0))-LEN(SUBSTITUTE(VLOOKUP(AT1,仕様の整理!$C:$E,3,0),\"-\",\"\"))>=2,LEFT(VLOOKUP(AT1,仕様の整理!$C:$E,3,0),FIND(\"-\",VLOOKUP(AT1,仕様の整理!$C:$E,3,0),FIND(\"-\",VLOOKUP(AT1,仕様の整理!$C:$E,3,0))+1)-1),VLOOKUP(AT1,仕様の整理!$C:$E,3,0))","v":"KK-010008"},{"$f":"VLOOKUP(AT1,仕様の整理!$C:$I,7,0)","v":"材料系"},{"$f":"IF(LEN(VLOOKUP(AV1,仕様の整理!$C:$E,3,0))-LEN(SUBSTITUTE(VLOOKUP(AV1,仕様の整理!$C:$E,3,0),\"-\",\"\"))>=2,LEFT(VLOOKUP(AV1,仕様の整理!$C:$E,3,0),FIND(\"-\",VLOOKUP(AV1,仕様の整理!$C:$E,3,0),FIND(\"-\",VLOOKUP(AV1,仕様の整理!$C:$E,3,0))+1)-1),VLOOKUP(AV1,仕様の整理!$C:$E,3,0))","v":"KK-010008"},{"$f":"VLOOKUP(AV1,仕様の整理!$C:$I,7,0)","v":"材料系"},{"$f":"IF(LEN(VLOOKUP(AX1,仕様の整理!$C:$E,3,0))-LEN(SUBSTITUTE(VLOOKUP(AX1,仕様の整理!$C:$E,3,0),\"-\",\"\"))>=2,LEFT(VLOOKUP(AX1,仕様の整理!$C:$E,3,0),FIND(\"-\",VLOOKUP(AX1,仕様の整理!$C:$E,3,0),FIND(\"-\",VLOOKUP(AX1,仕様の整理!$C:$E,3,0))+1)-1),VLOOKUP(AX1,仕様の整理!$C:$E,3,0))","v":"KK-010008"},{"$f":"VLOOKUP(AX1,仕様の整理!$C:$I,7,0)","v":"材料系"},{"$f":"IF(LEN(VLOOKUP(AZ1,仕様の整理!$C:$E,3,0))-LEN(SUBSTITUTE(VLOOKUP(AZ1,仕様の整理!$C:$E,3,0),\"-\",\"\"))>=2,LEFT(VLOOKUP(AZ1,仕様の整理!$C:$E,3,0),FIND(\"-\",VLOOKUP(AZ1,仕様の整理!$C:$E,3,0),FIND(\"-\",VLOOKUP(AZ1,仕様の整理!$C:$E,3,0))+1)-1),VLOOKUP(AZ1,仕様の整理!$C:$E,3,0))","v":"TH-100029"},{"$f":"VLOOKUP(AZ1,仕様の整理!$C:$I,7,0)","v":"材料系"},{"$f":"IF(LEN(VLOOKUP(BB1,仕様の整理!$C:$E,3,0))-LEN(SUBSTITUTE(VLOOKUP(BB1,仕様の整理!$C:$E,3,0),\"-\",\"\"))>=2,LEFT(VLOOKUP(BB1,仕様の整理!$C:$E,3,0),FIND(\"-\",VLOOKUP(BB1,仕様の整理!$C:$E,3,0),FIND(\"-\",VLOOKUP(BB1,仕様の整理!$C:$E,3,0))+1)-1),VLOOKUP(BB1,仕様の整理!$C:$E,3,0))","v":"TH-100029"},{"$f":"VLOOKUP(BB1,仕様の整理!$C:$I,7,0)","v":"材料系"},{"$f":"IF(LEN(VLOOKUP(BD1,仕様の整理!$C:$E,3,0))-LEN(SUBSTITUTE(VLOOKUP(BD1,仕様の整理!$C:$E,3,0),\"-\",\"\"))>=2,LEFT(VLOOKUP(BD1,仕様の整理!$C:$E,3,0),FIND(\"-\",VLOOKUP(BD1,仕様の整理!$C:$E,3,0),FIND(\"-\",VLOOKUP(BD1,仕様の整理!$C:$E,3,0))+1)-1),VLOOKUP(BD1,仕様の整理!$C:$E,3,0))","v":"TH-100029"},{"$f":"VLOOKUP(BD1,仕様の整理!$C:$I,7,0)","v":"材料系"},{"$f":"IF(LEN(VLOOKUP(BF1,仕様の整理!$C:$E,3,0))-LEN(SUBSTITUTE(VLOOKUP(BF1,仕様の整理!$C:$E,3,0),\"-\",\"\"))>=2,LEFT(VLOOKUP(BF1,仕様の整理!$C:$E,3,0),FIND(\"-\",VLOOKUP(BF1,仕様の整理!$C:$E,3,0),FIND(\"-\",VLOOKUP(BF1,仕様の整理!$C:$E,3,0))+1)-1),VLOOKUP(BF1,仕様の整理!$C:$E,3,0))","v":"TH-100029"},{"$f":"VLOOKUP(BF1,仕様の整理!$C:$I,7,0)","v":"材料系"},{"$f":"IF(LEN(VLOOKUP(BH1,仕様の整理!$C:$E,3,0))-LEN(SUBSTITUTE(VLOOKUP(BH1,仕様の整理!$C:$E,3,0),\"-\",\"\"))>=2,LEFT(VLOOKUP(BH1,仕様の整理!$C:$E,3,0),FIND(\"-\",VLOOKUP(BH1,仕様の整理!$C:$E,3,0),FIND(\"-\",VLOOKUP(BH1,仕様の整理!$C:$E,3,0))+1)-1),VLOOKUP(BH1,仕様の整理!$C:$E,3,0))","v":"TH-020042"},{"$f":"VLOOKUP(BH1,仕様の整理!$C:$I,7,0)","v":"材料系"},{"$f":"IF(LEN(VLOOKUP(BJ1,仕様の整理!$C:$E,3,0))-LEN(SUBSTITUTE(VLOOKUP(BJ1,仕様の整理!$C:$E,3,0),\"-\",\"\"))>=2,LEFT(VLOOKUP(BJ1,仕様の整理!$C:$E,3,0),FIND(\"-\",VLOOKUP(BJ1,仕様の整理!$C:$E,3,0),FIND(\"-\",VLOOKUP(BJ1,仕様の整理!$C:$E,3,0))+1)-1),VLOOKUP(BJ1,仕様の整理!$C:$E,3,0))","v":"TH-020042"},{"$f":"VLOOKUP(BJ1,仕様の整理!$C:$I,7,0)","v":"材料系"},{"$f":"IF(LEN(VLOOKUP(BL1,仕様の整理!$C:$E,3,0))-LEN(SUBSTITUTE(VLOOKUP(BL1,仕様の整理!$C:$E,3,0),\"-\",\"\"))>=2,LEFT(VLOOKUP(BL1,仕様の整理!$C:$E,3,0),FIND(\"-\",VLOOKUP(BL1,仕様の整理!$C:$E,3,0),FIND(\"-\",VLOOKUP(BL1,仕様の整理!$C:$E,3,0))+1)-1),VLOOKUP(BL1,仕様の整理!$C:$E,3,0))","v":"TH-020042"},{"$f":"VLOOKUP(BL1,仕様の整理!$C:$I,7,0)","v":"材料系"},{"$f":"IF(LEN(VLOOKUP(BN1,仕様の整理!$C:$E,3,0))-LEN(SUBSTITUTE(VLOOKUP(BN1,仕様の整理!$C:$E,3,0),\"-\",\"\"))>=2,LEFT(VLOOKUP(BN1,仕様の整理!$C:$E,3,0),FIND(\"-\",VLOOKUP(BN1,仕様の整理!$C:$E,3,0),FIND(\"-\",VLOOKUP(BN1,仕様の整理!$C:$E,3,0))+1)-1),VLOOKUP(BN1,仕様の整理!$C:$E,3,0))","v":"TH-020042"},{"$f":"VLOOKUP(BN1,仕様の整理!$C:$I,7,0)","v":"材料系"},{"$f":"IF(LEN(VLOOKUP(BP1,仕様の整理!$C:$E,3,0))-LEN(SUBSTITUTE(VLOOKUP(BP1,仕様の整理!$C:$E,3,0),\"-\",\"\"))>=2,LEFT(VLOOKUP(BP1,仕様の整理!$C:$E,3,0),FIND(\"-\",VLOOKUP(BP1,仕様の整理!$C:$E,3,0),FIND(\"-\",VLOOKUP(BP1,仕様の整理!$C:$E,3,0))+1)-1),VLOOKUP(BP1,仕様の整理!$C:$E,3,0))","v":"CB-010011"},{"$f":"VLOOKUP(BP1,仕様の整理!$C:$I,7,0)","v":"材料系"},{"$f":"IF(LEN(VLOOKUP(BR1,仕様の整理!$C:$E,3,0))-LEN(SUBSTITUTE(VLOOKUP(BR1,仕様の整理!$C:$E,3,0),\"-\",\"\"))>=2,LEFT(VLOOKUP(BR1,仕様の整理!$C:$E,3,0),FIND(\"-\",VLOOKUP(BR1,仕様の整理!$C:$E,3,0),FIND(\"-\",VLOOKUP(BR1,仕様の整理!$C:$E,3,0))+1)-1),VLOOKUP(BR1,仕様の整理!$C:$E,3,0))","v":"CB-010011"},{"$f":"VLOOKUP(BR1,仕様の整理!$C:$I,7,0)","v":"材料系"},{"$f":"IF(LEN(VLOOKUP(BT1,仕様の整理!$C:$E,3,0))-LEN(SUBSTITUTE(VLOOKUP(BT1,仕様の整理!$C:$E,3,0),\"-\",\"\"))>=2,LEFT(VLOOKUP(BT1,仕様の整理!$C:$E,3,0),FIND(\"-\",VLOOKUP(BT1,仕様の整理!$C:$E,3,0),FIND(\"-\",VLOOKUP(BT1,仕様の整理!$C:$E,3,0))+1)-1),VLOOKUP(BT1,仕様の整理!$C:$E,3,0))","v":"CB-010011"},{"$f":"VLOOKUP(BT1,仕様の整理!$C:$I,7,0)","v":"材料系"},{"$f":"IF(LEN(VLOOKUP(BV1,仕様の整理!$C:$E,3,0))-LEN(SUBSTITUTE(VLOOKUP(BV1,仕様の整理!$C:$E,3,0),\"-\",\"\"))>=2,LEFT(VLOOKUP(BV1,仕様の整理!$C:$E,3,0),FIND(\"-\",VLOOKUP(BV1,仕様の整理!$C:$E,3,0),FIND(\"-\",VLOOKUP(BV1,仕様の整理!$C:$E,3,0))+1)-1),VLOOKUP(BV1,仕様の整理!$C:$E,3,0))","v":"CB-010011"},{"$f":"VLOOKUP(BV1,仕様の整理!$C:$I,7,0)","v":"材料系"},{"$f":"IF(LEN(VLOOKUP(BX1,仕様の整理!$C:$E,3,0))-LEN(SUBSTITUTE(VLOOKUP(BX1,仕様の整理!$C:$E,3,0),\"-\",\"\"))>=2,LEFT(VLOOKUP(BX1,仕様の整理!$C:$E,3,0),FIND(\"-\",VLOOKUP(BX1,仕様の整理!$C:$E,3,0),FIND(\"-\",VLOOKUP(BX1,仕様の整理!$C:$E,3,0))+1)-1),VLOOKUP(BX1,仕様の整理!$C:$E,3,0))","v":"KT-180019"},{"$f":"VLOOKUP(BX1,仕様の整理!$C:$I,7,0)","v":"材料系"},{"$f":"IF(LEN(VLOOKUP(BZ1,仕様の整理!$C:$E,3,0))-LEN(SUBSTITUTE(VLOOKUP(BZ1,仕様の整理!$C:$E,3,0),\"-\",\"\"))>=2,LEFT(VLOOKUP(BZ1,仕様の整理!$C:$E,3,0),FIND(\"-\",VLOOKUP(BZ1,仕様の整理!$C:$E,3,0),FIND(\"-\",VLOOKUP(BZ1,仕様の整理!$C:$E,3,0))+1)-1),VLOOKUP(BZ1,仕様の整理!$C:$E,3,0))","v":"KT-180019"},{"$f":"VLOOKUP(BZ1,仕様の整理!$C:$I,7,0)","v":"材料系"},{"$f":"IF(LEN(VLOOKUP(CB1,仕様の整理!$C:$E,3,0))-LEN(SUBSTITUTE(VLOOKUP(CB1,仕様の整理!$C:$E,3,0),\"-\",\"\"))>=2,LEFT(VLOOKUP(CB1,仕様の整理!$C:$E,3,0),FIND(\"-\",VLOOKUP(CB1,仕様の整理!$C:$E,3,0),FIND(\"-\",VLOOKUP(CB1,仕様の整理!$C:$E,3,0))+1)-1),VLOOKUP(CB1,仕様の整理!$C:$E,3,0))","v":"KT-180019"},{"$f":"VLOOKUP(CB1,仕様の整理!$C:$I,7,0)","v":"材料系"},{"$f":"IF(LEN(VLOOKUP(CD1,仕様の整理!$C:$E,3,0))-LEN(SUBSTITUTE(VLOOKUP(CD1,仕様の整理!$C:$E,3,0),\"-\",\"\"))>=2,LEFT(VLOOKUP(CD1,仕様の整理!$C:$E,3,0),FIND(\"-\",VLOOKUP(CD1,仕様の整理!$C:$E,3,0),FIND(\"-\",VLOOKUP(CD1,仕様の整理!$C:$E,3,0))+1)-1),VLOOKUP(CD1,仕様の整理!$C:$E,3,0))","v":"KT-180019"},{"$f":"VLOOKUP(CD1,仕様の整理!$C:$I,7,0)","v":"材料系"},{"$f":"IF(LEN(VLOOKUP(CF1,仕様の整理!$C:$E,3,0))-LEN(SUBSTITUTE(VLOOKUP(CF1,仕様の整理!$C:$E,3,0),\"-\",\"\"))>=2,LEFT(VLOOKUP(CF1,仕様の整理!$C:$E,3,0),FIND(\"-\",VLOOKUP(CF1,仕様の整理!$C:$E,3,0),FIND(\"-\",VLOOKUP(CF1,仕様の整理!$C:$E,3,0))+1)-1),VLOOKUP(CF1,仕様の整理!$C:$E,3,0))","v":"KK-170046"},{"$f":"VLOOKUP(CF1,仕様の整理!$C:$I,7,0)","v":"材料系"},{"$f":"IF(LEN(VLOOKUP(CH1,仕様の整理!$C:$E,3,0))-LEN(SUBSTITUTE(VLOOKUP(CH1,仕様の整理!$C:$E,3,0),\"-\",\"\"))>=2,LEFT(VLOOKUP(CH1,仕様の整理!$C:$E,3,0),FIND(\"-\",VLOOKUP(CH1,仕様の整理!$C:$E,3,0),FIND(\"-\",VLOOKUP(CH1,仕様の整理!$C:$E,3,0))+1)-1),VLOOKUP(CH1,仕様の整理!$C:$E,3,0))","v":"KK-170046"},{"$f":"VLOOKUP(CH1,仕様の整理!$C:$I,7,0)","v":"材料系"},{"$f":"IF(LEN(VLOOKUP(CJ1,仕様の整理!$C:$E,3,0))-LEN(SUBSTITUTE(VLOOKUP(CJ1,仕様の整理!$C:$E,3,0),\"-\",\"\"))>=2,LEFT(VLOOKUP(CJ1,仕様の整理!$C:$E,3,0),FIND(\"-\",VLOOKUP(CJ1,仕様の整理!$C:$E,3,0),FIND(\"-\",VLOOKUP(CJ1,仕様の整理!$C:$E,3,0))+1)-1),VLOOKUP(CJ1,仕様の整理!$C:$E,3,0))","v":"KK-170046"},{"$f":"VLOOKUP(CJ1,仕様の整理!$C:$I,7,0)","v":"材料系"},{"$f":"IF(LEN(VLOOKUP(CL1,仕様の整理!$C:$E,3,0))-LEN(SUBSTITUTE(VLOOKUP(CL1,仕様の整理!$C:$E,3,0),\"-\",\"\"))>=2,LEFT(VLOOKUP(CL1,仕様の整理!$C:$E,3,0),FIND(\"-\",VLOOKUP(CL1,仕様の整理!$C:$E,3,0),FIND(\"-\",VLOOKUP(CL1,仕様の整理!$C:$E,3,0))+1)-1),VLOOKUP(CL1,仕様の整理!$C:$E,3,0))","v":"KK-170046"},{"$f":"VLOOKUP(CL1,仕様の整理!$C:$I,7,0)","v":"材料系"},{"$f":"IF(LEN(VLOOKUP(CN1,仕様の整理!$C:$E,3,0))-LEN(SUBSTITUTE(VLOOKUP(CN1,仕様の整理!$C:$E,3,0),\"-\",\"\"))>=2,LEFT(VLOOKUP(CN1,仕様の整理!$C:$E,3,0),FIND(\"-\",VLOOKUP(CN1,仕様の整理!$C:$E,3,0),FIND(\"-\",VLOOKUP(CN1,仕様の整理!$C:$E,3,0))+1)-1),VLOOKUP(CN1,仕様の整理!$C:$E,3,0))","v":"KT-190100"},{"$f":"VLOOKUP(CN1,仕様の整理!$C:$I,7,0)","v":"材料系"},{"$f":"IF(LEN(VLOOKUP(CP1,仕様の整理!$C:$E,3,0))-LEN(SUBSTITUTE(VLOOKUP(CP1,仕様の整理!$C:$E,3,0),\"-\",\"\"))>=2,LEFT(VLOOKUP(CP1,仕様の整理!$C:$E,3,0),FIND(\"-\",VLOOKUP(CP1,仕様の整理!$C:$E,3,0),FIND(\"-\",VLOOKUP(CP1,仕様の整理!$C:$E,3,0))+1)-1),VLOOKUP(CP1,仕様の整理!$C:$E,3,0))","v":"KT-190100"},{"$f":"VLOOKUP(CP1,仕様の整理!$C:$I,7,0)","v":"材料系"},{"$f":"IF(LEN(VLOOKUP(CR1,仕様の整理!$C:$E,3,0))-LEN(SUBSTITUTE(VLOOKUP(CR1,仕様の整理!$C:$E,3,0),\"-\",\"\"))>=2,LEFT(VLOOKUP(CR1,仕様の整理!$C:$E,3,0),FIND(\"-\",VLOOKUP(CR1,仕様の整理!$C:$E,3,0),FIND(\"-\",VLOOKUP(CR1,仕様の整理!$C:$E,3,0))+1)-1),VLOOKUP(CR1,仕様の整理!$C:$E,3,0))","v":"CG-200006"},{"$f":"VLOOKUP(CR1,仕様の整理!$C:$I,7,0)","v":"材料系"},{"$f":"IF(LEN(VLOOKUP(CT1,仕様の整理!$C:$E,3,0))-LEN(SUBSTITUTE(VLOOKUP(CT1,仕様の整理!$C:$E,3,0),\"-\",\"\"))>=2,LEFT(VLOOKUP(CT1,仕様の整理!$C:$E,3,0),FIND(\"-\",VLOOKUP(CT1,仕様の整理!$C:$E,3,0),FIND(\"-\",VLOOKUP(CT1,仕様の整理!$C:$E,3,0))+1)-1),VLOOKUP(CT1,仕様の整理!$C:$E,3,0))","v":"CG-200006"},{"$f":"VLOOKUP(CT1,仕様の整理!$C:$I,7,0)","v":"材料系"},{"$f":"IF(LEN(VLOOKUP(CV1,仕様の整理!$C:$E,3,0))-LEN(SUBSTITUTE(VLOOKUP(CV1,仕様の整理!$C:$E,3,0),\"-\",\"\"))>=2,LEFT(VLOOKUP(CV1,仕様の整理!$C:$E,3,0),FIND(\"-\",VLOOKUP(CV1,仕様の整理!$C:$E,3,0),FIND(\"-\",VLOOKUP(CV1,仕様の整理!$C:$E,3,0))+1)-1),VLOOKUP(CV1,仕様の整理!$C:$E,3,0))","v":"KT-200060"},{"$f":"VLOOKUP(CV1,仕様の整理!$C:$I,7,0)","v":"材料系"},{"$f":"IF(LEN(VLOOKUP(CX1,仕様の整理!$C:$E,3,0))-LEN(SUBSTITUTE(VLOOKUP(CX1,仕様の整理!$C:$E,3,0),\"-\",\"\"))>=2,LEFT(VLOOKUP(CX1,仕様の整理!$C:$E,3,0),FIND(\"-\",VLOOKUP(CX1,仕様の整理!$C:$E,3,0),FIND(\"-\",VLOOKUP(CX1,仕様の整理!$C:$E,3,0))+1)-1),VLOOKUP(CX1,仕様の整理!$C:$E,3,0))","v":"KT-200060"},{"$f":"VLOOKUP(CX1,仕様の整理!$C:$I,7,0)","v":"材料系"},{"$f":"IF(LEN(VLOOKUP(CZ1,仕様の整理!$C:$E,3,0))-LEN(SUBSTITUTE(VLOOKUP(CZ1,仕様の整理!$C:$E,3,0),\"-\",\"\"))>=2,LEFT(VLOOKUP(CZ1,仕様の整理!$C:$E,3,0),FIND(\"-\",VLOOKUP(CZ1,仕様の整理!$C:$E,3,0),FIND(\"-\",VLOOKUP(CZ1,仕様の整理!$C:$E,3,0))+1)-1),VLOOKUP(CZ1,仕様の整理!$C:$E,3,0))","v":"KT-200060"},{"$f":"VLOOKUP(CZ1,仕様の整理!$C:$I,7,0)","v":"材料系"},{"$f":"IF(LEN(VLOOKUP(DB1,仕様の整理!$C:$E,3,0))-LEN(SUBSTITUTE(VLOOKUP(DB1,仕様の整理!$C:$E,3,0),\"-\",\"\"))>=2,LEFT(VLOOKUP(DB1,仕様の整理!$C:$E,3,0),FIND(\"-\",VLOOKUP(DB1,仕様の整理!$C:$E,3,0),FIND(\"-\",VLOOKUP(DB1,仕様の整理!$C:$E,3,0))+1)-1),VLOOKUP(DB1,仕様の整理!$C:$E,3,0))","v":"KT-200060"},{"$f":"VLOOKUP(DB1,仕様の整理!$C:$I,7,0)","v":"材料系"},{"$f":"IF(LEN(VLOOKUP(DD1,仕様の整理!$C:$E,3,0))-LEN(SUBSTITUTE(VLOOKUP(DD1,仕様の整理!$C:$E,3,0),\"-\",\"\"))>=2,LEFT(VLOOKUP(DD1,仕様の整理!$C:$E,3,0),FIND(\"-\",VLOOKUP(DD1,仕様の整理!$C:$E,3,0),FIND(\"-\",VLOOKUP(DD1,仕様の整理!$C:$E,3,0))+1)-1),VLOOKUP(DD1,仕様の整理!$C:$E,3,0))","v":"KT-200060"},{"$f":"VLOOKUP(DD1,仕様の整理!$C:$I,7,0)","v":"材料系"},{"$f":"IF(LEN(VLOOKUP(DF1,仕様の整理!$C:$E,3,0))-LEN(SUBSTITUTE(VLOOKUP(DF1,仕様の整理!$C:$E,3,0),\"-\",\"\"))>=2,LEFT(VLOOKUP(DF1,仕様の整理!$C:$E,3,0),FIND(\"-\",VLOOKUP(DF1,仕様の整理!$C:$E,3,0),FIND(\"-\",VLOOKUP(DF1,仕様の整理!$C:$E,3,0))+1)-1),VLOOKUP(DF1,仕様の整理!$C:$E,3,0))","v":"KT-200060"},{"$f":"VLOOKUP(DF1,仕様の整理!$C:$I,7,0)","v":"材料系"},{"$f":"IF(LEN(VLOOKUP(DH1,仕様の整理!$C:$E,3,0))-LEN(SUBSTITUTE(VLOOKUP(DH1,仕様の整理!$C:$E,3,0),\"-\",\"\"))>=2,LEFT(VLOOKUP(DH1,仕様の整理!$C:$E,3,0),FIND(\"-\",VLOOKUP(DH1,仕様の整理!$C:$E,3,0),FIND(\"-\",VLOOKUP(DH1,仕様の整理!$C:$E,3,0))+1)-1),VLOOKUP(DH1,仕様の整理!$C:$E,3,0))","v":"KT-200135"},{"$f":"VLOOKUP(DH1,仕様の整理!$C:$I,7,0)","v":"材料系"},{"$f":"IF(LEN(VLOOKUP(DJ1,仕様の整理!$C:$E,3,0))-LEN(SUBSTITUTE(VLOOKUP(DJ1,仕様の整理!$C:$E,3,0),\"-\",\"\"))>=2,LEFT(VLOOKUP(DJ1,仕様の整理!$C:$E,3,0),FIND(\"-\",VLOOKUP(DJ1,仕様の整理!$C:$E,3,0),FIND(\"-\",VLOOKUP(DJ1,仕様の整理!$C:$E,3,0))+1)-1),VLOOKUP(DJ1,仕様の整理!$C:$E,3,0))","v":"KT-200135"},{"$f":"VLOOKUP(DJ1,仕様の整理!$C:$I,7,0)","v":"材料系"},{"$f":"IF(LEN(VLOOKUP(DL1,仕様の整理!$C:$E,3,0))-LEN(SUBSTITUTE(VLOOKUP(DL1,仕様の整理!$C:$E,3,0),\"-\",\"\"))>=2,LEFT(VLOOKUP(DL1,仕様の整理!$C:$E,3,0),FIND(\"-\",VLOOKUP(DL1,仕様の整理!$C:$E,3,0),FIND(\"-\",VLOOKUP(DL1,仕様の整理!$C:$E,3,0))+1)-1),VLOOKUP(DL1,仕様の整理!$C:$E,3,0))","v":"KT-210043"},{"$f":"VLOOKUP(DL1,仕様の整理!$C:$I,7,0)","v":"材料系"},{"$f":"IF(LEN(VLOOKUP(DN1,仕様の整理!$C:$E,3,0))-LEN(SUBSTITUTE(VLOOKUP(DN1,仕様の整理!$C:$E,3,0),\"-\",\"\"))>=2,LEFT(VLOOKUP(DN1,仕様の整理!$C:$E,3,0),FIND(\"-\",VLOOKUP(DN1,仕様の整理!$C:$E,3,0),FIND(\"-\",VLOOKUP(DN1,仕様の整理!$C:$E,3,0))+1)-1),VLOOKUP(DN1,仕様の整理!$C:$E,3,0))","v":"KT-210043"},{"$f":"VLOOKUP(DN1,仕様の整理!$C:$I,7,0)","v":"材料系"},{"$f":"IF(LEN(VLOOKUP(DP1,仕様の整理!$C:$E,3,0))-LEN(SUBSTITUTE(VLOOKUP(DP1,仕様の整理!$C:$E,3,0),\"-\",\"\"))>=2,LEFT(VLOOKUP(DP1,仕様の整理!$C:$E,3,0),FIND(\"-\",VLOOKUP(DP1,仕様の整理!$C:$E,3,0),FIND(\"-\",VLOOKUP(DP1,仕様の整理!$C:$E,3,0))+1)-1),VLOOKUP(DP1,仕様の整理!$C:$E,3,0))","v":"KT-210043"},{"$f":"VLOOKUP(DP1,仕様の整理!$C:$I,7,0)","v":"材料系"},{"$f":"IF(LEN(VLOOKUP(DR1,仕様の整理!$C:$E,3,0))-LEN(SUBSTITUTE(VLOOKUP(DR1,仕様の整理!$C:$E,3,0),\"-\",\"\"))>=2,LEFT(VLOOKUP(DR1,仕様の整理!$C:$E,3,0),FIND(\"-\",VLOOKUP(DR1,仕様の整理!$C:$E,3,0),FIND(\"-\",VLOOKUP(DR1,仕様の整理!$C:$E,3,0))+1)-1),VLOOKUP(DR1,仕様の整理!$C:$E,3,0))","v":"KT-210043"},{"$f":"VLOOKUP(DR1,仕様の整理!$C:$I,7,0)","v":"材料系"},{"$f":"IF(LEN(VLOOKUP(DT1,仕様の整理!$C:$E,3,0))-LEN(SUBSTITUTE(VLOOKUP(DT1,仕様の整理!$C:$E,3,0),\"-\",\"\"))>=2,LEFT(VLOOKUP(DT1,仕様の整理!$C:$E,3,0),FIND(\"-\",VLOOKUP(DT1,仕様の整理!$C:$E,3,0),FIND(\"-\",VLOOKUP(DT1,仕様の整理!$C:$E,3,0))+1)-1),VLOOKUP(DT1,仕様の整理!$C:$E,3,0))","v":"QS-210042"},{"$f":"VLOOKUP(DT1,仕様の整理!$C:$I,7,0)","v":"材料系"},{"$f":"IF(LEN(VLOOKUP(DV1,仕様の整理!$C:$E,3,0))-LEN(SUBSTITUTE(VLOOKUP(DV1,仕様の整理!$C:$E,3,0),\"-\",\"\"))>=2,LEFT(VLOOKUP(DV1,仕様の整理!$C:$E,3,0),FIND(\"-\",VLOOKUP(DV1,仕様の整理!$C:$E,3,0),FIND(\"-\",VLOOKUP(DV1,仕様の整理!$C:$E,3,0))+1)-1),VLOOKUP(DV1,仕様の整理!$C:$E,3,0))","v":"QS-210042"},{"$f":"VLOOKUP(DV1,仕様の整理!$C:$I,7,0)","v":"材料系"},{"$f":"IF(LEN(VLOOKUP(DX1,仕様の整理!$C:$E,3,0))-LEN(SUBSTITUTE(VLOOKUP(DX1,仕様の整理!$C:$E,3,0),\"-\",\"\"))>=2,LEFT(VLOOKUP(DX1,仕様の整理!$C:$E,3,0),FIND(\"-\",VLOOKUP(DX1,仕様の整理!$C:$E,3,0),FIND(\"-\",VLOOKUP(DX1,仕様の整理!$C:$E,3,0))+1)-1),VLOOKUP(DX1,仕様の整理!$C:$E,3,0))","v":"KK-230010"},{"$f":"VLOOKUP(DX1,仕様の整理!$C:$I,7,0)","v":"材料系"},{"$f":"IF(LEN(VLOOKUP(DZ1,仕様の整理!$C:$E,3,0))-LEN(SUBSTITUTE(VLOOKUP(DZ1,仕様の整理!$C:$E,3,0),\"-\",\"\"))>=2,LEFT(VLOOKUP(DZ1,仕様の整理!$C:$E,3,0),FIND(\"-\",VLOOKUP(DZ1,仕様の整理!$C:$E,3,0),FIND(\"-\",VLOOKUP(DZ1,仕様の整理!$C:$E,3,0))+1)-1),VLOOKUP(DZ1,仕様の整理!$C:$E,3,0))","v":"KK-230010"},{"$f":"VLOOKUP(DZ1,仕様の整理!$C:$I,7,0)","v":"材料系"},{"$f":"IF(LEN(VLOOKUP(EB1,仕様の整理!$C:$E,3,0))-LEN(SUBSTITUTE(VLOOKUP(EB1,仕様の整理!$C:$E,3,0),\"-\",\"\"))>=2,LEFT(VLOOKUP(EB1,仕様の整理!$C:$E,3,0),FIND(\"-\",VLOOKUP(EB1,仕様の整理!$C:$E,3,0),FIND(\"-\",VLOOKUP(EB1,仕様の整理!$C:$E,3,0))+1)-1),VLOOKUP(EB1,仕様の整理!$C:$E,3,0))","v":"KK-230021"},{"$f":"VLOOKUP(EB1,仕様の整理!$C:$I,7,0)","v":"材料系"},{"$f":"IF(LEN(VLOOKUP(ED1,仕様の整理!$C:$E,3,0))-LEN(SUBSTITUTE(VLOOKUP(ED1,仕様の整理!$C:$E,3,0),\"-\",\"\"))>=2,LEFT(VLOOKUP(ED1,仕様の整理!$C:$E,3,0),FIND(\"-\",VLOOKUP(ED1,仕様の整理!$C:$E,3,0),FIND(\"-\",VLOOKUP(ED1,仕様の整理!$C:$E,3,0))+1)-1),VLOOKUP(ED1,仕様の整理!$C:$E,3,0))","v":"KK-230021"},{"$f":"VLOOKUP(ED1,仕様の整理!$C:$I,7,0)","v":"材料系"},{"$f":"IF(LEN(VLOOKUP(EF1,仕様の整理!$C:$E,3,0))-LEN(SUBSTITUTE(VLOOKUP(EF1,仕様の整理!$C:$E,3,0),\"-\",\"\"))>=2,LEFT(VLOOKUP(EF1,仕様の整理!$C:$E,3,0),FIND(\"-\",VLOOKUP(EF1,仕様の整理!$C:$E,3,0),FIND(\"-\",VLOOKUP(EF1,仕様の整理!$C:$E,3,0))+1)-1),VLOOKUP(EF1,仕様の整理!$C:$E,3,0))","v":"KT-230185"},{"$f":"VLOOKUP(EF1,仕様の整理!$C:$I,7,0)","v":"材料系"},{"$f":"IF(LEN(VLOOKUP(EH1,仕様の整理!$C:$E,3,0))-LEN(SUBSTITUTE(VLOOKUP(EH1,仕様の整理!$C:$E,3,0),\"-\",\"\"))>=2,LEFT(VLOOKUP(EH1,仕様の整理!$C:$E,3,0),FIND(\"-\",VLOOKUP(EH1,仕様の整理!$C:$E,3,0),FIND(\"-\",VLOOKUP(EH1,仕様の整理!$C:$E,3,0))+1)-1),VLOOKUP(EH1,仕様の整理!$C:$E,3,0))","v":"KT-230185"},{"$f":"VLOOKUP(EH1,仕様の整理!$C:$I,7,0)","v":"材料系"},{"$f":"IF(LEN(VLOOKUP(EJ1,仕様の整理!$C:$E,3,0))-LEN(SUBSTITUTE(VLOOKUP(EJ1,仕様の整理!$C:$E,3,0),\"-\",\"\"))>=2,LEFT(VLOOKUP(EJ1,仕様の整理!$C:$E,3,0),FIND(\"-\",VLOOKUP(EJ1,仕様の整理!$C:$E,3,0),FIND(\"-\",VLOOKUP(EJ1,仕様の整理!$C:$E,3,0))+1)-1),VLOOKUP(EJ1,仕様の整理!$C:$E,3,0))","v":"KT-230185"},{"$f":"VLOOKUP(EJ1,仕様の整理!$C:$I,7,0)","v":"材料系"},{"$f":"IF(LEN(VLOOKUP(EL1,仕様の整理!$C:$E,3,0))-LEN(SUBSTITUTE(VLOOKUP(EL1,仕様の整理!$C:$E,3,0),\"-\",\"\"))>=2,LEFT(VLOOKUP(EL1,仕様の整理!$C:$E,3,0),FIND(\"-\",VLOOKUP(EL1,仕様の整理!$C:$E,3,0),FIND(\"-\",VLOOKUP(EL1,仕様の整理!$C:$E,3,0))+1)-1),VLOOKUP(EL1,仕様の整理!$C:$E,3,0))","v":"TH-240004"},{"$f":"VLOOKUP(EL1,仕様の整理!$C:$I,7,0)","v":"材料系"},{"$f":"IF(LEN(VLOOKUP(EN1,仕様の整理!$C:$E,3,0))-LEN(SUBSTITUTE(VLOOKUP(EN1,仕様の整理!$C:$E,3,0),\"-\",\"\"))>=2,LEFT(VLOOKUP(EN1,仕様の整理!$C:$E,3,0),FIND(\"-\",VLOOKUP(EN1,仕様の整理!$C:$E,3,0),FIND(\"-\",VLOOKUP(EN1,仕様の整理!$C:$E,3,0))+1)-1),VLOOKUP(EN1,仕様の整理!$C:$E,3,0))","v":"TH-240004"},{"$f":"VLOOKUP(EN1,仕様の整理!$C:$I,7,0)","v":"材料系"},{"$f":"IF(LEN(VLOOKUP(EP1,仕様の整理!$C:$E,3,0))-LEN(SUBSTITUTE(VLOOKUP(EP1,仕様の整理!$C:$E,3,0),\"-\",\"\"))>=2,LEFT(VLOOKUP(EP1,仕様の整理!$C:$E,3,0),FIND(\"-\",VLOOKUP(EP1,仕様の整理!$C:$E,3,0),FIND(\"-\",VLOOKUP(EP1,仕様の整理!$C:$E,3,0))+1)-1),VLOOKUP(EP1,仕様の整理!$C:$E,3,0))","v":"KT-240091"},{"$f":"VLOOKUP(EP1,仕様の整理!$C:$I,7,0)","v":"材料系"},{"$f":"IF(LEN(VLOOKUP(ER1,仕様の整理!$C:$E,3,0))-LEN(SUBSTITUTE(VLOOKUP(ER1,仕様の整理!$C:$E,3,0),\"-\",\"\"))>=2,LEFT(VLOOKUP(ER1,仕様の整理!$C:$E,3,0),FIND(\"-\",VLOOKUP(ER1,仕様の整理!$C:$E,3,0),FIND(\"-\",VLOOKUP(ER1,仕様の整理!$C:$E,3,0))+1)-1),VLOOKUP(ER1,仕様の整理!$C:$E,3,0))","v":"KT-240091"},{"$f":"VLOOKUP(ER1,仕様の整理!$C:$I,7,0)","v":"材料系"},{"$f":"IF(LEN(VLOOKUP(ET1,仕様の整理!$C:$E,3,0))-LEN(SUBSTITUTE(VLOOKUP(ET1,仕様の整理!$C:$E,3,0),\"-\",\"\"))>=2,LEFT(VLOOKUP(ET1,仕様の整理!$C:$E,3,0),FIND(\"-\",VLOOKUP(ET1,仕様の整理!$C:$E,3,0),FIND(\"-\",VLOOKUP(ET1,仕様の整理!$C:$E,3,0))+1)-1),VLOOKUP(ET1,仕様の整理!$C:$E,3,0))","v":"KT-240091"},{"$f":"VLOOKUP(ET1,仕様の整理!$C:$I,7,0)","v":"材料系"},{"$f":"IF(LEN(VLOOKUP(EV1,仕様の整理!$C:$E,3,0))-LEN(SUBSTITUTE(VLOOKUP(EV1,仕様の整理!$C:$E,3,0),\"-\",\"\"))>=2,LEFT(VLOOKUP(EV1,仕様の整理!$C:$E,3,0),FIND(\"-\",VLOOKUP(EV1,仕様の整理!$C:$E,3,0),FIND(\"-\",VLOOKUP(EV1,仕様の整理!$C:$E,3,0))+1)-1),VLOOKUP(EV1,仕様の整理!$C:$E,3,0))","v":"KT-240091"},{"$f":"VLOOKUP(EV1,仕様の整理!$C:$I,7,0)","v":"材料系"},{"$f":"IF(LEN(VLOOKUP(EX1,仕様の整理!$C:$E,3,0))-LEN(SUBSTITUTE(VLOOKUP(EX1,仕様の整理!$C:$E,3,0),\"-\",\"\"))>=2,LEFT(VLOOKUP(EX1,仕様の整理!$C:$E,3,0),FIND(\"-\",VLOOKUP(EX1,仕様の整理!$C:$E,3,0),FIND(\"-\",VLOOKUP(EX1,仕様の整理!$C:$E,3,0))+1)-1),VLOOKUP(EX1,仕様の整理!$C:$E,3,0))","v":"KT-240091"},{"$f":"VLOOKUP(EX1,仕様の整理!$C:$I,7,0)","v":"材料系"},{"$f":"IF(LEN(VLOOKUP(EZ1,仕様の整理!$C:$E,3,0))-LEN(SUBSTITUTE(VLOOKUP(EZ1,仕様の整理!$C:$E,3,0),\"-\",\"\"))>=2,LEFT(VLOOKUP(EZ1,仕様の整理!$C:$E,3,0),FIND(\"-\",VLOOKUP(EZ1,仕様の整理!$C:$E,3,0),FIND(\"-\",VLOOKUP(EZ1,仕様の整理!$C:$E,3,0))+1)-1),VLOOKUP(EZ1,仕様の整理!$C:$E,3,0))","v":"TH-240014"},{"$f":"VLOOKUP(EZ1,仕様の整理!$C:$I,7,0)","v":"材料系"},{"$f":"IF(LEN(VLOOKUP(FB1,仕様の整理!$C:$E,3,0))-LEN(SUBSTITUTE(VLOOKUP(FB1,仕様の整理!$C:$E,3,0),\"-\",\"\"))>=2,LEFT(VLOOKUP(FB1,仕様の整理!$C:$E,3,0),FIND(\"-\",VLOOKUP(FB1,仕様の整理!$C:$E,3,0),FIND(\"-\",VLOOKUP(FB1,仕様の整理!$C:$E,3,0))+1)-1),VLOOKUP(FB1,仕様の整理!$C:$E,3,0))","v":"TH-240014"},{"$f":"VLOOKUP(FB1,仕様の整理!$C:$I,7,0)","v":"材料系"},{"$f":"IF(LEN(VLOOKUP(FD1,仕様の整理!$C:$E,3,0))-LEN(SUBSTITUTE(VLOOKUP(FD1,仕様の整理!$C:$E,3,0),\"-\",\"\"))>=2,LEFT(VLOOKUP(FD1,仕様の整理!$C:$E,3,0),FIND(\"-\",VLOOKUP(FD1,仕様の整理!$C:$E,3,0),FIND(\"-\",VLOOKUP(FD1,仕様の整理!$C:$E,3,0))+1)-1),VLOOKUP(FD1,仕様の整理!$C:$E,3,0))","v":"TH-240014"},{"$f":"VLOOKUP(FD1,仕様の整理!$C:$I,7,0)","v":"材料系"},{"$f":"IF(LEN(VLOOKUP(FF1,仕様の整理!$C:$E,3,0))-LEN(SUBSTITUTE(VLOOKUP(FF1,仕様の整理!$C:$E,3,0),\"-\",\"\"))>=2,LEFT(VLOOKUP(FF1,仕様の整理!$C:$E,3,0),FIND(\"-\",VLOOKUP(FF1,仕様の整理!$C:$E,3,0),FIND(\"-\",VLOOKUP(FF1,仕様の整理!$C:$E,3,0))+1)-1),VLOOKUP(FF1,仕様の整理!$C:$E,3,0))","v":"TH-240014"},{"$f":"VLOOKUP(FF1,仕様の整理!$C:$I,7,0)","v":"材料系"},{"$f":"IF(LEN(VLOOKUP(FH1,仕様の整理!$C:$E,3,0))-LEN(SUBSTITUTE(VLOOKUP(FH1,仕様の整理!$C:$E,3,0),\"-\",\"\"))>=2,LEFT(VLOOKUP(FH1,仕様の整理!$C:$E,3,0),FIND(\"-\",VLOOKUP(FH1,仕様の整理!$C:$E,3,0),FIND(\"-\",VLOOKUP(FH1,仕様の整理!$C:$E,3,0))+1)-1),VLOOKUP(FH1,仕様の整理!$C:$E,3,0))","v":"KT-240137"},{"$f":"VLOOKUP(FH1,仕様の整理!$C:$I,7,0)","v":"材料系"},{"$f":"IF(LEN(VLOOKUP(FJ1,仕様の整理!$C:$E,3,0))-LEN(SUBSTITUTE(VLOOKUP(FJ1,仕様の整理!$C:$E,3,0),\"-\",\"\"))>=2,LEFT(VLOOKUP(FJ1,仕様の整理!$C:$E,3,0),FIND(\"-\",VLOOKUP(FJ1,仕様の整理!$C:$E,3,0),FIND(\"-\",VLOOKUP(FJ1,仕様の整理!$C:$E,3,0))+1)-1),VLOOKUP(FJ1,仕様の整理!$C:$E,3,0))","v":"KT-240137"},{"$f":"VLOOKUP(FJ1,仕様の整理!$C:$I,7,0)","v":"材料系"},{"$f":"IF(LEN(VLOOKUP(FL1,仕様の整理!$C:$E,3,0))-LEN(SUBSTITUTE(VLOOKUP(FL1,仕様の整理!$C:$E,3,0),\"-\",\"\"))>=2,LEFT(VLOOKUP(FL1,仕様の整理!$C:$E,3,0),FIND(\"-\",VLOOKUP(FL1,仕様の整理!$C:$E,3,0),FIND(\"-\",VLOOKUP(FL1,仕様の整理!$C:$E,3,0))+1)-1),VLOOKUP(FL1,仕様の整理!$C:$E,3,0))","v":"KT-240137"},{"$f":"VLOOKUP(FL1,仕様の整理!$C:$I,7,0)","v":"材料系"},{"$f":"IF(LEN(VLOOKUP(FN1,仕様の整理!$C:$E,3,0))-LEN(SUBSTITUTE(VLOOKUP(FN1,仕様の整理!$C:$E,3,0),\"-\",\"\"))>=2,LEFT(VLOOKUP(FN1,仕様の整理!$C:$E,3,0),FIND(\"-\",VLOOKUP(FN1,仕様の整理!$C:$E,3,0),FIND(\"-\",VLOOKUP(FN1,仕様の整理!$C:$E,3,0))+1)-1),VLOOKUP(FN1,仕様の整理!$C:$E,3,0))","v":"KT-240137"},{"$f":"VLOOKUP(FN1,仕様の整理!$C:$I,7,0)","v":"材料系"},{"$f":"IF(LEN(VLOOKUP(FP1,仕様の整理!$C:$E,3,0))-LEN(SUBSTITUTE(VLOOKUP(FP1,仕様の整理!$C:$E,3,0),\"-\",\"\"))>=2,LEFT(VLOOKUP(FP1,仕様の整理!$C:$E,3,0),FIND(\"-\",VLOOKUP(FP1,仕様の整理!$C:$E,3,0),FIND(\"-\",VLOOKUP(FP1,仕様の整理!$C:$E,3,0))+1)-1),VLOOKUP(FP1,仕様の整理!$C:$E,3,0))","v":"KT-240137"},{"$f":"VLOOKUP(FP1,仕様の整理!$C:$I,7,0)","v":"材料系"},{"$f":"IF(LEN(VLOOKUP(FR1,仕様の整理!$C:$E,3,0))-LEN(SUBSTITUTE(VLOOKUP(FR1,仕様の整理!$C:$E,3,0),\"-\",\"\"))>=2,LEFT(VLOOKUP(FR1,仕様の整理!$C:$E,3,0),FIND(\"-\",VLOOKUP(FR1,仕様の整理!$C:$E,3,0),FIND(\"-\",VLOOKUP(FR1,仕様の整理!$C:$E,3,0))+1)-1),VLOOKUP(FR1,仕様の整理!$C:$E,3,0))","v":"KT-240137"},{"$f":"VLOOKUP(FR1,仕様の整理!$C:$I,7,0)","v":"材料系"},{"$f":"IF(LEN(VLOOKUP(FT1,仕様の整理!$C:$E,3,0))-LEN(SUBSTITUTE(VLOOKUP(FT1,仕様の整理!$C:$E,3,0),\"-\",\"\"))>=2,LEFT(VLOOKUP(FT1,仕様の整理!$C:$E,3,0),FIND(\"-\",VLOOKUP(FT1,仕様の整理!$C:$E,3,0),FIND(\"-\",VLOOKUP(FT1,仕様の整理!$C:$E,3,0))+1)-1),VLOOKUP(FT1,仕様の整理!$C:$E,3,0))","v":"TH-250017"},{"$f":"VLOOKUP(FT1,仕様の整理!$C:$I,7,0)","v":"材料系"},{"$f":"IF(LEN(VLOOKUP(FV1,仕様の整理!$C:$E,3,0))-LEN(SUBSTITUTE(VLOOKUP(FV1,仕様の整理!$C:$E,3,0),\"-\",\"\"))>=2,LEFT(VLOOKUP(FV1,仕様の整理!$C:$E,3,0),FIND(\"-\",VLOOKUP(FV1,仕様の整理!$C:$E,3,0),FIND(\"-\",VLOOKUP(FV1,仕様の整理!$C:$E,3,0))+1)-1),VLOOKUP(FV1,仕様の整理!$C:$E,3,0))","v":"TH-250017"},{"$f":"VLOOKUP(FV1,仕様の整理!$C:$I,7,0)","v":"材料系"},{"$f":"IF(LEN(VLOOKUP(FX1,仕様の整理!$C:$E,3,0))-LEN(SUBSTITUTE(VLOOKUP(FX1,仕様の整理!$C:$E,3,0),\"-\",\"\"))>=2,LEFT(VLOOKUP(FX1,仕様の整理!$C:$E,3,0),FIND(\"-\",VLOOKUP(FX1,仕様の整理!$C:$E,3,0),FIND(\"-\",VLOOKUP(FX1,仕様の整理!$C:$E,3,0))+1)-1),VLOOKUP(FX1,仕様の整理!$C:$E,3,0))","v":"TH-250017"},{"$f":"VLOOKUP(FX1,仕様の整理!$C:$I,7,0)","v":"材料系"},{"$f":"IF(LEN(VLOOKUP(FZ1,仕様の整理!$C:$E,3,0))-LEN(SUBSTITUTE(VLOOKUP(FZ1,仕様の整理!$C:$E,3,0),\"-\",\"\"))>=2,LEFT(VLOOKUP(FZ1,仕様の整理!$C:$E,3,0),FIND(\"-\",VLOOKUP(FZ1,仕様の整理!$C:$E,3,0),FIND(\"-\",VLOOKUP(FZ1,仕様の整理!$C:$E,3,0))+1)-1),VLOOKUP(FZ1,仕様の整理!$C:$E,3,0))","v":"TH-250017"},{"$f":"VLOOKUP(FZ1,仕様の整理!$C:$I,7,0)","v":"材料系"},{"$f":"IF(LEN(VLOOKUP(GB1,仕様の整理!$C:$E,3,0))-LEN(SUBSTITUTE(VLOOKUP(GB1,仕様の整理!$C:$E,3,0),\"-\",\"\"))>=2,LEFT(VLOOKUP(GB1,仕様の整理!$C:$E,3,0),FIND(\"-\",VLOOKUP(GB1,仕様の整理!$C:$E,3,0),FIND(\"-\",VLOOKUP(GB1,仕様の整理!$C:$E,3,0))+1)-1),VLOOKUP(GB1,仕様の整理!$C:$E,3,0))","v":"TH-250017"},{"$f":"VLOOKUP(GB1,仕様の整理!$C:$I,7,0)","v":"材料系"},{"$f":"IF(LEN(VLOOKUP(GD1,仕様の整理!$C:$E,3,0))-LEN(SUBSTITUTE(VLOOKUP(GD1,仕様の整理!$C:$E,3,0),\"-\",\"\"))>=2,LEFT(VLOOKUP(GD1,仕様の整理!$C:$E,3,0),FIND(\"-\",VLOOKUP(GD1,仕様の整理!$C:$E,3,0),FIND(\"-\",VLOOKUP(GD1,仕様の整理!$C:$E,3,0))+1)-1),VLOOKUP(GD1,仕様の整理!$C:$E,3,0))","v":"TH-250018"},{"$f":"VLOOKUP(GD1,仕様の整理!$C:$I,7,0)","v":"材料系"},{"$f":"IF(LEN(VLOOKUP(GF1,仕様の整理!$C:$E,3,0))-LEN(SUBSTITUTE(VLOOKUP(GF1,仕様の整理!$C:$E,3,0),\"-\",\"\"))>=2,LEFT(VLOOKUP(GF1,仕様の整理!$C:$E,3,0),FIND(\"-\",VLOOKUP(GF1,仕様の整理!$C:$E,3,0),FIND(\"-\",VLOOKUP(GF1,仕様の整理!$C:$E,3,0))+1)-1),VLOOKUP(GF1,仕様の整理!$C:$E,3,0))","v":"TH-250018"},{"$f":"VLOOKUP(GF1,仕様の整理!$C:$I,7,0)","v":"材料系"},{"$f":"IF(LEN(VLOOKUP(GH1,仕様の整理!$C:$E,3,0))-LEN(SUBSTITUTE(VLOOKUP(GH1,仕様の整理!$C:$E,3,0),\"-\",\"\"))>=2,LEFT(VLOOKUP(GH1,仕様の整理!$C:$E,3,0),FIND(\"-\",VLOOKUP(GH1,仕様の整理!$C:$E,3,0),FIND(\"-\",VLOOKUP(GH1,仕様の整理!$C:$E,3,0))+1)-1),VLOOKUP(GH1,仕様の整理!$C:$E,3,0))","v":"TH-250018"},{"$f":"VLOOKUP(GH1,仕様の整理!$C:$I,7,0)","v":"材料系"},{"$f":"IF(LEN(VLOOKUP(GJ1,仕様の整理!$C:$E,3,0))-LEN(SUBSTITUTE(VLOOKUP(GJ1,仕様の整理!$C:$E,3,0),\"-\",\"\"))>=2,LEFT(VLOOKUP(GJ1,仕様の整理!$C:$E,3,0),FIND(\"-\",VLOOKUP(GJ1,仕様の整理!$C:$E,3,0),FIND(\"-\",VLOOKUP(GJ1,仕様の整理!$C:$E,3,0))+1)-1),VLOOKUP(GJ1,仕様の整理!$C:$E,3,0))","v":"TH-250018"},{"$f":"VLOOKUP(GJ1,仕様の整理!$C:$I,7,0)","v":"材料系"}]
[null,null,null,null,null,{"$f":"IFERROR(\"作成日：\"&VLOOKUP(F$1,仕様の整理!$C:$N,6,0),\"-\")","v":"作成日：令和7年8月"},null,{"$f":"IFERROR(\"作成日：\"&VLOOKUP(H$1,仕様の整理!$C:$N,6,0),\"-\")","v":"作成日：令和7年8月"},null,{"$f":"IFERROR(\"作成日：\"&VLOOKUP(J$1,仕様の整理!$C:$N,6,0),\"-\")","v":"作成日：令和7年8月"},null,{"$f":"IFERROR(\"作成日：\"&VLOOKUP(L$1,仕様の整理!$C:$N,6,0),\"-\")","v":"作成日：令和7年8月"},null,{"$f":"IFERROR(\"作成日：\"&VLOOKUP(N$1,仕様の整理!$C:$N,6,0),\"-\")","v":"作成日：令和7年8月"},null,{"$f":"IFERROR(\"作成日：\"&VLOOKUP(P$1,仕様の整理!$C:$N,6,0),\"-\")","v":"作成日：令和7年8月"},null,{"$f":"IFERROR(\"作成日：\"&VLOOKUP(R$1,仕様の整理!$C:$N,6,0),\"-\")","v":"作成日：令和7年8月"},null,{"$f":"IFERROR(\"作成日：\"&VLOOKUP(T$1,仕様の整理!$C:$N,6,0),\"-\")","v":"作成日：令和7年8月"},null,{"$f":"IFERROR(\"作成日：\"&VLOOKUP(V$1,仕様の整理!$C:$N,6,0),\"-\")","v":"作成日：令和7年8月"},null,{"$f":"IFERROR(\"作成日：\"&VLOOKUP(X$1,仕様の整理!$C:$N,6,0),\"-\")","v":"作成日：令和7年8月"},null,{"$f":"IFERROR(\"作成日：\"&VLOOKUP(Z$1,仕様の整理!$C:$N,6,0),\"-\")","v":"作成日：令和7年8月"},null,{"$f":"IFERROR(\"作成日：\"&VLOOKUP(AB$1,仕様の整理!$C:$N,6,0),\"-\")","v":"作成日：令和5年12月"},null,{"$f":"IFERROR(\"作成日：\"&VLOOKUP(AD$1,仕様の整理!$C:$N,6,0),\"-\")","v":"作成日：令和5年12月"},null,{"$f":"IFERROR(\"作成日：\"&VLOOKUP(AF$1,仕様の整理!$C:$N,6,0),\"-\")","v":"作成日：令和7年11月"},null,{"$f":"IFERROR(\"作成日：\"&VLOOKUP(AH$1,仕様の整理!$C:$N,6,0),\"-\")","v":"作成日：令和7年11月"},null,{"$f":"IFERROR(\"作成日：\"&VLOOKUP(AJ$1,仕様の整理!$C:$N,6,0),\"-\")","v":"作成日：令和7年11月"},null,{"$f":"IFERROR(\"作成日：\"&VLOOKUP(AL$1,仕様の整理!$C:$N,6,0),\"-\")","v":"作成日：令和7年11月"},null,{"$f":"IFERROR(\"作成日：\"&VLOOKUP(AN$1,仕様の整理!$C:$N,6,0),\"-\")","v":"作成日：令和7年10月"},null,{"$f":"IFERROR(\"作成日：\"&VLOOKUP(AP$1,仕様の整理!$C:$N,6,0),\"-\")","v":"作成日：令和7年10月"},null,{"$f":"IFERROR(\"作成日：\"&VLOOKUP(AR$1,仕様の整理!$C:$N,6,0),\"-\")","v":"作成日：令和7年10月"},null,{"$f":"IFERROR(\"作成日：\"&VLOOKUP(AT$1,仕様の整理!$C:$N,6,0),\"-\")","v":"作成日：令和7年10月"},null,{"$f":"IFERROR(\"作成日：\"&VLOOKUP(AV$1,仕様の整理!$C:$N,6,0),\"-\")","v":"作成日：令和7年10月"},null,{"$f":"IFERROR(\"作成日：\"&VLOOKUP(AX$1,仕様の整理!$C:$N,6,0),\"-\")","v":"作成日：令和7年10月"},null,{"$f":"IFERROR(\"作成日：\"&VLOOKUP(AZ$1,仕様の整理!$C:$N,6,0),\"-\")","v":"作成日：令和7年10月"},null,{"$f":"IFERROR(\"作成日：\"&VLOOKUP(BB$1,仕様の整理!$C:$N,6,0),\"-\")","v":"作成日：令和7年10月"},null,{"$f":"IFERROR(\"作成日：\"&VLOOKUP(BD$1,仕様の整理!$C:$N,6,0),\"-\")","v":"作成日：令和7年10月"},null,{"$f":"IFERROR(\"作成日：\"&VLOOKUP(BF$1,仕様の整理!$C:$N,6,0),\"-\")","v":"作成日：令和7年10月"},null,{"$f":"IFERROR(\"作成日：\"&VLOOKUP(BH$1,仕様の整理!$C:$N,6,0),\"-\")","v":"作成日：令和7年10月"},null,{"$f":"IFERROR(\"作成日：\"&VLOOKUP(BJ$1,仕様の整理!$C:$N,6,0),\"-\")","v":"作成日：令和7年10月"},null,{"$f":"IFERROR(\"作成日：\"&VLOOKUP(BL$1,仕様の整理!$C:$N,6,0),\"-\")","v":"作成日：令和7年10月"},null,{"$f":"IFERROR(\"作成日：\"&VLOOKUP(BN$1,仕様の整理!$C:$N,6,0),\"-\")","v":"作成日：令和7年10月"},null,{"$f":"IFERROR(\"作成日：\"&VLOOKUP(BP$1,仕様の整理!$C:$N,6,0),\"-\")","v":"作成日：令和7年10月"},null,{"$f":"IFERROR(\"作成日：\"&VLOOKUP(BR$1,仕様の整理!$C:$N,6,0),\"-\")","v":"作成日：令和7年10月"},null,{"$f":"IFERROR(\"作成日：\"&VLOOKUP(BT$1,仕様の整理!$C:$N,6,0),\"-\")","v":"作成日：令和7年10月"},null,{"$f":"IFERROR(\"作成日：\"&VLOOKUP(BV$1,仕様の整理!$C:$N,6,0),\"-\")","v":"作成日：令和7年10月"},null,{"$f":"IFERROR(\"作成日：\"&VLOOKUP(BX$1,仕様の整理!$C:$N,6,0),\"-\")","v":"作成日：令和7年10月"},null,{"$f":"IFERROR(\"作成日：\"&VLOOKUP(BZ$1,仕様の整理!$C:$N,6,0),\"-\")","v":"作成日：令和7年10月"},null,{"$f":"IFERROR(\"作成日：\"&VLOOKUP(CB$1,仕様の整理!$C:$N,6,0),\"-\")","v":"作成日：令和7年10月"},null,{"$f":"IFERROR(\"作成日：\"&VLOOKUP(CD$1,仕様の整理!$C:$N,6,0),\"-\")","v":"作成日：令和7年10月"},null,{"$f":"IFERROR(\"作成日：\"&VLOOKUP(CF$1,仕様の整理!$C:$N,6,0),\"-\")","v":"作成日：令和7年10月"},null,{"$f":"IFERROR(\"作成日：\"&VLOOKUP(CH$1,仕様の整理!$C:$N,6,0),\"-\")","v":"作成日：令和7年10月"},null,{"$f":"IFERROR(\"作成日：\"&VLOOKUP(CJ$1,仕様の整理!$C:$N,6,0),\"-\")","v":"作成日：令和7年10月"},null,{"$f":"IFERROR(\"作成日：\"&VLOOKUP(CL$1,仕様の整理!$C:$N,6,0),\"-\")","v":"作成日：令和7年10月"},null,{"$f":"IFERROR(\"作成日：\"&VLOOKUP(CN$1,仕様の整理!$C:$N,6,0),\"-\")","v":"作成日：令和7年10月"},null,{"$f":"IFERROR(\"作成日：\"&VLOOKUP(CP$1,仕様の整理!$C:$N,6,0),\"-\")","v":"作成日：令和7年10月"},null,{"$f":"IFERROR(\"作成日：\"&VLOOKUP(CR$1,仕様の整理!$C:$N,6,0),\"-\")","v":"作成日：令和7年10月"},null,{"$f":"IFERROR(\"作成日：\"&VLOOKUP(CT$1,仕様の整理!$C:$N,6,0),\"-\")","v":"作成日：令和7年10月"},null,{"$f":"IFERROR(\"作成日：\"&VLOOKUP(CV$1,仕様の整理!$C:$N,6,0),\"-\")","v":"作成日：令和7年10月"},null,{"$f":"IFERROR(\"作成日：\"&VLOOKUP(CX$1,仕様の整理!$C:$N,6,0),\"-\")","v":"作成日：令和7年10月"},null,{"$f":"IFERROR(\"作成日：\"&VLOOKUP(CZ$1,仕様の整理!$C:$N,6,0),\"-\")","v":"作成日：令和7年10月"},null,{"$f":"IFERROR(\"作成日：\"&VLOOKUP(DB$1,仕様の整理!$C:$N,6,0),\"-\")","v":"作成日：令和7年10月"},null,{"$f":"IFERROR(\"作成日：\"&VLOOKUP(DD$1,仕様の整理!$C:$N,6,0),\"-\")","v":"作成日：令和7年10月"},null,{"$f":"IFERROR(\"作成日：\"&VLOOKUP(DF$1,仕様の整理!$C:$N,6,0),\"-\")","v":"作成日：令和7年10月"},null,{"$f":"IFERROR(\"作成日：\"&VLOOKUP(DH$1,仕様の整理!$C:$N,6,0),\"-\")","v":"作成日：令和7年10月"},null,{"$f":"IFERROR(\"作成日：\"&VLOOKUP(DJ$1,仕様の整理!$C:$N,6,0),\"-\")","v":"作成日：令和7年10月"},null,{"$f":"IFERROR(\"作成日：\"&VLOOKUP(DL$1,仕様の整理!$C:$N,6,0),\"-\")","v":"作成日：令和7年10月"},null,{"$f":"IFERROR(\"作成日：\"&VLOOKUP(DN$1,仕様の整理!$C:$N,6,0),\"-\")","v":"作成日：令和7年10月"},null,{"$f":"IFERROR(\"作成日：\"&VLOOKUP(DP$1,仕様の整理!$C:$N,6,0),\"-\")","v":"作成日：令和7年10月"},null,{"$f":"IFERROR(\"作成日：\"&VLOOKUP(DR$1,仕様の整理!$C:$N,6,0),\"-\")","v":"作成日：令和7年10月"},null,{"$f":"IFERROR(\"作成日：\"&VLOOKUP(DT$1,仕様の整理!$C:$N,6,0),\"-\")","v":"作成日：令和7年10月"},null,{"$f":"IFERROR(\"作成日：\"&VLOOKUP(DV$1,仕様の整理!$C:$N,6,0),\"-\")","v":"作成日：令和7年10月"},null,{"$f":"IFERROR(\"作成日：\"&VLOOKUP(DX$1,仕様の整理!$C:$N,6,0),\"-\")","v":"作成日：令和7年10月"},null,{"$f":"IFERROR(\"作成日：\"&VLOOKUP(DZ$1,仕様の整理!$C:$N,6,0),\"-\")","v":"作成日：令和7年10月"},null,{"$f":"IFERROR(\"作成日：\"&VLOOKUP(EB$1,仕様の整理!$C:$N,6,0),\"-\")","v":"作成日：令和7年10月"},null,{"$f":"IFERROR(\"作成日：\"&VLOOKUP(ED$1,仕様の整理!$C:$N,6,0),\"-\")","v":"作成日：令和7年10月"},null,{"$f":"IFERROR(\"作成日：\"&VLOOKUP(EF$1,仕様の整理!$C:$N,6,0),\"-\")","v":"作成日：令和7年12月"},null,{"$f":"IFERROR(\"作成日：\"&VLOOKUP(EH$1,仕様の整理!$C:$N,6,0),\"-\")","v":"作成日：令和7年12月"},null,{"$f":"IFERROR(\"作成日：\"&VLOOKUP(EJ$1,仕様の整理!$C:$N,6,0),\"-\")","v":"作成日：令和7年12月"},null,{"$f":"IFERROR(\"作成日：\"&VLOOKUP(EL$1,仕様の整理!$C:$N,6,0),\"-\")","v":"作成日：令和7年12月"},null,{"$f":"IFERROR(\"作成日：\"&VLOOKUP(EN$1,仕様の整理!$C:$N,6,0),\"-\")","v":"作成日：令和7年12月"},null,{"$f":"IFERROR(\"作成日：\"&VLOOKUP(EP$1,仕様の整理!$C:$N,6,0),\"-\")","v":"作成日：令和7年12月"},null,{"$f":"IFERROR(\"作成日：\"&VLOOKUP(ER$1,仕様の整理!$C:$N,6,0),\"-\")","v":"作成日：令和7年12月"},null,{"$f":"IFERROR(\"作成日：\"&VLOOKUP(ET$1,仕様の整理!$C:$N,6,0),\"-\")","v":"作成日：令和7年12月"},null,{"$f":"IFERROR(\"作成日：\"&VLOOKUP(EV$1,仕様の整理!$C:$N,6,0),\"-\")","v":"作成日：令和7年12月"},null,{"$f":"IFERROR(\"作成日：\"&VLOOKUP(EX$1,仕様の整理!$C:$N,6,0),\"-\")","v":"作成日：令和7年12月"},null,{"$f":"IFERROR(\"作成日：\"&VLOOKUP(EZ$1,仕様の整理!$C:$N,6,0),\"-\")","v":"作成日：令和7年12月"},null,{"$f":"IFERROR(\"作成日：\"&VLOOKUP(FB$1,仕様の整理!$C:$N,6,0),\"-\")","v":"作成日：令和7年12月"},null,{"$f":"IFERROR(\"作成日：\"&VLOOKUP(FD$1,仕様の整理!$C:$N,6,0),\"-\")","v":"作成日：令和7年12月"},null,{"$f":"IFERROR(\"作成日：\"&VLOOKUP(FF$1,仕様の整理!$C:$N,6,0),\"-\")","v":"作成日：令和7年12月"},null,{"$f":"IFERROR(\"作成日：\"&VLOOKUP(FH$1,仕様の整理!$C:$N,6,0),\"-\")","v":"作成日：令和6年12月"},null,{"$f":"IFERROR(\"作成日：\"&VLOOKUP(FJ$1,仕様の整理!$C:$N,6,0),\"-\")","v":"作成日：令和6年12月"},null,{"$f":"IFERROR(\"作成日：\"&VLOOKUP(FL$1,仕様の整理!$C:$N,6,0),\"-\")","v":"作成日：令和6年12月"},null,{"$f":"IFERROR(\"作成日：\"&VLOOKUP(FN$1,仕様の整理!$C:$N,6,0),\"-\")","v":"作成日：令和6年12月"},null,{"$f":"IFERROR(\"作成日：\"&VLOOKUP(FP$1,仕様の整理!$C:$N,6,0),\"-\")","v":"作成日：令和6年12月"},null,{"$f":"IFERROR(\"作成日：\"&VLOOKUP(FR$1,仕様の整理!$C:$N,6,0),\"-\")","v":"作成日：令和6年12月"},null,{"$f":"IFERROR(\"作成日：\"&VLOOKUP(FT$1,仕様の整理!$C:$N,6,0),\"-\")","v":"作成日：令和7年10月"},null,{"$f":"IFERROR(\"作成日：\"&VLOOKUP(FV$1,仕様の整理!$C:$N,6,0),\"-\")","v":"作成日：令和7年10月"},null,{"$f":"IFERROR(\"作成日：\"&VLOOKUP(FX$1,仕様の整理!$C:$N,6,0),\"-\")","v":"作成日：令和7年10月"},null,{"$f":"IFERROR(\"作成日：\"&VLOOKUP(FZ$1,仕様の整理!$C:$N,6,0),\"-\")","v":"作成日：令和7年10月"},null,{"$f":"IFERROR(\"作成日：\"&VLOOKUP(GB$1,仕様の整理!$C:$N,6,0),\"-\")","v":"作成日：令和7年10月"},null,{"$f":"IFERROR(\"作成日：\"&VLOOKUP(GD$1,仕様の整理!$C:$N,6,0),\"-\")","v":"作成日：令和7年11月"},null,{"$f":"IFERROR(\"作成日：\"&VLOOKUP(GF$1,仕様の整理!$C:$N,6,0),\"-\")","v":"作成日：令和7年11月"},null,{"$f":"IFERROR(\"作成日：\"&VLOOKUP(GH$1,仕様の整理!$C:$N,6,0),\"-\")","v":"作成日：令和7年11月"},null,{"$f":"IFERROR(\"作成日：\"&VLOOKUP(GJ$1,仕様の整理!$C:$N,6,0),\"-\")","v":"作成日：令和7年11月"}]
[null,null,null,null,null,{"$f":"IFERROR(VLOOKUP(F$1,仕様の整理!$C:$Z,21,0),\"-\")","v":"種類:機械系\n施工方式：定置式プラント方式\n施工仕様：良質土混合\n改良対象土：第4種建設発生土（コーン指数qc=300kN/m2程度、含水比60％程度）"},null,{"$f":"IFERROR(VLOOKUP(H$1,仕様の整理!$C:$Z,21,0),\"-\")","v":"種類:機械系\n施工方式：定置式プラント方式\n施工仕様：良質土混合・固化材添加\n改良対象土：泥土（コーン指数qc=200kN/m2程度、含水比100％程度）"},null,{"$f":"IFERROR(VLOOKUP(J$1,仕様の整理!$C:$Z,21,0),\"-\")","v":"種類:機械系\n施工方式：定置式プラント方式\n施工仕様：固化材添加\n改良対象土：第4種建設発生土（コーン指数qc=300kN/m2程度、含水比60％程度）"},null,{"$f":"IFERROR(VLOOKUP(L$1,仕様の整理!$C:$Z,21,0),\"-\")","v":"種類:機械系\n施工方式：定置式プラント方式\n施工仕様：良質土混合\n改良対象土：第4種建設発生土（コーン指数qc=300kN/m2程度、含水比60％程度）"},null,{"$f":"IFERROR(VLOOKUP(N$1,仕様の整理!$C:$Z,21,0),\"-\")","v":"種類:機械系\n施工方式：定置式プラント方式\n施工仕様：良質土混合・固化材添加\n改良対象土：第4種建設発生土（コーン指数qc=300kN/m2程度、含水比60％程度）"},null,{"$f":"IFERROR(VLOOKUP(P$1,仕様の整理!$C:$Z,21,0),\"-\")","v":"種類:機械系\n施工方式：自走式プラント方式\n施工仕様：固化材添加\n改良対象土：第4種建設発生土（コーン指数qc=300kN/m2程度、含水比60％程度）"},null,{"$f":"IFERROR(VLOOKUP(R$1,仕様の整理!$C:$Z,21,0),\"-\")","v":"種類:機械系\n施工方式：定置式プラント方式\n施工仕様：固化材添加\n改良対象土：泥土（コーン指数qc=200kN/m2程度、含水比100％程度）"},null,{"$f":"IFERROR(VLOOKUP(T$1,仕様の整理!$C:$Z,21,0),\"-\")","v":"種類:機械系\n施工方式：自走式プラント方式\n施工仕様：良質土混合\n改良対象土：第4種建設発生土（コーン指数qc=300kN/m2程度、含水比60％程度）"},null,{"$f":"IFERROR(VLOOKUP(V$1,仕様の整理!$C:$Z,21,0),\"-\")","v":"種類:機械系\n施工方式：自走式プラント方式\n施工仕様：良質土混合・固化材添加\n改良対象土：第4種建設発生土（コーン指数qc=300kN/m2程度、含水比60％程度）"},null,{"$f":"IFERROR(VLOOKUP(X$1,仕様の整理!$C:$Z,21,0),\"-\")","v":"種類:機械系\n施工方式：自走式プラント方式\n施工仕様：良質土混合\n改良対象土：第4種建設発生土（コーン指数qc=300kN/m2程度、含水比60％程度）"},null,{"$f":"IFERROR(VLOOKUP(Z$1,仕様の整理!$C:$Z,21,0),\"-\")","v":"種類:機械系\n施工方式：自走式プラント方式\n施工仕様：良質土混合\n改良対象土：泥土（コーン指数qc=200kN/m2程度、含水比100％程度）"},null,{"$f":"IFERROR(VLOOKUP(AB$1,仕様の整理!$C:$Z,21,0),\"-\")","v":"種類:機械系\n施工方式：定置式プラント方式\n施工仕様：／\n改良対象土：第4種建設発生土（コーン指数qc=300kN/m2程度、含水比60％程度）"},null,{"$f":"IFERROR(VLOOKUP(AD$1,仕様の整理!$C:$Z,21,0),\"-\")","v":"種類:機械系\n施工方式：定置式プラント方式\n施工仕様：／\n改良対象土：泥土（コーン指数qc=200kN/m2程度、含水比100％程度）"},null,{"$f":"IFERROR(VLOOKUP(AF$1,仕様の整理!$C:$Z,21,0),\"-\")","v":"種類:材料系\n改良対象土：第4種建設発生土（コーン指数qc=200kN/m2程度、含水比60％程度）（第3種改良土（コーン指数400kN/m2以上）への改良）"},null,{"$f":"IFERROR(VLOOKUP(AH$1,仕様の整理!$C:$Z,21,0),\"-\")","v":"種類:材料系\n改良対象土：泥土（コーン指数qc=100kN/m2程度、含水比100％程度）（第3種改良土（コーン指数400kN/m2以上）への改良）"},null,{"$f":"IFERROR(VLOOKUP(AJ$1,仕様の整理!$C:$Z,21,0),\"-\")","v":"種類:材料系\n改良対象土：第4種建設発生土（コーン指数qc=200kN/m2程度、含水比60％程度）（第3種改良土（コーン指数400kN/m2以上）への改良）"},null,{"$f":"IFERROR(VLOOKUP(AL$1,仕様の整理!$C:$Z,21,0),\"-\")","v":"種類:材料系\n改良対象土：泥土（コーン指数qc=100kN/m2程度、含水比100％程度）（第3種改良土（コーン指数400kN/m2以上）への改良）"},null,{"$f":"IFERROR(VLOOKUP(AN$1,仕様の整理!$C:$Z,21,0),\"-\")","v":"種類:材料系\n改良対象土：泥土（コーン指数qc=100kN/m2程度、含水比100％程度）（第3種改良土（コーン指数400kN/m2以上）への改良）"},null,{"$f":"IFERROR(VLOOKUP(AP$1,仕様の整理!$C:$Z,21,0),\"-\")","v":"種類:材料系\n改良対象土：泥土（コーン指数qc=100kN/m2程度、含水比100％程度）（第3種改良土（コーン指数400kN/m2以上）への改良）"},null,{"$f":"IFERROR(VLOOKUP(AR$1,仕様の整理!$C:$Z,21,0),\"-\")","v":"種類:材料系\n改良対象土：第4種建設発生土（コーン指数qc=200kN/m2程度、含水比60％程度）（第3種改良土（コーン指数400kN/m2以上）への改良）"},null,{"$f":"IFERROR(VLOOKUP(AT$1,仕様の整理!$C:$Z,21,0),\"-\")","v":"種類:材料系\n改良対象土：泥土（コーン指数qc=100kN/m2程度、含水比100％程度）（第3種改良土（コーン指数400kN/m2以上）への改良）"},null,{"$f":"IFERROR(VLOOKUP(AV$1,仕様の整理!$C:$Z,21,0),\"-\")","v":"種類:材料系\n改良対象土：第4種建設発生土（コーン指数qc=200kN/m2程度、含水比60％程度）（第3種改良土（コーン指数400kN/m2以上）への改良）"},null,{"$f":"IFERROR(VLOOKUP(AX$1,仕様の整理!$C:$Z,21,0),\"-\")","v":"種類:材料系\n改良対象土：泥土（コーン指数qc=100kN/m2程度、含水比100％程度）（第3種改良土（コーン指数400kN/m2以上）への改良）"},null,{"$f":"IFERROR(VLOOKUP(AZ$1,仕様の整理!$C:$Z,21,0),\"-\")","v":"種類:材料系\n改良対象土：第4種建設発生土（コーン指数qc=200kN/m2程度、含水比60％程度）（第3種改良土（コーン指数400kN/m2以上）への改良）"},null,{"$f":"IFERROR(VLOOKUP(BB$1,仕様の整理!$C:$Z,21,0),\"-\")","v":"種類:材料系\n改良対象土：泥土（コーン指数qc=100kN/m2程度、含水比100％程度）（第3種改良土（コーン指数400kN/m2以上）への改良）"},null,{"$f":"IFERROR(VLOOKUP(BD$1,仕様の整理!$C:$Z,21,0),\"-\")","v":"種類:材料系\n改良対象土：第4種建設発生土（コーン指数qc=200kN/m2程度、含水比60％程度）（第3種改良土（コーン指数400kN/m2以上）への改良）"},null,{"$f":"IFERROR(VLOOKUP(BF$1,仕様の整理!$C:$Z,21,0),\"-\")","v":"種類:材料系\n改良対象土：泥土（コーン指数qc=100kN/m2程度、含水比100％程度）（第3種改良土（コーン指数400kN/m2以上）への改良）"},null,{"$f":"IFERROR(VLOOKUP(BH$1,仕様の整理!$C:$Z,21,0),\"-\")","v":"種類:材料系\n改良対象土：第4種建設発生土（コーン指数qc=200kN/m2程度、含水比60％程度）（第3種改良土（コーン指数400kN/m2以上）への改良）"},null,{"$f":"IFERROR(VLOOKUP(BJ$1,仕様の整理!$C:$Z,21,0),\"-\")","v":"種類:材料系\n改良対象土：泥土（コーン指数qc=100kN/m2程度、含水比60％程度）（第3種改良土（コーン指数400kN/m2以上）への改良）"},null,{"$f":"IFERROR(VLOOKUP(BL$1,仕様の整理!$C:$Z,21,0),\"-\")","v":"種類:材料系\n改良対象土：第4種建設発生土（コーン指数qc=200kN/m2程度、含水比60％程度）（第3種改良土（コーン指数400kN/m2以上）への改良）"},null,{"$f":"IFERROR(VLOOKUP(BN$1,仕様の整理!$C:$Z,21,0),\"-\")","v":"種類:材料系\n改良対象土：泥土（コーン指数qc=100kN/m2程度、含水比60％程度）（第3種改良土（コーン指数400kN/m2以上）への改良）"},null,{"$f":"IFERROR(VLOOKUP(BP$1,仕様の整理!$C:$Z,21,0),\"-\")","v":"種類:材料系\n改良対象土：第4種建設発生土（コーン指数qc=200kN/m2程度、含水比60％程度）（第3種改良土（コーン指数400kN/m2以上）への改良）"},null,{"$f":"IFERROR(VLOOKUP(BR$1,仕様の整理!$C:$Z,21,0),\"-\")","v":"種類:材料系\n改良対象土：泥土（コーン指数qc=100kN/m2程度、含水比100％程度）（第3種改良土（コーン指数400kN/m2以上）への改良）"},null,{"$f":"IFERROR(VLOOKUP(BT$1,仕様の整理!$C:$Z,21,0),\"-\")","v":"種類:材料系\n改良対象土：第4種建設発生土（コーン指数qc=200kN/m2程度、含水比60％程度）（第3種改良土（コーン指数400kN/m2以上）への改良）"},null,{"$f":"IFERROR(VLOOKUP(BV$1,仕様の整理!$C:$Z,21,0),\"-\")","v":"種類:材料系\n改良対象土：泥土（コーン指数qc=100kN/m2程度、含水比100％程度）（第3種改良土（コーン指数400kN/m2以上）への改良）"},null,{"$f":"IFERROR(VLOOKUP(BX$1,仕様の整理!$C:$Z,21,0),\"-\")","v":"種類:材料系\n改良対象土：第4種建設発生土（コーン指数qc=200kN/m2程度、含水比60％程度）（第3種改良土（コーン指数400kN/m2以上）への改良）"},null,{"$f":"IFERROR(VLOOKUP(BZ$1,仕様の整理!$C:$Z,21,0),\"-\")","v":"種類:材料系\n改良対象土：泥土（コーン指数qc=100kN/m2程度、含水比100％程度）（第3種改良土（コーン指数400kN/m2以上）への改良）"},null,{"$f":"IFERROR(VLOOKUP(CB$1,仕様の整理!$C:$Z,21,0),\"-\")","v":"種類:材料系\n改良対象土：第4種建設発生土（コーン指数qc=200kN/m2程度、含水比60％程度）（第3種改良土（コーン指数400kN/m2以上）への改良）"},null,{"$f":"IFERROR(VLOOKUP(CD$1,仕様の整理!$C:$Z,21,0),\"-\")","v":"種類:材料系\n改良対象土：泥土（コーン指数qc=100kN/m2程度、含水比100％程度）（第3種改良土（コーン指数400kN/m2以上）への改良）"},null,{"$f":"IFERROR(VLOOKUP(CF$1,仕様の整理!$C:$Z,21,0),\"-\")","v":"種類:材料系\n改良対象土：第4種建設発生土（コーン指数qc=200kN/m2程度、含水比60％程度）（第3種改良土（コーン指数400kN/m2以上）への改良）"},null,{"$f":"IFERROR(VLOOKUP(CH$1,仕様の整理!$C:$Z,21,0),\"-\")","v":"種類:材料系\n改良対象土：泥土（コーン指数qc=100kN/m2程度、含水比100％程度）（第3種改良土（コーン指数400kN/m2以上）への改良）"},null,{"$f":"IFERROR(VLOOKUP(CJ$1,仕様の整理!$C:$Z,21,0),\"-\")","v":"種類:材料系\n改良対象土：第4種建設発生土（コーン指数qc=200kN/m2程度、含水比60％程度）（第3種改良土（コーン指数400kN/m2以上）への改良）"},null,{"$f":"IFERROR(VLOOKUP(CL$1,仕様の整理!$C:$Z,21,0),\"-\")","v":"種類:材料系\n改良対象土：泥土（コーン指数qc=100kN/m2程度、含水比100％程度）（第3種改良土（コーン指数400kN/m2以上）への改良）"},null,{"$f":"IFERROR(VLOOKUP(CN$1,仕様の整理!$C:$Z,21,0),\"-\")","v":"種類:材料系\n改良対象土：フッ素（土壌溶出量8.0mg/L程度）を含有する土（土壌溶出量基準値0.8mg/L以下への改良）"},null,{"$f":"IFERROR(VLOOKUP(CP$1,仕様の整理!$C:$Z,21,0),\"-\")","v":"種類:材料系\n改良対象土：ヒ素（土壌溶出量0.1mg/L程度）を含有する土（土壌溶出量基準値0.01mg/L以下への改良）"},null,{"$f":"IFERROR(VLOOKUP(CR$1,仕様の整理!$C:$Z,21,0),\"-\")","v":"種類:材料系\n改良対象土：フッ素（土壌溶出量8.0mg/L程度）を含有する土（土壌溶出量基準値0.8mg/L以下への改良）"},null,{"$f":"IFERROR(VLOOKUP(CT$1,仕様の整理!$C:$Z,21,0),\"-\")","v":"種類:材料系\n改良対象土：ヒ素（土壌溶出量0.1mg/L程度）を含有する土（土壌溶出量基準値0.01mg/L以下への改良）"},null,{"$f":"IFERROR(VLOOKUP(CV$1,仕様の整理!$C:$Z,21,0),\"-\")","v":"種類:材料系\n改良対象土：第4種建設発生土（コーン指数qc=200kN/m2程度、含水比60％程度）（第3種改良土（コーン指数400kN/m2以上）への改良）"},null,{"$f":"IFERROR(VLOOKUP(CX$1,仕様の整理!$C:$Z,21,0),\"-\")","v":"種類:材料系\n改良対象土：泥土（コーン指数qc=100kN/m2程度、含水比100％程度）（第3種改良土（コーン指数400kN/m2以上）への改良）"},null,{"$f":"IFERROR(VLOOKUP(CZ$1,仕様の整理!$C:$Z,21,0),\"-\")","v":"種類:材料系\n改良対象土：第4種建設発生土（コーン指数qc=200kN/m2程度、含水比60％程度）（第3種改良土（コーン指数400kN/m2以上）への改良）"},null,{"$f":"IFERROR(VLOOKUP(DB$1,仕様の整理!$C:$Z,21,0),\"-\")","v":"種類:材料系\n改良対象土：泥土（コーン指数qc=100kN/m2程度、含水比100％程度）（第3種改良土（コーン指数400kN/m2以上）への改良）"},null,{"$f":"IFERROR(VLOOKUP(DD$1,仕様の整理!$C:$Z,21,0),\"-\")","v":"種類:材料系\n改良対象土：フッ素（土壌溶出量8.0mg/L程度）を含有する土（土壌溶出量基準値0.8mg/L以下への改良）"},null,{"$f":"IFERROR(VLOOKUP(DF$1,仕様の整理!$C:$Z,21,0),\"-\")","v":"種類:材料系\n改良対象土：ヒ素（土壌溶出量0.1mg/L程度）を含有する土（土壌溶出量基準値0.01mg/L以下への改良）"},null,{"$f":"IFERROR(VLOOKUP(DH$1,仕様の整理!$C:$Z,21,0),\"-\")","v":"種類:材料系\n改良対象土：フッ素（土壌溶出量8.0mg/L程度）を含有する土（土壌溶出量基準値0.8mg/L以下への改良）"},null,{"$f":"IFERROR(VLOOKUP(DJ$1,仕様の整理!$C:$Z,21,0),\"-\")","v":"種類:材料系\n改良対象土：ヒ素（土壌溶出量0.1mg/L程度）を含有する土（土壌溶出量基準値0.01mg/L以下への改良）"},null,{"$f":"IFERROR(VLOOKUP(DL$1,仕様の整理!$C:$Z,21,0),\"-\")","v":"種類:材料系\n改良対象土：第4種建設発生土（コーン指数qc=200kN/m2程度、含水比60％程度）（第3種改良土（コーン指数400kN/m2以上）への改良）"},null,{"$f":"IFERROR(VLOOKUP(DN$1,仕様の整理!$C:$Z,21,0),\"-\")","v":"種類:材料系\n改良対象土：泥土（コーン指数qc=100kN/m2程度、含水比100％程度）（第3種改良土（コーン指数400kN/m2以上）への改良）"},null,{"$f":"IFERROR(VLOOKUP(DP$1,仕様の整理!$C:$Z,21,0),\"-\")","v":"種類:材料系\n改良対象土：第4種建設発生土（コーン指数qc=200kN/m2程度、含水比60％程度）（第3種改良土（コーン指数400kN/m2以上）への改良）"},null,{"$f":"IFERROR(VLOOKUP(DR$1,仕様の整理!$C:$Z,21,0),\"-\")","v":"種類:材料系\n改良対象土：泥土（コーン指数qc=100kN/m2程度、含水比100％程度）（第3種改良土（コーン指数400kN/m2以上）への改良）"},null,{"$f":"IFERROR(VLOOKUP(DT$1,仕様の整理!$C:$Z,21,0),\"-\")","v":"種類:材料系\n改良対象土：フッ素（土壌溶出量8.0mg/L程度）を含有する土（土壌溶出量基準値0.8mg/L以下への改良）"},null,{"$f":"IFERROR(VLOOKUP(DV$1,仕様の整理!$C:$Z,21,0),\"-\")","v":"種類:材料系\n改良対象土：ヒ素（土壌溶出量0.1mg/L程度）を含有する土（土壌溶出量基準値0.01mg/L以下への改良）"},null,{"$f":"IFERROR(VLOOKUP(DX$1,仕様の整理!$C:$Z,21,0),\"-\")","v":"種類:材料系\n改良対象土：フッ素（土壌溶出量8.0mg/L程度）を含有する土（土壌溶出量基準値0.8mg/L以下への改良）"},null,{"$f":"IFERROR(VLOOKUP(DZ$1,仕様の整理!$C:$Z,21,0),\"-\")","v":"種類:材料系\n改良対象土：ヒ素（土壌溶出量0.1mg/L程度）を含有する土（土壌溶出量基準値0.01mg/L以下への改良）"},null,{"$f":"IFERROR(VLOOKUP(EB$1,仕様の整理!$C:$Z,21,0),\"-\")","v":"種類:材料系\n改良対象土：第4種建設発生土（コーン指数qc=200kN/m2程度、含水比60％程度）（第3種改良土（コーン指数400kN/m2以上）への改良）"},null,{"$f":"IFERROR(VLOOKUP(ED$1,仕様の整理!$C:$Z,21,0),\"-\")","v":"種類:材料系\n改良対象土：泥土（コーン指数qc=100kN/m2程度、含水比100％程度）（第3種改良土（コーン指数400kN/m2以上）への改良）"},null,{"$f":"IFERROR(VLOOKUP(EF$1,仕様の整理!$C:$Z,21,0),\"-\")","v":"種類:材料系\n改良対象土：第4種建設発生土（コーン指数qc=200kN/m2程度、含水比60％程度）（第3種改良土（コーン指数400kN/m2以上）への改良）"},null,{"$f":"IFERROR(VLOOKUP(EH$1,仕様の整理!$C:$Z,21,0),\"-\")","v":"種類:材料系\n改良対象土：泥土（コーン指数qc=100kN/m2程度、含水比100％程度）（第3種改良土（コーン指数400kN/m2以上）への改良）"},null,{"$f":"IFERROR(VLOOKUP(EJ$1,仕様の整理!$C:$Z,21,0),\"-\")","v":"種類:材料系\n改良対象土：ヒ素（土壌溶出量0.1mg/L程度）を含有する土（土壌溶出量基準値0.01mg/L以下への改良）"},null,{"$f":"IFERROR(VLOOKUP(EL$1,仕様の整理!$C:$Z,21,0),\"-\")","v":"種類:材料系\n改良対象土：第4種建設発生土（コーン指数qc=200kN/m2程度、含水比60％程度）（第3種改良土（コーン指数400kN/m2以上）への改良）"},null,{"$f":"IFERROR(VLOOKUP(EN$1,仕様の整理!$C:$Z,21,0),\"-\")","v":"種類:材料系\n改良対象土：泥土（コーン指数qc=100kN/m2程度、含水比100％程度）（第3種改良土（コーン指数400kN/m2以上）への改良）"},null,{"$f":"IFERROR(VLOOKUP(EP$1,仕様の整理!$C:$Z,21,0),\"-\")","v":"種類:材料系\n改良対象土：第4種建設発生土（コーン指数qc=200kN/m2程度、含水比60％程度）（第3種改良土（コーン指数400kN/m2以上）への改良）"},null,{"$f":"IFERROR(VLOOKUP(ER$1,仕様の整理!$C:$Z,21,0),\"-\")","v":"種類:材料系\n改良対象土：泥土（コーン指数qc=100kN/m2程度、含水比100％程度）（第3種改良土（コーン指数400kN/m2以上）への改良）"},null,{"$f":"IFERROR(VLOOKUP(ET$1,仕様の整理!$C:$Z,21,0),\"-\")","v":"種類:材料系\n改良対象土：ヒ素（土壌溶出量0.1mg/L程度）を含有する土（土壌溶出量基準値0.01mg/L以下への改良）"},null,{"$f":"IFERROR(VLOOKUP(EV$1,仕様の整理!$C:$Z,21,0),\"-\")","v":"種類:材料系\n改良対象土：第4種建設発生土（コーン指数qc=200kN/m2程度、含水比60％程度）（第3種改良土（コーン指数400kN/m2以上）への改良）"},null,{"$f":"IFERROR(VLOOKUP(EX$1,仕様の整理!$C:$Z,21,0),\"-\")","v":"種類:材料系\n改良対象土：泥土（コーン指数qc=100kN/m2程度、含水比100％程度）（第3種改良土（コーン指数400kN/m2以上）への改良）"},null,{"$f":"IFERROR(VLOOKUP(EZ$1,仕様の整理!$C:$Z,21,0),\"-\")","v":"種類:材料系\n改良対象土：第4種建設発生土（コーン指数qc=200kN/m2程度、含水比60％程度）（第3種改良土（コーン指数400kN/m2以上）への改良）"},null,{"$f":"IFERROR(VLOOKUP(FB$1,仕様の整理!$C:$Z,21,0),\"-\")","v":"種類:材料系\n改良対象土：泥土（コーン指数qc=100kN/m2程度、含水比100％程度）（第3種改良土（コーン指数400kN/m2以上）への改良）"},null,{"$f":"IFERROR(VLOOKUP(FD$1,仕様の整理!$C:$Z,21,0),\"-\")","v":"種類:材料系\n改良対象土：第4種建設発生土（コーン指数qc=200kN/m2程度、含水比60％程度）（第3種改良土（コーン指数400kN/m2以上）への改良）"},null,{"$f":"IFERROR(VLOOKUP(FF$1,仕様の整理!$C:$Z,21,0),\"-\")","v":"種類:材料系\n改良対象土：泥土（コーン指数qc=100kN/m2程度、含水比100％程度）（第3種改良土（コーン指数400kN/m2以上）への改良）"},null,{"$f":"IFERROR(VLOOKUP(FH$1,仕様の整理!$C:$Z,21,0),\"-\")","v":"種類:材料系\n改良対象土：第4種建設発生土（コーン指数qc=200kN/m2程度、含水比60％程度）（第3種改良土（コーン指数400kN/m2以上）への改良）"},null,{"$f":"IFERROR(VLOOKUP(FJ$1,仕様の整理!$C:$Z,21,0),\"-\")","v":"種類:材料系\n改良対象土：泥土（コーン指数qc=100kN/m2程度、含水比100％程度）（第3種改良土（コーン指数400kN/m2以上）への改良）"},null,{"$f":"IFERROR(VLOOKUP(FL$1,仕様の整理!$C:$Z,21,0),\"-\")","v":"種類:材料系\n改良対象土：第4種建設発生土（コーン指数qc=200kN/m2程度、含水比60％程度）（第3種改良土（コーン指数400kN/m2以上）への改良）"},null,{"$f":"IFERROR(VLOOKUP(FN$1,仕様の整理!$C:$Z,21,0),\"-\")","v":"種類:材料系\n改良対象土：泥土（コーン指数qc=100kN/m2程度、含水比100％程度）（第3種改良土（コーン指数400kN/m2以上）への改良）"},null,{"$f":"IFERROR(VLOOKUP(FP$1,仕様の整理!$C:$Z,21,0),\"-\")","v":"種類:材料系\n改良対象土：フッ素（土壌溶出量8.0mg/L程度）を含有する土（土壌溶出量基準値0.8mg/L以下への改良）"},null,{"$f":"IFERROR(VLOOKUP(FR$1,仕様の整理!$C:$Z,21,0),\"-\")","v":"種類:材料系\n改良対象土：ヒ素（土壌溶出量0.1mg/L程度）を含有する土（土壌溶出量基準値0.01mg/L以下への改良）"},null,{"$f":"IFERROR(VLOOKUP(FT$1,仕様の整理!$C:$Z,21,0),\"-\")","v":"種類:材料系\n改良対象土：第4種建設発生土（コーン指数qc=200kN/m2程度、含水比60％程度）（第3種改良土（コーン指数400kN/m2以上）への改良）"},null,{"$f":"IFERROR(VLOOKUP(FV$1,仕様の整理!$C:$Z,21,0),\"-\")","v":"種類:材料系\n改良対象土：第4種建設発生土（コーン指数qc=200kN/m2程度、含水比60％程度）（第3種改良土（コーン指数400kN/m2以上）への改良）"},null,{"$f":"IFERROR(VLOOKUP(FX$1,仕様の整理!$C:$Z,21,0),\"-\")","v":"種類:材料系\n改良対象土：泥土（コーン指数qc=100kN/m2程度、含水比100％程度）（第3種改良土（コーン指数400kN/m2以上）への改良）"},null,{"$f":"IFERROR(VLOOKUP(FZ$1,仕様の整理!$C:$Z,21,0),\"-\")","v":"種類:材料系\n改良対象土：第4種建設発生土（コーン指数qc=200kN/m2程度、含水比60％程度）（第3種改良土（コーン指数400kN/m2以上）への改良）"},null,{"$f":"IFERROR(VLOOKUP(GB$1,仕様の整理!$C:$Z,21,0),\"-\")","v":"種類:材料系\n改良対象土：泥土（コーン指数qc=100kN/m2程度、含水比100％程度）（第3種改良土（コーン指数400kN/m2以上）への改良）"},null,{"$f":"IFERROR(VLOOKUP(GD$1,仕様の整理!$C:$Z,21,0),\"-\")","v":"種類:材料系\n改良対象土：第4種建設発生土（コーン指数qc=200kN/m2程度、含水比60％程度）（第3種改良土（コーン指数400kN/m2以上）への改良）"},null,{"$f":"IFERROR(VLOOKUP(GF$1,仕様の整理!$C:$Z,21,0),\"-\")","v":"種類:材料系\n改良対象土：泥土（コーン指数qc=100kN/m2程度、含水比100％程度）（第3種改良土（コーン指数400kN/m2以上）への改良）"},null,{"$f":"IFERROR(VLOOKUP(GH$1,仕様の整理!$C:$Z,21,0),\"-\")","v":"種類:材料系\n改良対象土：第4種建設発生土（コーン指数qc=200kN/m2程度、含水比60％程度）（第3種改良土（コーン指数400kN/m2以上）への改良）"},null,{"$f":"IFERROR(VLOOKUP(GJ$1,仕様の整理!$C:$Z,21,0),\"-\")","v":"種類:材料系\n改良対象土：泥土（コーン指数qc=100kN/m2程度、含水比100％程度）（第3種改良土（コーン指数400kN/m2以上）への改良）"}]
["ＮＥＴＩＳ情報","技術名",null,null,null,{"$f":"IF(VLOOKUP(F$1,仕様の整理!$C:$K,4,0)=\"NETIS掲載期間終了技術\",VLOOKUP(F$1,仕様の整理!$C:$K,2,0),VLOOKUP(F$1,仕様の整理!$C:$K,2,0)&\"（\"&VLOOKUP(F$1,仕様の整理!$C:$K,4,0)&\"）\")&IF(VLOOKUP(F$1,仕様の整理!$C:$O,5,0)=\"○\",\"\",\"《新規登録技術》\")","v":"回転式破砕混合工法による建設発生土リサイクル技術"},null,{"$f":"IF(VLOOKUP(H$1,仕様の整理!$C:$K,4,0)=\"NETIS掲載期間終了技術\",VLOOKUP(H$1,仕様の整理!$C:$K,2,0),VLOOKUP(H$1,仕様の整理!$C:$K,2,0)&\"（\"&VLOOKUP(H$1,仕様の整理!$C:$K,4,0)&\"）\")&IF(VLOOKUP(H$1,仕様の整理!$C:$O,5,0)=\"○\",\"\",\"《新規登録技術》\")","v":"回転式破砕混合工法による建設発生土リサイクル技術"},null,{"$f":"IF(VLOOKUP(J$1,仕様の整理!$C:$K,4,0)=\"NETIS掲載期間終了技術\",VLOOKUP(J$1,仕様の整理!$C:$K,2,0),VLOOKUP(J$1,仕様の整理!$C:$K,2,0)&\"（\"&VLOOKUP(J$1,仕様の整理!$C:$K,4,0)&\"）\")&IF(VLOOKUP(J$1,仕様の整理!$C:$O,5,0)=\"○\",\"\",\"《新規登録技術》\")","v":"万能土質改良機による建設発生土再利用システム"},null,{"$f":"IF(VLOOKUP(L$1,仕様の整理!$C:$K,4,0)=\"NETIS掲載期間終了技術\",VLOOKUP(L$1,仕様の整理!$C:$K,2,0),VLOOKUP(L$1,仕様の整理!$C:$K,2,0)&\"（\"&VLOOKUP(L$1,仕様の整理!$C:$K,4,0)&\"）\")&IF(VLOOKUP(L$1,仕様の整理!$C:$O,5,0)=\"○\",\"\",\"《新規登録技術》\")","v":"万能土質改良機による建設発生土再利用システム"},null,{"$f":"IF(VLOOKUP(N$1,仕様の整理!$C:$K,4,0)=\"NETIS掲載期間終了技術\",VLOOKUP(N$1,仕様の整理!$C:$K,2,0),VLOOKUP(N$1,仕様の整理!$C:$K,2,0)&\"（\"&VLOOKUP(N$1,仕様の整理!$C:$K,4,0)&\"）\")&IF(VLOOKUP(N$1,仕様の整理!$C:$O,5,0)=\"○\",\"\",\"《新規登録技術》\")","v":"万能土質改良機による建設発生土再利用システム"},null,{"$f":"IF(VLOOKUP(P$1,仕様の整理!$C:$K,4,0)=\"NETIS掲載期間終了技術\",VLOOKUP(P$1,仕様の整理!$C:$K,2,0),VLOOKUP(P$1,仕様の整理!$C:$K,2,0)&\"（\"&VLOOKUP(P$1,仕様の整理!$C:$K,4,0)&\"）\")&IF(VLOOKUP(P$1,仕様の整理!$C:$O,5,0)=\"○\",\"\",\"《新規登録技術》\")","v":"ESR工法"},null,{"$f":"IF(VLOOKUP(R$1,仕様の整理!$C:$K,4,0)=\"NETIS掲載期間終了技術\",VLOOKUP(R$1,仕様の整理!$C:$K,2,0),VLOOKUP(R$1,仕様の整理!$C:$K,2,0)&\"（\"&VLOOKUP(R$1,仕様の整理!$C:$K,4,0)&\"）\")&IF(VLOOKUP(R$1,仕様の整理!$C:$O,5,0)=\"○\",\"\",\"《新規登録技術》\")","v":"泥土再資源化技術E3(イーキューブ)システム"},null,{"$f":"IF(VLOOKUP(T$1,仕様の整理!$C:$K,4,0)=\"NETIS掲載期間終了技術\",VLOOKUP(T$1,仕様の整理!$C:$K,2,0),VLOOKUP(T$1,仕様の整理!$C:$K,2,0)&\"（\"&VLOOKUP(T$1,仕様の整理!$C:$K,4,0)&\"）\")&IF(VLOOKUP(T$1,仕様の整理!$C:$O,5,0)=\"○\",\"\",\"《新規登録技術》\")","v":"自走型回転式破砕混合機（TMSP1500）（事後評価未実施技術）"},null,{"$f":"IF(VLOOKUP(V$1,仕様の整理!$C:$K,4,0)=\"NETIS掲載期間終了技術\",VLOOKUP(V$1,仕様の整理!$C:$K,2,0),VLOOKUP(V$1,仕様の整理!$C:$K,2,0)&\"（\"&VLOOKUP(V$1,仕様の整理!$C:$K,4,0)&\"）\")&IF(VLOOKUP(V$1,仕様の整理!$C:$O,5,0)=\"○\",\"\",\"《新規登録技術》\")","v":"自走型回転式破砕混合機（TMSP1500）（事後評価未実施技術）"},null,{"$f":"IF(VLOOKUP(X$1,仕様の整理!$C:$K,4,0)=\"NETIS掲載期間終了技術\",VLOOKUP(X$1,仕様の整理!$C:$K,2,0),VLOOKUP(X$1,仕様の整理!$C:$K,2,0)&\"（\"&VLOOKUP(X$1,仕様の整理!$C:$K,4,0)&\"）\")&IF(VLOOKUP(X$1,仕様の整理!$C:$O,5,0)=\"○\",\"\",\"《新規登録技術》\")","v":"ＳＴＢ－ＩＣＴ粒度改良工法（有用な新技術）"},null,{"$f":"IF(VLOOKUP(Z$1,仕様の整理!$C:$K,4,0)=\"NETIS掲載期間終了技術\",VLOOKUP(Z$1,仕様の整理!$C:$K,2,0),VLOOKUP(Z$1,仕様の整理!$C:$K,2,0)&\"（\"&VLOOKUP(Z$1,仕様の整理!$C:$K,4,0)&\"）\")&IF(VLOOKUP(Z$1,仕様の整理!$C:$O,5,0)=\"○\",\"\",\"《新規登録技術》\")","v":"ＳＴＢ－ＩＣＴ粒度改良工法（有用な新技術）"},null,{"$f":"IF(VLOOKUP(AB$1,仕様の整理!$C:$K,4,0)=\"NETIS掲載期間終了技術\",VLOOKUP(AB$1,仕様の整理!$C:$K,2,0),VLOOKUP(AB$1,仕様の整理!$C:$K,2,0)&\"（\"&VLOOKUP(AB$1,仕様の整理!$C:$K,4,0)&\"）\")&IF(VLOOKUP(AB$1,仕様の整理!$C:$O,5,0)=\"○\",\"\",\"《新規登録技術》\")","v":"建設発生土等の固化材によるリサイクル改良土化（事後評価未実施技術）《新規登録技術》"},null,{"$f":"IF(VLOOKUP(AD$1,仕様の整理!$C:$K,4,0)=\"NETIS掲載期間終了技術\",VLOOKUP(AD$1,仕様の整理!$C:$K,2,0),VLOOKUP(AD$1,仕様の整理!$C:$K,2,0)&\"（\"&VLOOKUP(AD$1,仕様の整理!$C:$K,4,0)&\"）\")&IF(VLOOKUP(AD$1,仕様の整理!$C:$O,5,0)=\"○\",\"\",\"《新規登録技術》\")","v":"建設発生土等の固化材によるリサイクル改良土化（事後評価未実施技術）《新規登録技術》"},null,{"$f":"IF(VLOOKUP(AF$1,仕様の整理!$C:$K,4,0)=\"NETIS掲載期間終了技術\",VLOOKUP(AF$1,仕様の整理!$C:$K,2,0),VLOOKUP(AF$1,仕様の整理!$C:$K,2,0)&\"（\"&VLOOKUP(AF$1,仕様の整理!$C:$K,4,0)&\"）\")&IF(VLOOKUP(AF$1,仕様の整理!$C:$O,5,0)=\"○\",\"\",\"《新規登録技術》\")","v":" 吸水性泥土改質材 「ワトル」（有用な新技術）"},null,{"$f":"IF(VLOOKUP(AH$1,仕様の整理!$C:$K,4,0)=\"NETIS掲載期間終了技術\",VLOOKUP(AH$1,仕様の整理!$C:$K,2,0),VLOOKUP(AH$1,仕様の整理!$C:$K,2,0)&\"（\"&VLOOKUP(AH$1,仕様の整理!$C:$K,4,0)&\"）\")&IF(VLOOKUP(AH$1,仕様の整理!$C:$O,5,0)=\"○\",\"\",\"《新規登録技術》\")","v":" 吸水性泥土改質材 「ワトル」（有用な新技術）"},null,{"$f":"IF(VLOOKUP(AJ$1,仕様の整理!$C:$K,4,0)=\"NETIS掲載期間終了技術\",VLOOKUP(AJ$1,仕様の整理!$C:$K,2,0),VLOOKUP(AJ$1,仕様の整理!$C:$K,2,0)&\"（\"&VLOOKUP(AJ$1,仕様の整理!$C:$K,4,0)&\"）\")&IF(VLOOKUP(AJ$1,仕様の整理!$C:$O,5,0)=\"○\",\"\",\"《新規登録技術》\")","v":" 吸水性泥土改質材 「ワトル」（有用な新技術）"},null,{"$f":"IF(VLOOKUP(AL$1,仕様の整理!$C:$K,4,0)=\"NETIS掲載期間終了技術\",VLOOKUP(AL$1,仕様の整理!$C:$K,2,0),VLOOKUP(AL$1,仕様の整理!$C:$K,2,0)&\"（\"&VLOOKUP(AL$1,仕様の整理!$C:$K,4,0)&\"）\")&IF(VLOOKUP(AL$1,仕様の整理!$C:$O,5,0)=\"○\",\"\",\"《新規登録技術》\")","v":" 吸水性泥土改質材 「ワトル」（有用な新技術）"},null,{"$f":"IF(VLOOKUP(AN$1,仕様の整理!$C:$K,4,0)=\"NETIS掲載期間終了技術\",VLOOKUP(AN$1,仕様の整理!$C:$K,2,0),VLOOKUP(AN$1,仕様の整理!$C:$K,2,0)&\"（\"&VLOOKUP(AN$1,仕様の整理!$C:$K,4,0)&\"）\")&IF(VLOOKUP(AN$1,仕様の整理!$C:$O,5,0)=\"○\",\"\",\"《新規登録技術》\")","v":"カルシア改質土（事後評価済技術）"},null,{"$f":"IF(VLOOKUP(AP$1,仕様の整理!$C:$K,4,0)=\"NETIS掲載期間終了技術\",VLOOKUP(AP$1,仕様の整理!$C:$K,2,0),VLOOKUP(AP$1,仕様の整理!$C:$K,2,0)&\"（\"&VLOOKUP(AP$1,仕様の整理!$C:$K,4,0)&\"）\")&IF(VLOOKUP(AP$1,仕様の整理!$C:$O,5,0)=\"○\",\"\",\"《新規登録技術》\")","v":"カルシア改質土（事後評価済技術）"},null,{"$f":"IF(VLOOKUP(AR$1,仕様の整理!$C:$K,4,0)=\"NETIS掲載期間終了技術\",VLOOKUP(AR$1,仕様の整理!$C:$K,2,0),VLOOKUP(AR$1,仕様の整理!$C:$K,2,0)&\"（\"&VLOOKUP(AR$1,仕様の整理!$C:$K,4,0)&\"）\")&IF(VLOOKUP(AR$1,仕様の整理!$C:$O,5,0)=\"○\",\"\",\"《新規登録技術》\")","v":"SEリバース(セメント不含有品、一般・汚泥・防塵シリーズ)"},null,{"$f":"IF(VLOOKUP(AT$1,仕様の整理!$C:$K,4,0)=\"NETIS掲載期間終了技術\",VLOOKUP(AT$1,仕様の整理!$C:$K,2,0),VLOOKUP(AT$1,仕様の整理!$C:$K,2,0)&\"（\"&VLOOKUP(AT$1,仕様の整理!$C:$K,4,0)&\"）\")&IF(VLOOKUP(AT$1,仕様の整理!$C:$O,5,0)=\"○\",\"\",\"《新規登録技術》\")","v":"SEリバース(セメント不含有品、一般・汚泥・防塵シリーズ)"},null,{"$f":"IF(VLOOKUP(AV$1,仕様の整理!$C:$K,4,0)=\"NETIS掲載期間終了技術\",VLOOKUP(AV$1,仕様の整理!$C:$K,2,0),VLOOKUP(AV$1,仕様の整理!$C:$K,2,0)&\"（\"&VLOOKUP(AV$1,仕様の整理!$C:$K,4,0)&\"）\")&IF(VLOOKUP(AV$1,仕様の整理!$C:$O,5,0)=\"○\",\"\",\"《新規登録技術》\")","v":"SEリバース(セメント不含有品、一般・汚泥・防塵シリーズ)"},null,{"$f":"IF(VLOOKUP(AX$1,仕様の整理!$C:$K,4,0)=\"NETIS掲載期間終了技術\",VLOOKUP(AX$1,仕様の整理!$C:$K,2,0),VLOOKUP(AX$1,仕様の整理!$C:$K,2,0)&\"（\"&VLOOKUP(AX$1,仕様の整理!$C:$K,4,0)&\"）\")&IF(VLOOKUP(AX$1,仕様の整理!$C:$O,5,0)=\"○\",\"\",\"《新規登録技術》\")","v":"SEリバース(セメント不含有品、一般・汚泥・防塵シリーズ)"},null,{"$f":"IF(VLOOKUP(AZ$1,仕様の整理!$C:$K,4,0)=\"NETIS掲載期間終了技術\",VLOOKUP(AZ$1,仕様の整理!$C:$K,2,0),VLOOKUP(AZ$1,仕様の整理!$C:$K,2,0)&\"（\"&VLOOKUP(AZ$1,仕様の整理!$C:$K,4,0)&\"）\")&IF(VLOOKUP(AZ$1,仕様の整理!$C:$O,5,0)=\"○\",\"\",\"《新規登録技術》\")","v":"レストム工法"},null,{"$f":"IF(VLOOKUP(BB$1,仕様の整理!$C:$K,4,0)=\"NETIS掲載期間終了技術\",VLOOKUP(BB$1,仕様の整理!$C:$K,2,0),VLOOKUP(BB$1,仕様の整理!$C:$K,2,0)&\"（\"&VLOOKUP(BB$1,仕様の整理!$C:$K,4,0)&\"）\")&IF(VLOOKUP(BB$1,仕様の整理!$C:$O,5,0)=\"○\",\"\",\"《新規登録技術》\")","v":"レストム工法"},null,{"$f":"IF(VLOOKUP(BD$1,仕様の整理!$C:$K,4,0)=\"NETIS掲載期間終了技術\",VLOOKUP(BD$1,仕様の整理!$C:$K,2,0),VLOOKUP(BD$1,仕様の整理!$C:$K,2,0)&\"（\"&VLOOKUP(BD$1,仕様の整理!$C:$K,4,0)&\"）\")&IF(VLOOKUP(BD$1,仕様の整理!$C:$O,5,0)=\"○\",\"\",\"《新規登録技術》\")","v":"レストム工法"},null,{"$f":"IF(VLOOKUP(BF$1,仕様の整理!$C:$K,4,0)=\"NETIS掲載期間終了技術\",VLOOKUP(BF$1,仕様の整理!$C:$K,2,0),VLOOKUP(BF$1,仕様の整理!$C:$K,2,0)&\"（\"&VLOOKUP(BF$1,仕様の整理!$C:$K,4,0)&\"）\")&IF(VLOOKUP(BF$1,仕様の整理!$C:$O,5,0)=\"○\",\"\",\"《新規登録技術》\")","v":"レストム工法"},null,{"$f":"IF(VLOOKUP(BH$1,仕様の整理!$C:$K,4,0)=\"NETIS掲載期間終了技術\",VLOOKUP(BH$1,仕様の整理!$C:$K,2,0),VLOOKUP(BH$1,仕様の整理!$C:$K,2,0)&\"（\"&VLOOKUP(BH$1,仕様の整理!$C:$K,4,0)&\"）\")&IF(VLOOKUP(BH$1,仕様の整理!$C:$O,5,0)=\"○\",\"\",\"《新規登録技術》\")","v":"ボンテラン工法"},null,{"$f":"IF(VLOOKUP(BJ$1,仕様の整理!$C:$K,4,0)=\"NETIS掲載期間終了技術\",VLOOKUP(BJ$1,仕様の整理!$C:$K,2,0),VLOOKUP(BJ$1,仕様の整理!$C:$K,2,0)&\"（\"&VLOOKUP(BJ$1,仕様の整理!$C:$K,4,0)&\"）\")&IF(VLOOKUP(BJ$1,仕様の整理!$C:$O,5,0)=\"○\",\"\",\"《新規登録技術》\")","v":"ボンテラン工法"},null,{"$f":"IF(VLOOKUP(BL$1,仕様の整理!$C:$K,4,0)=\"NETIS掲載期間終了技術\",VLOOKUP(BL$1,仕様の整理!$C:$K,2,0),VLOOKUP(BL$1,仕様の整理!$C:$K,2,0)&\"（\"&VLOOKUP(BL$1,仕様の整理!$C:$K,4,0)&\"）\")&IF(VLOOKUP(BL$1,仕様の整理!$C:$O,5,0)=\"○\",\"\",\"《新規登録技術》\")","v":"ボンテラン工法"},null,{"$f":"IF(VLOOKUP(BN$1,仕様の整理!$C:$K,4,0)=\"NETIS掲載期間終了技術\",VLOOKUP(BN$1,仕様の整理!$C:$K,2,0),VLOOKUP(BN$1,仕様の整理!$C:$K,2,0)&\"（\"&VLOOKUP(BN$1,仕様の整理!$C:$K,4,0)&\"）\")&IF(VLOOKUP(BN$1,仕様の整理!$C:$O,5,0)=\"○\",\"\",\"《新規登録技術》\")","v":"ボンテラン工法"},null,{"$f":"IF(VLOOKUP(BP$1,仕様の整理!$C:$K,4,0)=\"NETIS掲載期間終了技術\",VLOOKUP(BP$1,仕様の整理!$C:$K,2,0),VLOOKUP(BP$1,仕様の整理!$C:$K,2,0)&\"（\"&VLOOKUP(BP$1,仕様の整理!$C:$K,4,0)&\"）\")&IF(VLOOKUP(BP$1,仕様の整理!$C:$O,5,0)=\"○\",\"\",\"《新規登録技術》\")","v":"FTマッドキラー工法"},null,{"$f":"IF(VLOOKUP(BR$1,仕様の整理!$C:$K,4,0)=\"NETIS掲載期間終了技術\",VLOOKUP(BR$1,仕様の整理!$C:$K,2,0),VLOOKUP(BR$1,仕様の整理!$C:$K,2,0)&\"（\"&VLOOKUP(BR$1,仕様の整理!$C:$K,4,0)&\"）\")&IF(VLOOKUP(BR$1,仕様の整理!$C:$O,5,0)=\"○\",\"\",\"《新規登録技術》\")","v":"FTマッドキラー工法"},null,{"$f":"IF(VLOOKUP(BT$1,仕様の整理!$C:$K,4,0)=\"NETIS掲載期間終了技術\",VLOOKUP(BT$1,仕様の整理!$C:$K,2,0),VLOOKUP(BT$1,仕様の整理!$C:$K,2,0)&\"（\"&VLOOKUP(BT$1,仕様の整理!$C:$K,4,0)&\"）\")&IF(VLOOKUP(BT$1,仕様の整理!$C:$O,5,0)=\"○\",\"\",\"《新規登録技術》\")","v":"FTマッドキラー工法"},null,{"$f":"IF(VLOOKUP(BV$1,仕様の整理!$C:$K,4,0)=\"NETIS掲載期間終了技術\",VLOOKUP(BV$1,仕様の整理!$C:$K,2,0),VLOOKUP(BV$1,仕様の整理!$C:$K,2,0)&\"（\"&VLOOKUP(BV$1,仕様の整理!$C:$K,4,0)&\"）\")&IF(VLOOKUP(BV$1,仕様の整理!$C:$O,5,0)=\"○\",\"\",\"《新規登録技術》\")","v":"FTマッドキラー工法"},null,{"$f":"IF(VLOOKUP(BX$1,仕様の整理!$C:$K,4,0)=\"NETIS掲載期間終了技術\",VLOOKUP(BX$1,仕様の整理!$C:$K,2,0),VLOOKUP(BX$1,仕様の整理!$C:$K,2,0)&\"（\"&VLOOKUP(BX$1,仕様の整理!$C:$K,4,0)&\"）\")&IF(VLOOKUP(BX$1,仕様の整理!$C:$O,5,0)=\"○\",\"\",\"《新規登録技術》\")","v":"サラサクリーン（事後評価未実施技術）"},null,{"$f":"IF(VLOOKUP(BZ$1,仕様の整理!$C:$K,4,0)=\"NETIS掲載期間終了技術\",VLOOKUP(BZ$1,仕様の整理!$C:$K,2,0),VLOOKUP(BZ$1,仕様の整理!$C:$K,2,0)&\"（\"&VLOOKUP(BZ$1,仕様の整理!$C:$K,4,0)&\"）\")&IF(VLOOKUP(BZ$1,仕様の整理!$C:$O,5,0)=\"○\",\"\",\"《新規登録技術》\")","v":"サラサクリーン（事後評価未実施技術）"},null,{"$f":"IF(VLOOKUP(CB$1,仕様の整理!$C:$K,4,0)=\"NETIS掲載期間終了技術\",VLOOKUP(CB$1,仕様の整理!$C:$K,2,0),VLOOKUP(CB$1,仕様の整理!$C:$K,2,0)&\"（\"&VLOOKUP(CB$1,仕様の整理!$C:$K,4,0)&\"）\")&IF(VLOOKUP(CB$1,仕様の整理!$C:$O,5,0)=\"○\",\"\",\"《新規登録技術》\")","v":"サラサクリーン（事後評価未実施技術）"},null,{"$f":"IF(VLOOKUP(CD$1,仕様の整理!$C:$K,4,0)=\"NETIS掲載期間終了技術\",VLOOKUP(CD$1,仕様の整理!$C:$K,2,0),VLOOKUP(CD$1,仕様の整理!$C:$K,2,0)&\"（\"&VLOOKUP(CD$1,仕様の整理!$C:$K,4,0)&\"）\")&IF(VLOOKUP(CD$1,仕様の整理!$C:$O,5,0)=\"○\",\"\",\"《新規登録技術》\")","v":"サラサクリーン（事後評価未実施技術）"},null,{"$f":"IF(VLOOKUP(CF$1,仕様の整理!$C:$K,4,0)=\"NETIS掲載期間終了技術\",VLOOKUP(CF$1,仕様の整理!$C:$K,2,0),VLOOKUP(CF$1,仕様の整理!$C:$K,2,0)&\"（\"&VLOOKUP(CF$1,仕様の整理!$C:$K,4,0)&\"）\")&IF(VLOOKUP(CF$1,仕様の整理!$C:$O,5,0)=\"○\",\"\",\"《新規登録技術》\")","v":"非セメント系中性固化材セーフティーソイル（事後評価未実施技術）"},null,{"$f":"IF(VLOOKUP(CH$1,仕様の整理!$C:$K,4,0)=\"NETIS掲載期間終了技術\",VLOOKUP(CH$1,仕様の整理!$C:$K,2,0),VLOOKUP(CH$1,仕様の整理!$C:$K,2,0)&\"（\"&VLOOKUP(CH$1,仕様の整理!$C:$K,4,0)&\"）\")&IF(VLOOKUP(CH$1,仕様の整理!$C:$O,5,0)=\"○\",\"\",\"《新規登録技術》\")","v":"非セメント系中性固化材セーフティーソイル（事後評価未実施技術）"},null,{"$f":"IF(VLOOKUP(CJ$1,仕様の整理!$C:$K,4,0)=\"NETIS掲載期間終了技術\",VLOOKUP(CJ$1,仕様の整理!$C:$K,2,0),VLOOKUP(CJ$1,仕様の整理!$C:$K,2,0)&\"（\"&VLOOKUP(CJ$1,仕様の整理!$C:$K,4,0)&\"）\")&IF(VLOOKUP(CJ$1,仕様の整理!$C:$O,5,0)=\"○\",\"\",\"《新規登録技術》\")","v":"非セメント系中性固化材セーフティーソイル（事後評価未実施技術）"},null,{"$f":"IF(VLOOKUP(CL$1,仕様の整理!$C:$K,4,0)=\"NETIS掲載期間終了技術\",VLOOKUP(CL$1,仕様の整理!$C:$K,2,0),VLOOKUP(CL$1,仕様の整理!$C:$K,2,0)&\"（\"&VLOOKUP(CL$1,仕様の整理!$C:$K,4,0)&\"）\")&IF(VLOOKUP(CL$1,仕様の整理!$C:$O,5,0)=\"○\",\"\",\"《新規登録技術》\")","v":"非セメント系中性固化材セーフティーソイル（事後評価未実施技術）"},null,{"$f":"IF(VLOOKUP(CN$1,仕様の整理!$C:$K,4,0)=\"NETIS掲載期間終了技術\",VLOOKUP(CN$1,仕様の整理!$C:$K,2,0),VLOOKUP(CN$1,仕様の整理!$C:$K,2,0)&\"（\"&VLOOKUP(CN$1,仕様の整理!$C:$K,4,0)&\"）\")&IF(VLOOKUP(CN$1,仕様の整理!$C:$O,5,0)=\"○\",\"\",\"《新規登録技術》\")","v":"LDH系重金属類吸着剤「メタルグリッドA」（事後評価未実施技術）"},null,{"$f":"IF(VLOOKUP(CP$1,仕様の整理!$C:$K,4,0)=\"NETIS掲載期間終了技術\",VLOOKUP(CP$1,仕様の整理!$C:$K,2,0),VLOOKUP(CP$1,仕様の整理!$C:$K,2,0)&\"（\"&VLOOKUP(CP$1,仕様の整理!$C:$K,4,0)&\"）\")&IF(VLOOKUP(CP$1,仕様の整理!$C:$O,5,0)=\"○\",\"\",\"《新規登録技術》\")","v":"LDH系重金属類吸着剤「メタルグリッドA」（事後評価未実施技術）"},null,{"$f":"IF(VLOOKUP(CR$1,仕様の整理!$C:$K,4,0)=\"NETIS掲載期間終了技術\",VLOOKUP(CR$1,仕様の整理!$C:$K,2,0),VLOOKUP(CR$1,仕様の整理!$C:$K,2,0)&\"（\"&VLOOKUP(CR$1,仕様の整理!$C:$K,4,0)&\"）\")&IF(VLOOKUP(CR$1,仕様の整理!$C:$O,5,0)=\"○\",\"\",\"《新規登録技術》\")","v":"重金属不溶化材「ポーラミックス」（事後評価未実施技術）"},null,{"$f":"IF(VLOOKUP(CT$1,仕様の整理!$C:$K,4,0)=\"NETIS掲載期間終了技術\",VLOOKUP(CT$1,仕様の整理!$C:$K,2,0),VLOOKUP(CT$1,仕様の整理!$C:$K,2,0)&\"（\"&VLOOKUP(CT$1,仕様の整理!$C:$K,4,0)&\"）\")&IF(VLOOKUP(CT$1,仕様の整理!$C:$O,5,0)=\"○\",\"\",\"《新規登録技術》\")","v":"重金属不溶化材「ポーラミックス」（事後評価未実施技術）"},null,{"$f":"IF(VLOOKUP(CV$1,仕様の整理!$C:$K,4,0)=\"NETIS掲載期間終了技術\",VLOOKUP(CV$1,仕様の整理!$C:$K,2,0),VLOOKUP(CV$1,仕様の整理!$C:$K,2,0)&\"（\"&VLOOKUP(CV$1,仕様の整理!$C:$K,4,0)&\"）\")&IF(VLOOKUP(CV$1,仕様の整理!$C:$O,5,0)=\"○\",\"\",\"《新規登録技術》\")","v":"中和不溶化改質剤 メタルシャット シリーズ（事後評価未実施技術）"},null,{"$f":"IF(VLOOKUP(CX$1,仕様の整理!$C:$K,4,0)=\"NETIS掲載期間終了技術\",VLOOKUP(CX$1,仕様の整理!$C:$K,2,0),VLOOKUP(CX$1,仕様の整理!$C:$K,2,0)&\"（\"&VLOOKUP(CX$1,仕様の整理!$C:$K,4,0)&\"）\")&IF(VLOOKUP(CX$1,仕様の整理!$C:$O,5,0)=\"○\",\"\",\"《新規登録技術》\")","v":"中和不溶化改質剤 メタルシャット シリーズ（事後評価未実施技術）"},null,{"$f":"IF(VLOOKUP(CZ$1,仕様の整理!$C:$K,4,0)=\"NETIS掲載期間終了技術\",VLOOKUP(CZ$1,仕様の整理!$C:$K,2,0),VLOOKUP(CZ$1,仕様の整理!$C:$K,2,0)&\"（\"&VLOOKUP(CZ$1,仕様の整理!$C:$K,4,0)&\"）\")&IF(VLOOKUP(CZ$1,仕様の整理!$C:$O,5,0)=\"○\",\"\",\"《新規登録技術》\")","v":"中和不溶化改質剤 メタルシャット シリーズ（事後評価未実施技術）"},null,{"$f":"IF(VLOOKUP(DB$1,仕様の整理!$C:$K,4,0)=\"NETIS掲載期間終了技術\",VLOOKUP(DB$1,仕様の整理!$C:$K,2,0),VLOOKUP(DB$1,仕様の整理!$C:$K,2,0)&\"（\"&VLOOKUP(DB$1,仕様の整理!$C:$K,4,0)&\"）\")&IF(VLOOKUP(DB$1,仕様の整理!$C:$O,5,0)=\"○\",\"\",\"《新規登録技術》\")","v":"中和不溶化改質剤 メタルシャット シリーズ（事後評価未実施技術）"},null,{"$f":"IF(VLOOKUP(DD$1,仕様の整理!$C:$K,4,0)=\"NETIS掲載期間終了技術\",VLOOKUP(DD$1,仕様の整理!$C:$K,2,0),VLOOKUP(DD$1,仕様の整理!$C:$K,2,0)&\"（\"&VLOOKUP(DD$1,仕様の整理!$C:$K,4,0)&\"）\")&IF(VLOOKUP(DD$1,仕様の整理!$C:$O,5,0)=\"○\",\"\",\"《新規登録技術》\")","v":"中和不溶化改質剤 メタルシャット シリーズ（事後評価未実施技術）"},null,{"$f":"IF(VLOOKUP(DF$1,仕様の整理!$C:$K,4,0)=\"NETIS掲載期間終了技術\",VLOOKUP(DF$1,仕様の整理!$C:$K,2,0),VLOOKUP(DF$1,仕様の整理!$C:$K,2,0)&\"（\"&VLOOKUP(DF$1,仕様の整理!$C:$K,4,0)&\"）\")&IF(VLOOKUP(DF$1,仕様の整理!$C:$O,5,0)=\"○\",\"\",\"《新規登録技術》\")","v":"中和不溶化改質剤 メタルシャット シリーズ（事後評価未実施技術）"},null,{"$f":"IF(VLOOKUP(DH$1,仕様の整理!$C:$K,4,0)=\"NETIS掲載期間終了技術\",VLOOKUP(DH$1,仕様の整理!$C:$K,2,0),VLOOKUP(DH$1,仕様の整理!$C:$K,2,0)&\"（\"&VLOOKUP(DH$1,仕様の整理!$C:$K,4,0)&\"）\")&IF(VLOOKUP(DH$1,仕様の整理!$C:$O,5,0)=\"○\",\"\",\"《新規登録技術》\")","v":"重金属不溶化材「メタルキャッチャーＺ」（事後評価未実施技術）"},null,{"$f":"IF(VLOOKUP(DJ$1,仕様の整理!$C:$K,4,0)=\"NETIS掲載期間終了技術\",VLOOKUP(DJ$1,仕様の整理!$C:$K,2,0),VLOOKUP(DJ$1,仕様の整理!$C:$K,2,0)&\"（\"&VLOOKUP(DJ$1,仕様の整理!$C:$K,4,0)&\"）\")&IF(VLOOKUP(DJ$1,仕様の整理!$C:$O,5,0)=\"○\",\"\",\"《新規登録技術》\")","v":"重金属不溶化材「メタルキャッチャーＺ」（事後評価未実施技術）"},null,{"$f":"IF(VLOOKUP(DL$1,仕様の整理!$C:$K,4,0)=\"NETIS掲載期間終了技術\",VLOOKUP(DL$1,仕様の整理!$C:$K,2,0),VLOOKUP(DL$1,仕様の整理!$C:$K,2,0)&\"（\"&VLOOKUP(DL$1,仕様の整理!$C:$K,4,0)&\"）\")&IF(VLOOKUP(DL$1,仕様の整理!$C:$O,5,0)=\"○\",\"\",\"《新規登録技術》\")","v":"中性改質剤 ハードレックス シリーズ（事後評価未実施技術）"},null,{"$f":"IF(VLOOKUP(DN$1,仕様の整理!$C:$K,4,0)=\"NETIS掲載期間終了技術\",VLOOKUP(DN$1,仕様の整理!$C:$K,2,0),VLOOKUP(DN$1,仕様の整理!$C:$K,2,0)&\"（\"&VLOOKUP(DN$1,仕様の整理!$C:$K,4,0)&\"）\")&IF(VLOOKUP(DN$1,仕様の整理!$C:$O,5,0)=\"○\",\"\",\"《新規登録技術》\")","v":"中性改質剤 ハードレックス シリーズ（事後評価未実施技術）"},null,{"$f":"IF(VLOOKUP(DP$1,仕様の整理!$C:$K,4,0)=\"NETIS掲載期間終了技術\",VLOOKUP(DP$1,仕様の整理!$C:$K,2,0),VLOOKUP(DP$1,仕様の整理!$C:$K,2,0)&\"（\"&VLOOKUP(DP$1,仕様の整理!$C:$K,4,0)&\"）\")&IF(VLOOKUP(DP$1,仕様の整理!$C:$O,5,0)=\"○\",\"\",\"《新規登録技術》\")","v":"中性改質剤 ハードレックス シリーズ（事後評価未実施技術）"},null,{"$f":"IF(VLOOKUP(DR$1,仕様の整理!$C:$K,4,0)=\"NETIS掲載期間終了技術\",VLOOKUP(DR$1,仕様の整理!$C:$K,2,0),VLOOKUP(DR$1,仕様の整理!$C:$K,2,0)&\"（\"&VLOOKUP(DR$1,仕様の整理!$C:$K,4,0)&\"）\")&IF(VLOOKUP(DR$1,仕様の整理!$C:$O,5,0)=\"○\",\"\",\"《新規登録技術》\")","v":"中性改質剤 ハードレックス シリーズ（事後評価未実施技術）"},null,{"$f":"IF(VLOOKUP(DT$1,仕様の整理!$C:$K,4,0)=\"NETIS掲載期間終了技術\",VLOOKUP(DT$1,仕様の整理!$C:$K,2,0),VLOOKUP(DT$1,仕様の整理!$C:$K,2,0)&\"（\"&VLOOKUP(DT$1,仕様の整理!$C:$K,4,0)&\"）\")&IF(VLOOKUP(DT$1,仕様の整理!$C:$O,5,0)=\"○\",\"\",\"《新規登録技術》\")","v":"重金属不溶化材「グリーンライムMPシリーズ」（事後評価未実施技術）"},null,{"$f":"IF(VLOOKUP(DV$1,仕様の整理!$C:$K,4,0)=\"NETIS掲載期間終了技術\",VLOOKUP(DV$1,仕様の整理!$C:$K,2,0),VLOOKUP(DV$1,仕様の整理!$C:$K,2,0)&\"（\"&VLOOKUP(DV$1,仕様の整理!$C:$K,4,0)&\"）\")&IF(VLOOKUP(DV$1,仕様の整理!$C:$O,5,0)=\"○\",\"\",\"《新規登録技術》\")","v":"重金属不溶化材「グリーンライムMPシリーズ」（事後評価未実施技術）"},null,{"$f":"IF(VLOOKUP(DX$1,仕様の整理!$C:$K,4,0)=\"NETIS掲載期間終了技術\",VLOOKUP(DX$1,仕様の整理!$C:$K,2,0),VLOOKUP(DX$1,仕様の整理!$C:$K,2,0)&\"（\"&VLOOKUP(DX$1,仕様の整理!$C:$K,4,0)&\"）\")&IF(VLOOKUP(DX$1,仕様の整理!$C:$O,5,0)=\"○\",\"\",\"《新規登録技術》\")","v":"重金属不溶化材スラリーTP-S（事後評価未実施技術）"},null,{"$f":"IF(VLOOKUP(DZ$1,仕様の整理!$C:$K,4,0)=\"NETIS掲載期間終了技術\",VLOOKUP(DZ$1,仕様の整理!$C:$K,2,0),VLOOKUP(DZ$1,仕様の整理!$C:$K,2,0)&\"（\"&VLOOKUP(DZ$1,仕様の整理!$C:$K,4,0)&\"）\")&IF(VLOOKUP(DZ$1,仕様の整理!$C:$O,5,0)=\"○\",\"\",\"《新規登録技術》\")","v":"重金属不溶化材スラリーTP-S（事後評価未実施技術）"},null,{"$f":"IF(VLOOKUP(EB$1,仕様の整理!$C:$K,4,0)=\"NETIS掲載期間終了技術\",VLOOKUP(EB$1,仕様の整理!$C:$K,2,0),VLOOKUP(EB$1,仕様の整理!$C:$K,2,0)&\"（\"&VLOOKUP(EB$1,仕様の整理!$C:$K,4,0)&\"）\")&IF(VLOOKUP(EB$1,仕様の整理!$C:$O,5,0)=\"○\",\"\",\"《新規登録技術》\")","v":"防塵タイプ中性土質改良材「セパットソイルSシリーズ」（事後評価未実施技術）"},null,{"$f":"IF(VLOOKUP(ED$1,仕様の整理!$C:$K,4,0)=\"NETIS掲載期間終了技術\",VLOOKUP(ED$1,仕様の整理!$C:$K,2,0),VLOOKUP(ED$1,仕様の整理!$C:$K,2,0)&\"（\"&VLOOKUP(ED$1,仕様の整理!$C:$K,4,0)&\"）\")&IF(VLOOKUP(ED$1,仕様の整理!$C:$O,5,0)=\"○\",\"\",\"《新規登録技術》\")","v":"防塵タイプ中性土質改良材「セパットソイルSシリーズ」（事後評価未実施技術）"},null,{"$f":"IF(VLOOKUP(EF$1,仕様の整理!$C:$K,4,0)=\"NETIS掲載期間終了技術\",VLOOKUP(EF$1,仕様の整理!$C:$K,2,0),VLOOKUP(EF$1,仕様の整理!$C:$K,2,0)&\"（\"&VLOOKUP(EF$1,仕様の整理!$C:$K,4,0)&\"）\")&IF(VLOOKUP(EF$1,仕様の整理!$C:$O,5,0)=\"○\",\"\",\"《新規登録技術》\")","v":"中性土壌改質剤アースレフォールシリーズ（事後評価未実施技術）"},null,{"$f":"IF(VLOOKUP(EH$1,仕様の整理!$C:$K,4,0)=\"NETIS掲載期間終了技術\",VLOOKUP(EH$1,仕様の整理!$C:$K,2,0),VLOOKUP(EH$1,仕様の整理!$C:$K,2,0)&\"（\"&VLOOKUP(EH$1,仕様の整理!$C:$K,4,0)&\"）\")&IF(VLOOKUP(EH$1,仕様の整理!$C:$O,5,0)=\"○\",\"\",\"《新規登録技術》\")","v":"中性土壌改質剤アースレフォールシリーズ（事後評価未実施技術）"},null,{"$f":"IF(VLOOKUP(EJ$1,仕様の整理!$C:$K,4,0)=\"NETIS掲載期間終了技術\",VLOOKUP(EJ$1,仕様の整理!$C:$K,2,0),VLOOKUP(EJ$1,仕様の整理!$C:$K,2,0)&\"（\"&VLOOKUP(EJ$1,仕様の整理!$C:$K,4,0)&\"）\")&IF(VLOOKUP(EJ$1,仕様の整理!$C:$O,5,0)=\"○\",\"\",\"《新規登録技術》\")","v":"中性土壌改質剤アースレフォールシリーズ（事後評価未実施技術）"},null,{"$f":"IF(VLOOKUP(EL$1,仕様の整理!$C:$K,4,0)=\"NETIS掲載期間終了技術\",VLOOKUP(EL$1,仕様の整理!$C:$K,2,0),VLOOKUP(EL$1,仕様の整理!$C:$K,2,0)&\"（\"&VLOOKUP(EL$1,仕様の整理!$C:$K,4,0)&\"）\")&IF(VLOOKUP(EL$1,仕様の整理!$C:$O,5,0)=\"○\",\"\",\"《新規登録技術》\")","v":"泥土短期改質材「バサRaミクス」（事後評価未実施技術）"},null,{"$f":"IF(VLOOKUP(EN$1,仕様の整理!$C:$K,4,0)=\"NETIS掲載期間終了技術\",VLOOKUP(EN$1,仕様の整理!$C:$K,2,0),VLOOKUP(EN$1,仕様の整理!$C:$K,2,0)&\"（\"&VLOOKUP(EN$1,仕様の整理!$C:$K,4,0)&\"）\")&IF(VLOOKUP(EN$1,仕様の整理!$C:$O,5,0)=\"○\",\"\",\"《新規登録技術》\")","v":"泥土短期改質材「バサRaミクス」（事後評価未実施技術）"},null,{"$f":"IF(VLOOKUP(EP$1,仕様の整理!$C:$K,4,0)=\"NETIS掲載期間終了技術\",VLOOKUP(EP$1,仕様の整理!$C:$K,2,0),VLOOKUP(EP$1,仕様の整理!$C:$K,2,0)&\"（\"&VLOOKUP(EP$1,仕様の整理!$C:$K,4,0)&\"）\")&IF(VLOOKUP(EP$1,仕様の整理!$C:$O,5,0)=\"○\",\"\",\"《新規登録技術》\")","v":"土壌の中性固化材「グリーンライムNシリーズ」（事後評価未実施技術）"},null,{"$f":"IF(VLOOKUP(ER$1,仕様の整理!$C:$K,4,0)=\"NETIS掲載期間終了技術\",VLOOKUP(ER$1,仕様の整理!$C:$K,2,0),VLOOKUP(ER$1,仕様の整理!$C:$K,2,0)&\"（\"&VLOOKUP(ER$1,仕様の整理!$C:$K,4,0)&\"）\")&IF(VLOOKUP(ER$1,仕様の整理!$C:$O,5,0)=\"○\",\"\",\"《新規登録技術》\")","v":"土壌の中性固化材「グリーンライムNシリーズ」（事後評価未実施技術）"},null,{"$f":"IF(VLOOKUP(ET$1,仕様の整理!$C:$K,4,0)=\"NETIS掲載期間終了技術\",VLOOKUP(ET$1,仕様の整理!$C:$K,2,0),VLOOKUP(ET$1,仕様の整理!$C:$K,2,0)&\"（\"&VLOOKUP(ET$1,仕様の整理!$C:$K,4,0)&\"）\")&IF(VLOOKUP(ET$1,仕様の整理!$C:$O,5,0)=\"○\",\"\",\"《新規登録技術》\")","v":"土壌の中性固化材「グリーンライムNシリーズ」（事後評価未実施技術）"},null,{"$f":"IF(VLOOKUP(EV$1,仕様の整理!$C:$K,4,0)=\"NETIS掲載期間終了技術\",VLOOKUP(EV$1,仕様の整理!$C:$K,2,0),VLOOKUP(EV$1,仕様の整理!$C:$K,2,0)&\"（\"&VLOOKUP(EV$1,仕様の整理!$C:$K,4,0)&\"）\")&IF(VLOOKUP(EV$1,仕様の整理!$C:$O,5,0)=\"○\",\"\",\"《新規登録技術》\")","v":"土壌の中性固化材「グリーンライムNシリーズ」（事後評価未実施技術）"},null,{"$f":"IF(VLOOKUP(EX$1,仕様の整理!$C:$K,4,0)=\"NETIS掲載期間終了技術\",VLOOKUP(EX$1,仕様の整理!$C:$K,2,0),VLOOKUP(EX$1,仕様の整理!$C:$K,2,0)&\"（\"&VLOOKUP(EX$1,仕様の整理!$C:$K,4,0)&\"）\")&IF(VLOOKUP(EX$1,仕様の整理!$C:$O,5,0)=\"○\",\"\",\"《新規登録技術》\")","v":"土壌の中性固化材「グリーンライムNシリーズ」（事後評価未実施技術）"},null,{"$f":"IF(VLOOKUP(EZ$1,仕様の整理!$C:$K,4,0)=\"NETIS掲載期間終了技術\",VLOOKUP(EZ$1,仕様の整理!$C:$K,2,0),VLOOKUP(EZ$1,仕様の整理!$C:$K,2,0)&\"（\"&VLOOKUP(EZ$1,仕様の整理!$C:$K,4,0)&\"）\")&IF(VLOOKUP(EZ$1,仕様の整理!$C:$O,5,0)=\"○\",\"\",\"《新規登録技術》\")","v":"土壌改良固化材「ハーデンＬ」（事後評価未実施技術）"},null,{"$f":"IF(VLOOKUP(FB$1,仕様の整理!$C:$K,4,0)=\"NETIS掲載期間終了技術\",VLOOKUP(FB$1,仕様の整理!$C:$K,2,0),VLOOKUP(FB$1,仕様の整理!$C:$K,2,0)&\"（\"&VLOOKUP(FB$1,仕様の整理!$C:$K,4,0)&\"）\")&IF(VLOOKUP(FB$1,仕様の整理!$C:$O,5,0)=\"○\",\"\",\"《新規登録技術》\")","v":"土壌改良固化材「ハーデンＬ」（事後評価未実施技術）"},null,{"$f":"IF(VLOOKUP(FD$1,仕様の整理!$C:$K,4,0)=\"NETIS掲載期間終了技術\",VLOOKUP(FD$1,仕様の整理!$C:$K,2,0),VLOOKUP(FD$1,仕様の整理!$C:$K,2,0)&\"（\"&VLOOKUP(FD$1,仕様の整理!$C:$K,4,0)&\"）\")&IF(VLOOKUP(FD$1,仕様の整理!$C:$O,5,0)=\"○\",\"\",\"《新規登録技術》\")","v":"土壌改良固化材「ハーデンＬ」（事後評価未実施技術）"},null,{"$f":"IF(VLOOKUP(FF$1,仕様の整理!$C:$K,4,0)=\"NETIS掲載期間終了技術\",VLOOKUP(FF$1,仕様の整理!$C:$K,2,0),VLOOKUP(FF$1,仕様の整理!$C:$K,2,0)&\"（\"&VLOOKUP(FF$1,仕様の整理!$C:$K,4,0)&\"）\")&IF(VLOOKUP(FF$1,仕様の整理!$C:$O,5,0)=\"○\",\"\",\"《新規登録技術》\")","v":"土壌改良固化材「ハーデンＬ」（事後評価未実施技術）"},null,{"$f":"IF(VLOOKUP(FH$1,仕様の整理!$C:$K,4,0)=\"NETIS掲載期間終了技術\",VLOOKUP(FH$1,仕様の整理!$C:$K,2,0),VLOOKUP(FH$1,仕様の整理!$C:$K,2,0)&\"（\"&VLOOKUP(FH$1,仕様の整理!$C:$K,4,0)&\"）\")&IF(VLOOKUP(FH$1,仕様の整理!$C:$O,5,0)=\"○\",\"\",\"《新規登録技術》\")","v":"土壌改良粉末中性固化剤「CS-1シリーズ」（事後評価未実施技術）《新規登録技術》"},null,{"$f":"IF(VLOOKUP(FJ$1,仕様の整理!$C:$K,4,0)=\"NETIS掲載期間終了技術\",VLOOKUP(FJ$1,仕様の整理!$C:$K,2,0),VLOOKUP(FJ$1,仕様の整理!$C:$K,2,0)&\"（\"&VLOOKUP(FJ$1,仕様の整理!$C:$K,4,0)&\"）\")&IF(VLOOKUP(FJ$1,仕様の整理!$C:$O,5,0)=\"○\",\"\",\"《新規登録技術》\")","v":"土壌改良粉末中性固化剤「CS-1シリーズ」（事後評価未実施技術）《新規登録技術》"},null,{"$f":"IF(VLOOKUP(FL$1,仕様の整理!$C:$K,4,0)=\"NETIS掲載期間終了技術\",VLOOKUP(FL$1,仕様の整理!$C:$K,2,0),VLOOKUP(FL$1,仕様の整理!$C:$K,2,0)&\"（\"&VLOOKUP(FL$1,仕様の整理!$C:$K,4,0)&\"）\")&IF(VLOOKUP(FL$1,仕様の整理!$C:$O,5,0)=\"○\",\"\",\"《新規登録技術》\")","v":"土壌改良粉末中性固化剤「CS-1シリーズ」（事後評価未実施技術）《新規登録技術》"},null,{"$f":"IF(VLOOKUP(FN$1,仕様の整理!$C:$K,4,0)=\"NETIS掲載期間終了技術\",VLOOKUP(FN$1,仕様の整理!$C:$K,2,0),VLOOKUP(FN$1,仕様の整理!$C:$K,2,0)&\"（\"&VLOOKUP(FN$1,仕様の整理!$C:$K,4,0)&\"）\")&IF(VLOOKUP(FN$1,仕様の整理!$C:$O,5,0)=\"○\",\"\",\"《新規登録技術》\")","v":"土壌改良粉末中性固化剤「CS-1シリーズ」（事後評価未実施技術）《新規登録技術》"},null,{"$f":"IF(VLOOKUP(FP$1,仕様の整理!$C:$K,4,0)=\"NETIS掲載期間終了技術\",VLOOKUP(FP$1,仕様の整理!$C:$K,2,0),VLOOKUP(FP$1,仕様の整理!$C:$K,2,0)&\"（\"&VLOOKUP(FP$1,仕様の整理!$C:$K,4,0)&\"）\")&IF(VLOOKUP(FP$1,仕様の整理!$C:$O,5,0)=\"○\",\"\",\"《新規登録技術》\")","v":"土壌改良粉末中性固化剤「CS-1シリーズ」（事後評価未実施技術）《新規登録技術》"},null,{"$f":"IF(VLOOKUP(FR$1,仕様の整理!$C:$K,4,0)=\"NETIS掲載期間終了技術\",VLOOKUP(FR$1,仕様の整理!$C:$K,2,0),VLOOKUP(FR$1,仕様の整理!$C:$K,2,0)&\"（\"&VLOOKUP(FR$1,仕様の整理!$C:$K,4,0)&\"）\")&IF(VLOOKUP(FR$1,仕様の整理!$C:$O,5,0)=\"○\",\"\",\"《新規登録技術》\")","v":"土壌改良粉末中性固化剤「CS-1シリーズ」（事後評価未実施技術）《新規登録技術》"},null,{"$f":"IF(VLOOKUP(FT$1,仕様の整理!$C:$K,4,0)=\"NETIS掲載期間終了技術\",VLOOKUP(FT$1,仕様の整理!$C:$K,2,0),VLOOKUP(FT$1,仕様の整理!$C:$K,2,0)&\"（\"&VLOOKUP(FT$1,仕様の整理!$C:$K,4,0)&\"）\")&IF(VLOOKUP(FT$1,仕様の整理!$C:$O,5,0)=\"○\",\"\",\"《新規登録技術》\")","v":"天然植物及び鉱物性由来セメント系固化材「オプスコン」（事後評価未実施技術）《新規登録技術》"},null,{"$f":"IF(VLOOKUP(FV$1,仕様の整理!$C:$K,4,0)=\"NETIS掲載期間終了技術\",VLOOKUP(FV$1,仕様の整理!$C:$K,2,0),VLOOKUP(FV$1,仕様の整理!$C:$K,2,0)&\"（\"&VLOOKUP(FV$1,仕様の整理!$C:$K,4,0)&\"）\")&IF(VLOOKUP(FV$1,仕様の整理!$C:$O,5,0)=\"○\",\"\",\"《新規登録技術》\")","v":"天然植物及び鉱物性由来セメント系固化材「オプスコン」（事後評価未実施技術）《新規登録技術》"},null,{"$f":"IF(VLOOKUP(FX$1,仕様の整理!$C:$K,4,0)=\"NETIS掲載期間終了技術\",VLOOKUP(FX$1,仕様の整理!$C:$K,2,0),VLOOKUP(FX$1,仕様の整理!$C:$K,2,0)&\"（\"&VLOOKUP(FX$1,仕様の整理!$C:$K,4,0)&\"）\")&IF(VLOOKUP(FX$1,仕様の整理!$C:$O,5,0)=\"○\",\"\",\"《新規登録技術》\")","v":"天然植物及び鉱物性由来セメント系固化材「オプスコン」（事後評価未実施技術）《新規登録技術》"},null,{"$f":"IF(VLOOKUP(FZ$1,仕様の整理!$C:$K,4,0)=\"NETIS掲載期間終了技術\",VLOOKUP(FZ$1,仕様の整理!$C:$K,2,0),VLOOKUP(FZ$1,仕様の整理!$C:$K,2,0)&\"（\"&VLOOKUP(FZ$1,仕様の整理!$C:$K,4,0)&\"）\")&IF(VLOOKUP(FZ$1,仕様の整理!$C:$O,5,0)=\"○\",\"\",\"《新規登録技術》\")","v":"天然植物及び鉱物性由来セメント系固化材「オプスコン」（事後評価未実施技術）《新規登録技術》"},null,{"$f":"IF(VLOOKUP(GB$1,仕様の整理!$C:$K,4,0)=\"NETIS掲載期間終了技術\",VLOOKUP(GB$1,仕様の整理!$C:$K,2,0),VLOOKUP(GB$1,仕様の整理!$C:$K,2,0)&\"（\"&VLOOKUP(GB$1,仕様の整理!$C:$K,4,0)&\"）\")&IF(VLOOKUP(GB$1,仕様の整理!$C:$O,5,0)=\"○\",\"\",\"《新規登録技術》\")","v":"天然植物及び鉱物性由来セメント系固化材「オプスコン」（事後評価未実施技術）《新規登録技術》"},null,{"$f":"IF(VLOOKUP(GD$1,仕様の整理!$C:$K,4,0)=\"NETIS掲載期間終了技術\",VLOOKUP(GD$1,仕様の整理!$C:$K,2,0),VLOOKUP(GD$1,仕様の整理!$C:$K,2,0)&\"（\"&VLOOKUP(GD$1,仕様の整理!$C:$K,4,0)&\"）\")&IF(VLOOKUP(GD$1,仕様の整理!$C:$O,5,0)=\"○\",\"\",\"《新規登録技術》\")","v":"地盤改良材（アッシュベリー）（事後評価未実施技術）《新規登録技術》"},null,{"$f":"IF(VLOOKUP(GF$1,仕様の整理!$C:$K,4,0)=\"NETIS掲載期間終了技術\",VLOOKUP(GF$1,仕様の整理!$C:$K,2,0),VLOOKUP(GF$1,仕様の整理!$C:$K,2,0)&\"（\"&VLOOKUP(GF$1,仕様の整理!$C:$K,4,0)&\"）\")&IF(VLOOKUP(GF$1,仕様の整理!$C:$O,5,0)=\"○\",\"\",\"《新規登録技術》\")","v":"地盤改良材（アッシュベリー）（事後評価未実施技術）《新規登録技術》"},null,{"$f":"IF(VLOOKUP(GH$1,仕様の整理!$C:$K,4,0)=\"NETIS掲載期間終了技術\",VLOOKUP(GH$1,仕様の整理!$C:$K,2,0),VLOOKUP(GH$1,仕様の整理!$C:$K,2,0)&\"（\"&VLOOKUP(GH$1,仕様の整理!$C:$K,4,0)&\"）\")&IF(VLOOKUP(GH$1,仕様の整理!$C:$O,5,0)=\"○\",\"\",\"《新規登録技術》\")","v":"地盤改良材（アッシュベリー）（事後評価未実施技術）《新規登録技術》"},null,{"$f":"IF(VLOOKUP(GJ$1,仕様の整理!$C:$K,4,0)=\"NETIS掲載期間終了技術\",VLOOKUP(GJ$1,仕様の整理!$C:$K,2,0),VLOOKUP(GJ$1,仕様の整理!$C:$K,2,0)&\"（\"&VLOOKUP(GJ$1,仕様の整理!$C:$K,4,0)&\"）\")&IF(VLOOKUP(GJ$1,仕様の整理!$C:$O,5,0)=\"○\",\"\",\"《新規登録技術》\")","v":"地盤改良材（アッシュベリー）（事後評価未実施技術）《新規登録技術》"}]
[null,"①","ＮＥＴＩＳ登録番号",null,null,{"$f":"IF(VLOOKUP(F$1,仕様の整理!$C:$K,4,0)=\"NETIS掲載期間終了技術\",\"NETIS掲載期間終了技術\",VLOOKUP(F$1,仕様の整理!$C:$K,3,0))","v":"NETIS掲載期間終了技術"},null,{"$f":"IF(VLOOKUP(H$1,仕様の整理!$C:$K,4,0)=\"NETIS掲載期間終了技術\",\"NETIS掲載期間終了技術\",VLOOKUP(H$1,仕様の整理!$C:$K,3,0))","v":"NETIS掲載期間終了技術"},null,{"$f":"IF(VLOOKUP(J$1,仕様の整理!$C:$K,4,0)=\"NETIS掲載期間終了技術\",\"NETIS掲載期間終了技術\",VLOOKUP(J$1,仕様の整理!$C:$K,3,0))","v":"NETIS掲載期間終了技術"},null,{"$f":"IF(VLOOKUP(L$1,仕様の整理!$C:$K,4,0)=\"NETIS掲載期間終了技術\",\"NETIS掲載期間終了技術\",VLOOKUP(L$1,仕様の整理!$C:$K,3,0))","v":"NETIS掲載期間終了技術"},null,{"$f":"IF(VLOOKUP(N$1,仕様の整理!$C:$K,4,0)=\"NETIS掲載期間終了技術\",\"NETIS掲載期間終了技術\",VLOOKUP(N$1,仕様の整理!$C:$K,3,0))","v":"NETIS掲載期間終了技術"},null,{"$f":"IF(VLOOKUP(P$1,仕様の整理!$C:$K,4,0)=\"NETIS掲載期間終了技術\",\"NETIS掲載期間終了技術\",VLOOKUP(P$1,仕様の整理!$C:$K,3,0))","v":"NETIS掲載期間終了技術"},null,{"$f":"IF(VLOOKUP(R$1,仕様の整理!$C:$K,4,0)=\"NETIS掲載期間終了技術\",\"NETIS掲載期間終了技術\",VLOOKUP(R$1,仕様の整理!$C:$K,3,0))","v":"NETIS掲載期間終了技術"},null,{"$f":"IF(VLOOKUP(T$1,仕様の整理!$C:$K,4,0)=\"NETIS掲載期間終了技術\",\"NETIS掲載期間終了技術\",VLOOKUP(T$1,仕様の整理!$C:$K,3,0))","v":"KT-200094-A"},null,{"$f":"IF(VLOOKUP(V$1,仕様の整理!$C:$K,4,0)=\"NETIS掲載期間終了技術\",\"NETIS掲載期間終了技術\",VLOOKUP(V$1,仕様の整理!$C:$K,3,0))","v":"KT-200094-A"},null,{"$f":"IF(VLOOKUP(X$1,仕様の整理!$C:$K,4,0)=\"NETIS掲載期間終了技術\",\"NETIS掲載期間終了技術\",VLOOKUP(X$1,仕様の整理!$C:$K,3,0))","v":"KT-210047-VE"},null,{"$f":"IF(VLOOKUP(Z$1,仕様の整理!$C:$K,4,0)=\"NETIS掲載期間終了技術\",\"NETIS掲載期間終了技術\",VLOOKUP(Z$1,仕様の整理!$C:$K,3,0))","v":"KT-210047-VE"},null,{"$f":"IF(VLOOKUP(AB$1,仕様の整理!$C:$K,4,0)=\"NETIS掲載期間終了技術\",\"NETIS掲載期間終了技術\",VLOOKUP(AB$1,仕様の整理!$C:$K,3,0))","v":"SK-220002-A"},null,{"$f":"IF(VLOOKUP(AD$1,仕様の整理!$C:$K,4,0)=\"NETIS掲載期間終了技術\",\"NETIS掲載期間終了技術\",VLOOKUP(AD$1,仕様の整理!$C:$K,3,0))","v":"SK-220002-A"},null,{"$f":"IF(VLOOKUP(AF$1,仕様の整理!$C:$K,4,0)=\"NETIS掲載期間終了技術\",\"NETIS掲載期間終了技術\",VLOOKUP(AF$1,仕様の整理!$C:$K,3,0))","v":"TH-160010-VE"},null,{"$f":"IF(VLOOKUP(AH$1,仕様の整理!$C:$K,4,0)=\"NETIS掲載期間終了技術\",\"NETIS掲載期間終了技術\",VLOOKUP(AH$1,仕様の整理!$C:$K,3,0))","v":"TH-160010-VE"},null,{"$f":"IF(VLOOKUP(AJ$1,仕様の整理!$C:$K,4,0)=\"NETIS掲載期間終了技術\",\"NETIS掲載期間終了技術\",VLOOKUP(AJ$1,仕様の整理!$C:$K,3,0))","v":"TH-160010-VE"},null,{"$f":"IF(VLOOKUP(AL$1,仕様の整理!$C:$K,4,0)=\"NETIS掲載期間終了技術\",\"NETIS掲載期間終了技術\",VLOOKUP(AL$1,仕様の整理!$C:$K,3,0))","v":"TH-160010-VE"},null,{"$f":"IF(VLOOKUP(AN$1,仕様の整理!$C:$K,4,0)=\"NETIS掲載期間終了技術\",\"NETIS掲載期間終了技術\",VLOOKUP(AN$1,仕様の整理!$C:$K,3,0))","v":"CBK-150001-VR"},null,{"$f":"IF(VLOOKUP(AP$1,仕様の整理!$C:$K,4,0)=\"NETIS掲載期間終了技術\",\"NETIS掲載期間終了技術\",VLOOKUP(AP$1,仕様の整理!$C:$K,3,0))","v":"CBK-150001-VR"},null,{"$f":"IF(VLOOKUP(AR$1,仕様の整理!$C:$K,4,0)=\"NETIS掲載期間終了技術\",\"NETIS掲載期間終了技術\",VLOOKUP(AR$1,仕様の整理!$C:$K,3,0))","v":"NETIS掲載期間終了技術"},null,{"$f":"IF(VLOOKUP(AT$1,仕様の整理!$C:$K,4,0)=\"NETIS掲載期間終了技術\",\"NETIS掲載期間終了技術\",VLOOKUP(AT$1,仕様の整理!$C:$K,3,0))","v":"NETIS掲載期間終了技術"},null,{"$f":"IF(VLOOKUP(AV$1,仕様の整理!$C:$K,4,0)=\"NETIS掲載期間終了技術\",\"NETIS掲載期間終了技術\",VLOOKUP(AV$1,仕様の整理!$C:$K,3,0))","v":"NETIS掲載期間終了技術"},null,{"$f":"IF(VLOOKUP(AX$1,仕様の整理!$C:$K,4,0)=\"NETIS掲載期間終了技術\",\"NETIS掲載期間終了技術\",VLOOKUP(AX$1,仕様の整理!$C:$K,3,0))","v":"NETIS掲載期間終了技術"},null,{"$f":"IF(VLOOKUP(AZ$1,仕様の整理!$C:$K,4,0)=\"NETIS掲載期間終了技術\",\"NETIS掲載期間終了技術\",VLOOKUP(AZ$1,仕様の整理!$C:$K,3,0))","v":"NETIS掲載期間終了技術"},null,{"$f":"IF(VLOOKUP(BB$1,仕様の整理!$C:$K,4,0)=\"NETIS掲載期間終了技術\",\"NETIS掲載期間終了技術\",VLOOKUP(BB$1,仕様の整理!$C:$K,3,0))","v":"NETIS掲載期間終了技術"},null,{"$f":"IF(VLOOKUP(BD$1,仕様の整理!$C:$K,4,0)=\"NETIS掲載期間終了技術\",\"NETIS掲載期間終了技術\",VLOOKUP(BD$1,仕様の整理!$C:$K,3,0))","v":"NETIS掲載期間終了技術"},null,{"$f":"IF(VLOOKUP(BF$1,仕様の整理!$C:$K,4,0)=\"NETIS掲載期間終了技術\",\"NETIS掲載期間終了技術\",VLOOKUP(BF$1,仕様の整理!$C:$K,3,0))","v":"NETIS掲載期間終了技術"},null,{"$f":"IF(VLOOKUP(BH$1,仕様の整理!$C:$K,4,0)=\"NETIS掲載期間終了技術\",\"NETIS掲載期間終了技術\",VLOOKUP(BH$1,仕様の整理!$C:$K,3,0))","v":"NETIS掲載期間終了技術"},null,{"$f":"IF(VLOOKUP(BJ$1,仕様の整理!$C:$K,4,0)=\"NETIS掲載期間終了技術\",\"NETIS掲載期間終了技術\",VLOOKUP(BJ$1,仕様の整理!$C:$K,3,0))","v":"NETIS掲載期間終了技術"},null,{"$f":"IF(VLOOKUP(BL$1,仕様の整理!$C:$K,4,0)=\"NETIS掲載期間終了技術\",\"NETIS掲載期間終了技術\",VLOOKUP(BL$1,仕様の整理!$C:$K,3,0))","v":"NETIS掲載期間終了技術"},null,{"$f":"IF(VLOOKUP(BN$1,仕様の整理!$C:$K,4,0)=\"NETIS掲載期間終了技術\",\"NETIS掲載期間終了技術\",VLOOKUP(BN$1,仕様の整理!$C:$K,3,0))","v":"NETIS掲載期間終了技術"},null,{"$f":"IF(VLOOKUP(BP$1,仕様の整理!$C:$K,4,0)=\"NETIS掲載期間終了技術\",\"NETIS掲載期間終了技術\",VLOOKUP(BP$1,仕様の整理!$C:$K,3,0))","v":"NETIS掲載期間終了技術"},null,{"$f":"IF(VLOOKUP(BR$1,仕様の整理!$C:$K,4,0)=\"NETIS掲載期間終了技術\",\"NETIS掲載期間終了技術\",VLOOKUP(BR$1,仕様の整理!$C:$K,3,0))","v":"NETIS掲載期間終了技術"},null,{"$f":"IF(VLOOKUP(BT$1,仕様の整理!$C:$K,4,0)=\"NETIS掲載期間終了技術\",\"NETIS掲載期間終了技術\",VLOOKUP(BT$1,仕様の整理!$C:$K,3,0))","v":"NETIS掲載期間終了技術"},null,{"$f":"IF(VLOOKUP(BV$1,仕様の整理!$C:$K,4,0)=\"NETIS掲載期間終了技術\",\"NETIS掲載期間終了技術\",VLOOKUP(BV$1,仕様の整理!$C:$K,3,0))","v":"NETIS掲載期間終了技術"},null,{"$f":"IF(VLOOKUP(BX$1,仕様の整理!$C:$K,4,0)=\"NETIS掲載期間終了技術\",\"NETIS掲載期間終了技術\",VLOOKUP(BX$1,仕様の整理!$C:$K,3,0))","v":"KT-180019-A"},null,{"$f":"IF(VLOOKUP(BZ$1,仕様の整理!$C:$K,4,0)=\"NETIS掲載期間終了技術\",\"NETIS掲載期間終了技術\",VLOOKUP(BZ$1,仕様の整理!$C:$K,3,0))","v":"KT-180019-A"},null,{"$f":"IF(VLOOKUP(CB$1,仕様の整理!$C:$K,4,0)=\"NETIS掲載期間終了技術\",\"NETIS掲載期間終了技術\",VLOOKUP(CB$1,仕様の整理!$C:$K,3,0))","v":"KT-180019-A"},null,{"$f":"IF(VLOOKUP(CD$1,仕様の整理!$C:$K,4,0)=\"NETIS掲載期間終了技術\",\"NETIS掲載期間終了技術\",VLOOKUP(CD$1,仕様の整理!$C:$K,3,0))","v":"KT-180019-A"},null,{"$f":"IF(VLOOKUP(CF$1,仕様の整理!$C:$K,4,0)=\"NETIS掲載期間終了技術\",\"NETIS掲載期間終了技術\",VLOOKUP(CF$1,仕様の整理!$C:$K,3,0))","v":"KK-170046-A"},null,{"$f":"IF(VLOOKUP(CH$1,仕様の整理!$C:$K,4,0)=\"NETIS掲載期間終了技術\",\"NETIS掲載期間終了技術\",VLOOKUP(CH$1,仕様の整理!$C:$K,3,0))","v":"KK-170046-A"},null,{"$f":"IF(VLOOKUP(CJ$1,仕様の整理!$C:$K,4,0)=\"NETIS掲載期間終了技術\",\"NETIS掲載期間終了技術\",VLOOKUP(CJ$1,仕様の整理!$C:$K,3,0))","v":"KK-170046-A"},null,{"$f":"IF(VLOOKUP(CL$1,仕様の整理!$C:$K,4,0)=\"NETIS掲載期間終了技術\",\"NETIS掲載期間終了技術\",VLOOKUP(CL$1,仕様の整理!$C:$K,3,0))","v":"KK-170046-A"},null,{"$f":"IF(VLOOKUP(CN$1,仕様の整理!$C:$K,4,0)=\"NETIS掲載期間終了技術\",\"NETIS掲載期間終了技術\",VLOOKUP(CN$1,仕様の整理!$C:$K,3,0))","v":"KT-190100-A"},null,{"$f":"IF(VLOOKUP(CP$1,仕様の整理!$C:$K,4,0)=\"NETIS掲載期間終了技術\",\"NETIS掲載期間終了技術\",VLOOKUP(CP$1,仕様の整理!$C:$K,3,0))","v":"KT-190100-A"},null,{"$f":"IF(VLOOKUP(CR$1,仕様の整理!$C:$K,4,0)=\"NETIS掲載期間終了技術\",\"NETIS掲載期間終了技術\",VLOOKUP(CR$1,仕様の整理!$C:$K,3,0))","v":"CG-200006-A"},null,{"$f":"IF(VLOOKUP(CT$1,仕様の整理!$C:$K,4,0)=\"NETIS掲載期間終了技術\",\"NETIS掲載期間終了技術\",VLOOKUP(CT$1,仕様の整理!$C:$K,3,0))","v":"CG-200006-A"},null,{"$f":"IF(VLOOKUP(CV$1,仕様の整理!$C:$K,4,0)=\"NETIS掲載期間終了技術\",\"NETIS掲載期間終了技術\",VLOOKUP(CV$1,仕様の整理!$C:$K,3,0))","v":"KT-200060-A"},null,{"$f":"IF(VLOOKUP(CX$1,仕様の整理!$C:$K,4,0)=\"NETIS掲載期間終了技術\",\"NETIS掲載期間終了技術\",VLOOKUP(CX$1,仕様の整理!$C:$K,3,0))","v":"KT-200060-A"},null,{"$f":"IF(VLOOKUP(CZ$1,仕様の整理!$C:$K,4,0)=\"NETIS掲載期間終了技術\",\"NETIS掲載期間終了技術\",VLOOKUP(CZ$1,仕様の整理!$C:$K,3,0))","v":"KT-200060-A"},null,{"$f":"IF(VLOOKUP(DB$1,仕様の整理!$C:$K,4,0)=\"NETIS掲載期間終了技術\",\"NETIS掲載期間終了技術\",VLOOKUP(DB$1,仕様の整理!$C:$K,3,0))","v":"KT-200060-A"},null,{"$f":"IF(VLOOKUP(DD$1,仕様の整理!$C:$K,4,0)=\"NETIS掲載期間終了技術\",\"NETIS掲載期間終了技術\",VLOOKUP(DD$1,仕様の整理!$C:$K,3,0))","v":"KT-200060-A"},null,{"$f":"IF(VLOOKUP(DF$1,仕様の整理!$C:$K,4,0)=\"NETIS掲載期間終了技術\",\"NETIS掲載期間終了技術\",VLOOKUP(DF$1,仕様の整理!$C:$K,3,0))","v":"KT-200060-A"},null,{"$f":"IF(VLOOKUP(DH$1,仕様の整理!$C:$K,4,0)=\"NETIS掲載期間終了技術\",\"NETIS掲載期間終了技術\",VLOOKUP(DH$1,仕様の整理!$C:$K,3,0))","v":"KT-200135-A"},null,{"$f":"IF(VLOOKUP(DJ$1,仕様の整理!$C:$K,4,0)=\"NETIS掲載期間終了技術\",\"NETIS掲載期間終了技術\",VLOOKUP(DJ$1,仕様の整理!$C:$K,3,0))","v":"KT-200135-A"},null,{"$f":"IF(VLOOKUP(DL$1,仕様の整理!$C:$K,4,0)=\"NETIS掲載期間終了技術\",\"NETIS掲載期間終了技術\",VLOOKUP(DL$1,仕様の整理!$C:$K,3,0))","v":"KT-210043-A"},null,{"$f":"IF(VLOOKUP(DN$1,仕様の整理!$C:$K,4,0)=\"NETIS掲載期間終了技術\",\"NETIS掲載期間終了技術\",VLOOKUP(DN$1,仕様の整理!$C:$K,3,0))","v":"KT-210043-A"},null,{"$f":"IF(VLOOKUP(DP$1,仕様の整理!$C:$K,4,0)=\"NETIS掲載期間終了技術\",\"NETIS掲載期間終了技術\",VLOOKUP(DP$1,仕様の整理!$C:$K,3,0))","v":"KT-210043-A"},null,{"$f":"IF(VLOOKUP(DR$1,仕様の整理!$C:$K,4,0)=\"NETIS掲載期間終了技術\",\"NETIS掲載期間終了技術\",VLOOKUP(DR$1,仕様の整理!$C:$K,3,0))","v":"KT-210043-A"},null,{"$f":"IF(VLOOKUP(DT$1,仕様の整理!$C:$K,4,0)=\"NETIS掲載期間終了技術\",\"NETIS掲載期間終了技術\",VLOOKUP(DT$1,仕様の整理!$C:$K,3,0))","v":"QS-210042-A"},null,{"$f":"IF(VLOOKUP(DV$1,仕様の整理!$C:$K,4,0)=\"NETIS掲載期間終了技術\",\"NETIS掲載期間終了技術\",VLOOKUP(DV$1,仕様の整理!$C:$K,3,0))","v":"QS-210042-A"},null,{"$f":"IF(VLOOKUP(DX$1,仕様の整理!$C:$K,4,0)=\"NETIS掲載期間終了技術\",\"NETIS掲載期間終了技術\",VLOOKUP(DX$1,仕様の整理!$C:$K,3,0))","v":"KK-230010-A"},null,{"$f":"IF(VLOOKUP(DZ$1,仕様の整理!$C:$K,4,0)=\"NETIS掲載期間終了技術\",\"NETIS掲載期間終了技術\",VLOOKUP(DZ$1,仕様の整理!$C:$K,3,0))","v":"KK-230010-A"},null,{"$f":"IF(VLOOKUP(EB$1,仕様の整理!$C:$K,4,0)=\"NETIS掲載期間終了技術\",\"NETIS掲載期間終了技術\",VLOOKUP(EB$1,仕様の整理!$C:$K,3,0))","v":"KK-230021-A"},null,{"$f":"IF(VLOOKUP(ED$1,仕様の整理!$C:$K,4,0)=\"NETIS掲載期間終了技術\",\"NETIS掲載期間終了技術\",VLOOKUP(ED$1,仕様の整理!$C:$K,3,0))","v":"KK-230021-A"},null,{"$f":"IF(VLOOKUP(EF$1,仕様の整理!$C:$K,4,0)=\"NETIS掲載期間終了技術\",\"NETIS掲載期間終了技術\",VLOOKUP(EF$1,仕様の整理!$C:$K,3,0))","v":"KT-230185-A"},null,{"$f":"IF(VLOOKUP(EH$1,仕様の整理!$C:$K,4,0)=\"NETIS掲載期間終了技術\",\"NETIS掲載期間終了技術\",VLOOKUP(EH$1,仕様の整理!$C:$K,3,0))","v":"KT-230185-A"},null,{"$f":"IF(VLOOKUP(EJ$1,仕様の整理!$C:$K,4,0)=\"NETIS掲載期間終了技術\",\"NETIS掲載期間終了技術\",VLOOKUP(EJ$1,仕様の整理!$C:$K,3,0))","v":"KT-230185-A"},null,{"$f":"IF(VLOOKUP(EL$1,仕様の整理!$C:$K,4,0)=\"NETIS掲載期間終了技術\",\"NETIS掲載期間終了技術\",VLOOKUP(EL$1,仕様の整理!$C:$K,3,0))","v":"TH-240004-A"},null,{"$f":"IF(VLOOKUP(EN$1,仕様の整理!$C:$K,4,0)=\"NETIS掲載期間終了技術\",\"NETIS掲載期間終了技術\",VLOOKUP(EN$1,仕様の整理!$C:$K,3,0))","v":"TH-240004-A"},null,{"$f":"IF(VLOOKUP(EP$1,仕様の整理!$C:$K,4,0)=\"NETIS掲載期間終了技術\",\"NETIS掲載期間終了技術\",VLOOKUP(EP$1,仕様の整理!$C:$K,3,0))","v":"KT-240091-A"},null,{"$f":"IF(VLOOKUP(ER$1,仕様の整理!$C:$K,4,0)=\"NETIS掲載期間終了技術\",\"NETIS掲載期間終了技術\",VLOOKUP(ER$1,仕様の整理!$C:$K,3,0))","v":"KT-240091-A"},null,{"$f":"IF(VLOOKUP(ET$1,仕様の整理!$C:$K,4,0)=\"NETIS掲載期間終了技術\",\"NETIS掲載期間終了技術\",VLOOKUP(ET$1,仕様の整理!$C:$K,3,0))","v":"KT-240091-A"},null,{"$f":"IF(VLOOKUP(EV$1,仕様の整理!$C:$K,4,0)=\"NETIS掲載期間終了技術\",\"NETIS掲載期間終了技術\",VLOOKUP(EV$1,仕様の整理!$C:$K,3,0))","v":"KT-240091-A"},null,{"$f":"IF(VLOOKUP(EX$1,仕様の整理!$C:$K,4,0)=\"NETIS掲載期間終了技術\",\"NETIS掲載期間終了技術\",VLOOKUP(EX$1,仕様の整理!$C:$K,3,0))","v":"KT-240091-A"},null,{"$f":"IF(VLOOKUP(EZ$1,仕様の整理!$C:$K,4,0)=\"NETIS掲載期間終了技術\",\"NETIS掲載期間終了技術\",VLOOKUP(EZ$1,仕様の整理!$C:$K,3,0))","v":"TH-240014-A"},null,{"$f":"IF(VLOOKUP(FB$1,仕様の整理!$C:$K,4,0)=\"NETIS掲載期間終了技術\",\"NETIS掲載期間終了技術\",VLOOKUP(FB$1,仕様の整理!$C:$K,3,0))","v":"TH-240014-A"},null,{"$f":"IF(VLOOKUP(FD$1,仕様の整理!$C:$K,4,0)=\"NETIS掲載期間終了技術\",\"NETIS掲載期間終了技術\",VLOOKUP(FD$1,仕様の整理!$C:$K,3,0))","v":"TH-240014-A"},null,{"$f":"IF(VLOOKUP(FF$1,仕様の整理!$C:$K,4,0)=\"NETIS掲載期間終了技術\",\"NETIS掲載期間終了技術\",VLOOKUP(FF$1,仕様の整理!$C:$K,3,0))","v":"TH-240014-A"},null,{"$f":"IF(VLOOKUP(FH$1,仕様の整理!$C:$K,4,0)=\"NETIS掲載期間終了技術\",\"NETIS掲載期間終了技術\",VLOOKUP(FH$1,仕様の整理!$C:$K,3,0))","v":"KT-240137-A"},null,{"$f":"IF(VLOOKUP(FJ$1,仕様の整理!$C:$K,4,0)=\"NETIS掲載期間終了技術\",\"NETIS掲載期間終了技術\",VLOOKUP(FJ$1,仕様の整理!$C:$K,3,0))","v":"KT-240137-A"},null,{"$f":"IF(VLOOKUP(FL$1,仕様の整理!$C:$K,4,0)=\"NETIS掲載期間終了技術\",\"NETIS掲載期間終了技術\",VLOOKUP(FL$1,仕様の整理!$C:$K,3,0))","v":"KT-240137-A"},null,{"$f":"IF(VLOOKUP(FN$1,仕様の整理!$C:$K,4,0)=\"NETIS掲載期間終了技術\",\"NETIS掲載期間終了技術\",VLOOKUP(FN$1,仕様の整理!$C:$K,3,0))","v":"KT-240137-A"},null,{"$f":"IF(VLOOKUP(FP$1,仕様の整理!$C:$K,4,0)=\"NETIS掲載期間終了技術\",\"NETIS掲載期間終了技術\",VLOOKUP(FP$1,仕様の整理!$C:$K,3,0))","v":"KT-240137-A"},null,{"$f":"IF(VLOOKUP(FR$1,仕様の整理!$C:$K,4,0)=\"NETIS掲載期間終了技術\",\"NETIS掲載期間終了技術\",VLOOKUP(FR$1,仕様の整理!$C:$K,3,0))","v":"KT-240137-A"},null,{"$f":"IF(VLOOKUP(FT$1,仕様の整理!$C:$K,4,0)=\"NETIS掲載期間終了技術\",\"NETIS掲載期間終了技術\",VLOOKUP(FT$1,仕様の整理!$C:$K,3,0))","v":"TH-250017-A"},null,{"$f":"IF(VLOOKUP(FV$1,仕様の整理!$C:$K,4,0)=\"NETIS掲載期間終了技術\",\"NETIS掲載期間終了技術\",VLOOKUP(FV$1,仕様の整理!$C:$K,3,0))","v":"TH-250017-A"},null,{"$f":"IF(VLOOKUP(FX$1,仕様の整理!$C:$K,4,0)=\"NETIS掲載期間終了技術\",\"NETIS掲載期間終了技術\",VLOOKUP(FX$1,仕様の整理!$C:$K,3,0))","v":"TH-250017-A"},null,{"$f":"IF(VLOOKUP(FZ$1,仕様の整理!$C:$K,4,0)=\"NETIS掲載期間終了技術\",\"NETIS掲載期間終了技術\",VLOOKUP(FZ$1,仕様の整理!$C:$K,3,0))","v":"TH-250017-A"},null,{"$f":"IF(VLOOKUP(GB$1,仕様の整理!$C:$K,4,0)=\"NETIS掲載期間終了技術\",\"NETIS掲載期間終了技術\",VLOOKUP(GB$1,仕様の整理!$C:$K,3,0))","v":"TH-250017-A"},null,{"$f":"IF(VLOOKUP(GD$1,仕様の整理!$C:$K,4,0)=\"NETIS掲載期間終了技術\",\"NETIS掲載期間終了技術\",VLOOKUP(GD$1,仕様の整理!$C:$K,3,0))","v":"TH-250018-A"},null,{"$f":"IF(VLOOKUP(GF$1,仕様の整理!$C:$K,4,0)=\"NETIS掲載期間終了技術\",\"NETIS掲載期間終了技術\",VLOOKUP(GF$1,仕様の整理!$C:$K,3,0))","v":"TH-250018-A"},null,{"$f":"IF(VLOOKUP(GH$1,仕様の整理!$C:$K,4,0)=\"NETIS掲載期間終了技術\",\"NETIS掲載期間終了技術\",VLOOKUP(GH$1,仕様の整理!$C:$K,3,0))","v":"TH-250018-A"},null,{"$f":"IF(VLOOKUP(GJ$1,仕様の整理!$C:$K,4,0)=\"NETIS掲載期間終了技術\",\"NETIS掲載期間終了技術\",VLOOKUP(GJ$1,仕様の整理!$C:$K,3,0))","v":"TH-250018-A"}]
[null,"②","有用な技術の位置付け",null,null,"[H28準推奨][活用促進]",null,"[H28準推奨][活用促進]",null,"[H28準推奨][H20活用促進(旧)][活用促進]",null,"[H28準推奨][H20活用促進(旧)][活用促進]",null,"[H28準推奨][H20活用促進(旧)][活用促進]",null,"[設計比較]",null,"[少実績優]",null,"-",null,"-",null,"[活用促進]",null,"[活用促進]",null,"-",null,"-",null,"[R6推奨]",null,"[R6推奨]",null,"[R6推奨]",null,"[R6推奨]",null,"-",null,"-",null,"評価済み",null,"評価済み",null,"評価済み",null,"評価済み",null,"[活用促進]",null,"[活用促進]",null,"[活用促進]",null,"[活用促進]",null,"評価済み\n[国土技術開発賞]",null,"評価済み\n[国土技術開発賞]",null,"評価済み\n[国土技術開発賞]",null,"評価済み\n[国土技術開発賞]",null,"[少実績優]",null,"[少実績優]",null,"[少実績優]",null,"[少実績優]",null,"-",null,"-",null,"-",null,"-",null,"-",null,"-",null,"-",null,"-",null,"-",null,"-",null,"-",null,"-",null,"-",null,"-",null,"-",null,"-",null,"-",null,"-",null,"-",null,"-",null,"-",null,"-",null,"-",null,"-",null,"-",null,"-",null,"-",null,"-",null,"-",null,"-",null,"-",null,"-",null,"-",null,"-",null,"-",null,"-",null,"-",null,"-",null,"-",null,"-",null,"-",null,"-",null,"-",null,"-",null,"-",null,"-",null,"-",null,"-",null,"-",null,"-",null,"-",null,"-",null,"-",null,"-",null,"-",null,"-",null,"-",null,"-",null,"-"]
[null,"③","開発者（本社が存在する都道府県）",null,null,"日本国土開発株式会社（東京都）",null,"日本国土開発株式会社（東京都）",null,"株式会社オクノコトー（大阪府）",null,"株式会社オクノコトー（大阪府）",null,"株式会社オクノコトー（大阪府）",null,"新潟県土質改良事業協同組合（新潟県）",null,"泥土リサイクル協会（愛知県）",null,"日本国土開発株式会社（東京都）",null,"日本国土開発株式会社（東京都）",null,"株式会社 東洋スタビ（岐阜県）",null,"株式会社 東洋スタビ（岐阜県）",null,"田中石灰工業株式会社（高知県）",null,"田中石灰工業株式会社（高知県）",null,"ジャイワット株式会社（千葉県）",null,"ジャイワット株式会社（千葉県）",null,"ジャイワット株式会社（千葉県）",null,"ジャイワット株式会社（千葉県）",null,"新日鉄住金株式会社（東京都）",null,"新日鉄住金株式会社（東京都）",null,"河合石灰工業株式会社（岐阜県）",null,"河合石灰工業株式会社（岐阜県）",null,"河合石灰工業株式会社（岐阜県）",null,"河合石灰工業株式会社（岐阜県）",null," 株式会社東北ロンテック（宮城県）",null," 株式会社東北ロンテック（宮城県）",null," 株式会社東北ロンテック（宮城県）",null," 株式会社東北ロンテック（宮城県）",null,"ボンテラン工法研究会（山形県）",null,"ボンテラン工法研究会（山形県）",null,"ボンテラン工法研究会（山形県）",null,"ボンテラン工法研究会（山形県）",null,"株式会社フジタ（東京都）",null,"株式会社フジタ（東京都）",null,"株式会社フジタ（東京都）",null,"株式会社フジタ（東京都）",null,"株式会社大林組（東京都）",null,"株式会社大林組（東京都）",null,"株式会社大林組（東京都）",null,"株式会社大林組（東京都）",null,"株式会社サンヨ―（大阪府）",null,"株式会社サンヨ―（大阪府）",null,"株式会社サンヨ―（大阪府）",null,"株式会社サンヨ―（大阪府）",null,"株式会社水循環エンジニアリング",null,"株式会社水循環エンジニアリング",null,"ISKソリューション株式会社（島根県）",null,"ISKソリューション株式会社（島根県）",null,"株式会社水循環エンジニアリング",null,"株式会社水循環エンジニアリング",null,"株式会社水循環エンジニアリング",null,"株式会社水循環エンジニアリング",null,"株式会社水循環エンジニアリング",null,"株式会社水循環エンジニアリング",null,"大福工業株式会社（島根県）",null,"大福工業株式会社（島根県）",null,"株式会社水循環エンジニアリング（埼玉県）",null,"株式会社水循環エンジニアリング（埼玉県）",null,"株式会社水循環エンジニアリング（埼玉県）",null,"株式会社水循環エンジニアリング（埼玉県）",null,"宇部マテリアルズ株式会社（山口県）",null,"宇部マテリアルズ株式会社（山口県）",null,"テクニカ合同株式会社(兵庫県）、株式会社アステック(兵庫県）",null,"テクニカ合同株式会社(兵庫県）、株式会社アステック(兵庫県）",null,"株式会社立花マテリアル（大阪府）",null,"株式会社立花マテリアル（大阪府）",null,"株式会社アースプロテクト（東京都）",null,"株式会社アースプロテクト（東京都）",null,"株式会社アースプロテクト（東京都）",null,"有限会社渋谷建材（埼玉県）",null,"有限会社渋谷建材（埼玉県）",null,"宇部マテリアルズ株式会社（山口県）",null,"宇部マテリアルズ株式会社（山口県）",null,"宇部マテリアルズ株式会社（山口県）",null,"宇部マテリアルズ株式会社（山口県）",null,"宇部マテリアルズ株式会社（山口県）",null,"株式会社アグロジャパン（岐阜県）",null,"株式会社アグロジャパン（岐阜県）",null,"株式会社アグロジャパン（岐阜県）",null,"株式会社アグロジャパン（岐阜県）",null,"テクニカ合同株式会社（兵庫県）",null,"テクニカ合同株式会社（兵庫県）",null,"テクニカ合同株式会社（兵庫県）",null,"テクニカ合同株式会社（兵庫県）",null,"テクニカ合同株式会社（兵庫県）",null,"テクニカ合同株式会社（兵庫県）",null,"サンエー化学株式会社（北海道）",null,"サンエー化学株式会社（北海道）",null,"サンエー化学株式会社（北海道）",null,"サンエー化学株式会社（北海道）",null,"サンエー化学株式会社（北海道）",null,"株式会社ダイセン（愛知県）",null,"株式会社ダイセン（愛知県）",null,"株式会社ダイセン（愛知県）",null,"株式会社ダイセン（愛知県）"]
[null,"④","開発者における九州地方との関連性（九州登録九州本社：◎、九州外登録九州本社：○、九州に共同開発者有り：△、その他：－）",null,null,"-",null,"-",null,"-",null,"-",null,"-",null,"-",null,"-",null,"△(九州地方に共同開発者有り）",null,"△(九州地方に共同開発者有り）",null,"-",null,"-",null,"-",null,"-",null,"-",null,"-",null,"-",null,"-",null,"-",null,"-",null,"-",null,"-",null,"-",null,"-",null,"-",null,"-",null,"-",null,"-",null,"-",null,"-",null,"-",null,"-",null,"-",null,"-",null,"-",null,"-",null,"-",null,"-",null,"-",null,"-",null,"-",null,"-",null,"-",null,"-",null,"-",null,"-",null,"-",null,"-",null,"-",null,"-",null,"-",null,"-",null,"-",null,"-",null,"-",null,"-",null,"-",null,"-",null,"-",null,"-",null,"-",null,"-",null,"-",null,"-",null,"-",null,"-",null,"-",null,"-",null,"-",null,"-",null,"-",null,"-",null,"-",null,"-",null,"-",null,"-",null,"-",null,"-",null,"-",null,"-",null,"-",null,"-",null,"-",null,"-",null,"-",null,"-",null,"-",null,"-",null,"-",null,"-",null,"-",null,"-",null,"-",null,"-",null,"-"]
[null,"⑤","九州地方への機能性　（九州地方に支店等を有する場合：○、その他：－）",null,null,"○（九州地方に支店等を有する）",null,"○（九州地方に支店等を有する）",null,"-",null,"-",null,"-",null,"-",null,"-",null,"○（九州地方に支店等を有する）",null,"○（九州地方に支店等を有する）",null,"○（九州地方に支店等を有する）",null,"○（九州地方に支店等を有する）",null,"-",null,"-",null,"-",null,"-",null,"-",null,"-",null,"○（九州地方に支店を有する）",null,"○（九州地方に支店を有する）",null,"-",null,"-",null,"-",null,"-",null,"○（九州地方に工法研究会会員を有する）",null,"○（九州地方に工法研究会会員を有する）",null,"○（九州地方に工法研究会会員を有する）",null,"○（九州地方に工法研究会会員を有する）",null,"-",null,"-",null,"-",null,"-",null,"○（九州地方に支店を有する）",null,"○（九州地方に支店を有する）",null,"○（九州地方に支店を有する）",null,"○（九州地方に支店を有する）",null,"○（九州地方に支店を有する）",null,"○（九州地方に支店を有する）",null,"○（九州地方に支店を有する）",null,"○（九州地方に支店を有する）",null,"-",null,"-",null,"-",null,"-",null,"-",null,"-",null,"-",null,"-",null,"-",null,"-",null,"-",null,"-",null,"-",null,"-",null,"-",null,"-",null,"-",null,"-",null,"-",null,"-",null,"-",null,"-",null,"-",null,"-",null,"○（九州地方に支店を有する）",null,"○（九州地方に支店を有する）",null,"-",null,"-",null,"-",null,"-",null,"-",null,"-",null,"-",null,"-",null,"-",null,"-",null,"-",null,"-",null,"-",null,"-",null,"-",null,"-",null,"-",null,"-",null,"-",null,"-",null,"-",null,"-",null,"-",null,"-",null,"-",null,"-",null,"-",null,"-",null,"-"]
[null,"⑥","技術概要",null,null,"本技術は高含水比やレキ混じりの建設発生土を浸透に強い築堤土や盛土材に改良する技術で、従来は発生土を場外処分し良質土を購入していた。本技術の活用により、高品質な盛土材を製造することができ、事業コストの縮減、リサイクル性・品質性の向上が期待できる。",null,"本技術は高含水比やレキ混じりの建設発生土を浸透に強い築堤土や盛土材に改良する技術で、従来は発生土を場外処分し良質土を購入していた。本技術の活用により、高品質な盛土材を製造することができ、事業コストの縮減、リサイクル性・品質性の向上が期待できる。",null,"本技術は、土質性状の異なる最大3種類の土砂(泥土)を組み合わせ、4軸直列混合方式を採用した「万能土質改良機」により混合処理し、第3種建設発生土(混合処理土)以上に土質改良を行うものである。同時に改良材を添加する機能も備え、土質改良全般に対応が可能である。",null,"本技術は、土質性状の異なる最大3種類の土砂(泥土)を組み合わせ、4軸直列混合方式を採用した「万能土質改良機」により混合処理し、第3種建設発生土(混合処理土)以上に土質改良を行うものである。同時に改良材を添加する機能も備え、土質改良全般に対応が可能である。",null,"本技術は、土質性状の異なる最大3種類の土砂(泥土)を組み合わせ、4軸直列混合方式を採用した「万能土質改良機」により混合処理し、第3種建設発生土(混合処理土)以上に土質改良を行うものである。同時に改良材を添加する機能も備え、土質改良全般に対応が可能である。",null,"本技術は、自走式土質改良機を用いた建設発生土の土質改良を事前調査から施工管理まで一貫して行う技術であり、従来は配合設計を元にバックホウ混合で対応していた。本技術の活用により、必要最低限の固化材により高品質の改良土を安定供給することができる。",null,"イーキューブシステムは、泥土の特性と要求品質に応じて選定された高分子凝集剤および固化材を添加して、約30秒程度の攪拌・混合により、粒状に固化した処理土を連続的に生成し、土質材料として路体・路床材、埋戻し材や堤体材料等に再利用することができる技術である。",null,"本技術は、建設発生土をリサイクルして盛土材を製造する自走型の改良工法で、従来は安定処理工（自走式土質改良工）で対応していた。本技術の活用により、最大粒径200mmまでの軟岩の破砕・粒度調整と固結粘性土の解砕ができるため、品質の向上が図れる。",null,"本技術は、建設発生土をリサイクルして盛土材を製造する自走型の改良工法で、従来は安定処理工（自走式土質改良工）で対応していた。本技術の活用により、最大粒径200mmまでの軟岩の破砕・粒度調整と固結粘性土の解砕ができるため、品質の向上が図れる。",null," 本技術は、GNSS施工管理システム搭載型スタビライザによる粒度改良工法で、従来は、プラントによる土質改良+人による施工管理で対応していた。本技術の活用により、原位置にて建設発生土を活用した築堤材料を合理的に製造できるため、施工性および経済性の向上が図れる。",null," 本技術は、GNSS施工管理システム搭載型スタビライザによる粒度改良工法で、従来は、プラントによる土質改良+人による施工管理で対応していた。本技術の活用により、原位置にて建設発生土を活用した築堤材料を合理的に製造できるため、施工性および経済性の向上が図れる。",null,"本技術は盛土材料としての品質を満足しない建設発生土を固化材で改良して再利用する技術であり、従来では埋立処分及び盛土材購入で対応していた。本技術の活用により、品質に劣る建設発生土を盛土材として有効利用できるため環境負荷の低減やトータルコスト縮減が期待できる。",null,"本技術は盛土材料としての品質を満足しない建設発生土を固化材で改良して再利用する技術であり、従来では埋立処分及び盛土材購入で対応していた。本技術の活用により、品質に劣る建設発生土を盛土材として有効利用できるため環境負荷の低減やトータルコスト縮減が期待できる。",null,"本材料は、吸水性の高いペーパースラッジ焼却灰(PS灰)を主原料とした泥土改質材である。本材料を泥土に添加混合することで、本材料が泥土中の水分を吸収し泥土の強度を高める。本材料はPS灰に補助薬剤と水を添加混合後乾燥処理したものである。",null,"本材料は、吸水性の高いペーパースラッジ焼却灰(PS灰)を主原料とした泥土改質材である。本材料を泥土に添加混合することで、本材料が泥土中の水分を吸収し泥土の強度を高める。本材料はPS灰に補助薬剤と水を添加混合後乾燥処理したものである。",null,"本材料は、吸水性の高いペーパースラッジ焼却灰(PS灰)を主原料とした泥土改質材である。本材料を泥土に添加混合することで、本材料が泥土中の水分を吸収し泥土の強度を高める。本材料はPS灰に補助薬剤と水を添加混合後乾燥処理したものである。",null,"本材料は、吸水性の高いペーパースラッジ焼却灰(PS灰)を主原料とした泥土改質材である。本材料を泥土に添加混合することで、本材料が泥土中の水分を吸収し泥土の強度を高める。本材料はPS灰に補助薬剤と水を添加混合後乾燥処理したものである。",null,"カルシア改質土は、粘土・シルト分の多い軟弱な浚渫土にカルシア改質材(原材料:転炉系製鋼スラグ)を混合し、浚渫土の物理的・化学的性状を改質した材料で、強度増進・濁り抑制・海域底質浄化等の効果を有し、浅場干潟造成・浚渫窪地埋戻し・埋立て等に活用できる。",null,"カルシア改質土は、粘土・シルト分の多い軟弱な浚渫土にカルシア改質材(原材料:転炉系製鋼スラグ)を混合し、浚渫土の物理的・化学的性状を改質した材料で、強度増進・濁り抑制・海域底質浄化等の効果を有し、浅場干潟造成・浚渫窪地埋戻し・埋立て等に活用できる。",null,"本技術は、建設発生土等を再資源化・再利用するための低アルカリ型の石灰複合型土質改良材(セメント不含有)で、従来はセメント系固化材で対応していた。本技術の活用により、土質改良材使用量の低減による経済性向上と、六価クロム溶出による環境負荷抑制が期待できる。",null,"本技術は、建設発生土等を再資源化・再利用するための低アルカリ型の石灰複合型土質改良材(セメント不含有)で、従来はセメント系固化材で対応していた。本技術の活用により、土質改良材使用量の低減による経済性向上と、六価クロム溶出による環境負荷抑制が期待できる。",null,"本技術は、建設発生土等を再資源化・再利用するための低アルカリ型の石灰複合型土質改良材(セメント不含有)で、従来はセメント系固化材で対応していた。本技術の活用により、土質改良材使用量の低減による経済性向上と、六価クロム溶出による環境負荷抑制が期待できる。",null,"本技術は、建設発生土等を再資源化・再利用するための低アルカリ型の石灰複合型土質改良材(セメント不含有)で、従来はセメント系固化材で対応していた。本技術の活用により、土質改良材使用量の低減による経済性向上と、六価クロム溶出による環境負荷抑制が期待できる。",null,"本技術は、建設汚泥を原位置で改良し現場内で再資源化する工法です。改良材には、吸水性の高いフライアッシュを主原料にしたDF2B剤を使用することで、第3種～第2種建設発生土以上に改良できます。改良土は埋め戻し・築堤・表土等幅広く活用が可能となります。 ",null,"本技術は、建設汚泥を原位置で改良し現場内で再資源化する工法です。改良材には、吸水性の高いフライアッシュを主原料にしたDF2B剤を使用することで、第3種～第2種建設発生土以上に改良できます。改良土は埋め戻し・築堤・表土等幅広く活用が可能となります。 ",null,"本技術は、建設汚泥を原位置で改良し現場内で再資源化する工法です。改良材には、吸水性の高いフライアッシュを主原料にしたDF2B剤を使用することで、第3種～第2種建設発生土以上に改良できます。改良土は埋め戻し・築堤・表土等幅広く活用が可能となります。 ",null,"本技術は、建設汚泥を原位置で改良し現場内で再資源化する工法です。改良材には、吸水性の高いフライアッシュを主原料にしたDF2B剤を使用することで、第3種～第2種建設発生土以上に改良できます。改良土は埋め戻し・築堤・表土等幅広く活用が可能となります。 ",null,"第4種発生土および泥土に古紙破砕物(ボンファイバー)と固化材を添加混合する工法です。従来は生石灰安定処理工法で対応していた。本工法の活用により工期の短縮・コスト削減・品質の向上が期待できる。",null,"第4種発生土および泥土に古紙破砕物(ボンファイバー)と固化材を添加混合する工法です。従来は生石灰安定処理工法で対応していた。本工法の活用により工期の短縮・コスト削減・品質の向上が期待できる。",null,"第4種発生土および泥土に古紙破砕物(ボンファイバー)と固化材を添加混合する工法です。従来は生石灰安定処理工法で対応していた。本工法の活用により工期の短縮・コスト削減・品質の向上が期待できる。",null,"第4種発生土および泥土に古紙破砕物(ボンファイバー)と固化材を添加混合する工法です。従来は生石灰安定処理工法で対応していた。本工法の活用により工期の短縮・コスト削減・品質の向上が期待できる。",null,"FTマッドキラーは、吸水系の改良材でペーパースラッジ灰を基材に製造された、自然にやさしい改良材です。瞬時に改良可能で、化学的固結はしません。通常の宅地盛土から中性域が求められる水環境内の盛土に利用可能で、均一で大量な施工が可能です。",null,"FTマッドキラーは、吸水系の改良材でペーパースラッジ灰を基材に製造された、自然にやさしい改良材です。瞬時に改良可能で、化学的固結はしません。通常の宅地盛土から中性域が求められる水環境内の盛土に利用可能で、均一で大量な施工が可能です。",null,"FTマッドキラーは、吸水系の改良材でペーパースラッジ灰を基材に製造された、自然にやさしい改良材です。瞬時に改良可能で、化学的固結はしません。通常の宅地盛土から中性域が求められる水環境内の盛土に利用可能で、均一で大量な施工が可能です。",null,"FTマッドキラーは、吸水系の改良材でペーパースラッジ灰を基材に製造された、自然にやさしい改良材です。瞬時に改良可能で、化学的固結はしません。通常の宅地盛土から中性域が求められる水環境内の盛土に利用可能で、均一で大量な施工が可能です。",null,"本技術は、粘性の高い土壌を短時間でサラサラの砂状に改質する中性の土質改良材で、従来は生石灰による残土処理で対応していた。 本技術の活用により、短時間でpHを変えることなく土質改良でき、施工性・品質の向上や工程の短縮が期待できる。",null,"本技術は、粘性の高い土壌を短時間でサラサラの砂状に改質する中性の土質改良材で、従来は生石灰による残土処理で対応していた。 本技術の活用により、短時間でpHを変えることなく土質改良でき、施工性・品質の向上や工程の短縮が期待できる。",null,"本技術は、粘性の高い土壌を短時間でサラサラの砂状に改質する中性の土質改良材で、従来は生石灰による残土処理で対応していた。 本技術の活用により、短時間でpHを変えることなく土質改良でき、施工性・品質の向上や工程の短縮が期待できる。",null,"本技術は、粘性の高い土壌を短時間でサラサラの砂状に改質する中性の土質改良材で、従来は生石灰による残土処理で対応していた。 本技術の活用により、短時間でpHを変えることなく土質改良でき、施工性・品質の向上や工程の短縮が期待できる。",null,"セーフティーソイルは石膏を原料に製品化された非セメント系中性固化材で、従来は生石灰を使用していた。本技術の活用により、経済性・施工性の向上とともに、地球環境への影響抑制が期待できる。",null,"セーフティーソイルは石膏を原料に製品化された非セメント系中性固化材で、従来は生石灰を使用していた。本技術の活用により、経済性・施工性の向上とともに、地球環境への影響抑制が期待できる。",null,"セーフティーソイルは石膏を原料に製品化された非セメント系中性固化材で、従来は生石灰を使用していた。本技術の活用により、経済性・施工性の向上とともに、地球環境への影響抑制が期待できる。",null,"セーフティーソイルは石膏を原料に製品化された非セメント系中性固化材で、従来は生石灰を使用していた。本技術の活用により、経済性・施工性の向上とともに、地球環境への影響抑制が期待できる。",null,"本技術は、7元素の重金属類を吸着するLDH(層状複水酸化物)系重金属類吸着剤で、従来は汚染土壌の置換えと廃棄処分で対応していた。本技術の活用により、吸着層によって重金属類の溶出を防止でき、汚染土壌の置換えが不要となるため、施工性および経済性の向上が図れる。",null,"本技術は、7元素の重金属類を吸着するLDH(層状複水酸化物)系重金属類吸着剤で、従来は汚染土壌の置換えと廃棄処分で対応していた。本技術の活用により、吸着層によって重金属類の溶出を防止でき、汚染土壌の置換えが不要となるため、施工性および経済性の向上が図れる。",null,"産業廃棄物として処理が必要な、加工砂・砕石の製造過程で発生する汚泥(脱水ケーキ)を主原料とした、重金属を含有する土壌から溶出する重金属類を吸着、不溶化する材料です。",null,"産業廃棄物として処理が必要な、加工砂・砕石の製造過程で発生する汚泥(脱水ケーキ)を主原料とした、重金属を含有する土壌から溶出する重金属類を吸着、不溶化する材料です。",null,"本技術は、重金属の溶出を化学結合で不溶化すると同時に、土壌を中性に保ちながら固化もする中和型・中性型の土壌改質剤で、従来は汚染土壌処理施設や最終処分場への廃棄で対応していた。本技術の活用により重金属汚染土壌を土木資材で適正利用しコストダウンが図れる。",null,"本技術は、重金属の溶出を化学結合で不溶化すると同時に、土壌を中性に保ちながら固化もする中和型・中性型の土壌改質剤で、従来は汚染土壌処理施設や最終処分場への廃棄で対応していた。本技術の活用により重金属汚染土壌を土木資材で適正利用しコストダウンが図れる。",null,"本技術は、重金属の溶出を化学結合で不溶化すると同時に、土壌を中性に保ちながら固化もする中和型・中性型の土壌改質剤で、従来は汚染土壌処理施設や最終処分場への廃棄で対応していた。本技術の活用により重金属汚染土壌を土木資材で適正利用しコストダウンが図れる。",null,"本技術は、重金属の溶出を化学結合で不溶化すると同時に、土壌を中性に保ちながら固化もする中和型・中性型の土壌改質剤で、従来は汚染土壌処理施設や最終処分場への廃棄で対応していた。本技術の活用により重金属汚染土壌を土木資材で適正利用しコストダウンが図れる。",null,"本技術は、重金属の溶出を化学結合で不溶化すると同時に、土壌を中性に保ちながら固化もする中和型・中性型の土壌改質剤で、従来は汚染土壌処理施設や最終処分場への廃棄で対応していた。本技術の活用により重金属汚染土壌を土木資材で適正利用しコストダウンが図れる。",null,"本技術は、重金属の溶出を化学結合で不溶化すると同時に、土壌を中性に保ちながら固化もする中和型・中性型の土壌改質剤で、従来は汚染土壌処理施設や最終処分場への廃棄で対応していた。本技術の活用により重金属汚染土壌を土木資材で適正利用しコストダウンが図れる。",null,"本技術は、アロフェン・イモゴライトを主成分とする重金属不溶化材で、従来は、購入土等への置き換えで対応していた。本技術の活用により、環境負担が少ない天然鉱物での重金属不溶化、盛土材等の再利用が可能となるため、経済性の向上および工程の短縮が図れる。",null,"本技術は、アロフェン・イモゴライトを主成分とする重金属不溶化材で、従来は、購入土等への置き換えで対応していた。本技術の活用により、環境負担が少ない天然鉱物での重金属不溶化、盛土材等の再利用が可能となるため、経済性の向上および工程の短縮が図れる。",null,"本技術は、軟弱な建設発生土・泥土・汚泥を再利用するための改良土のpHを中性域（pH5.0～pH9.0）に保つ中性改質剤で、従来は生石灰による改良と覆土で対応していた。本技術の活用により覆土が必要なくなり、経済性の向上と工程の短縮が図れる。",null,"本技術は、軟弱な建設発生土・泥土・汚泥を再利用するための改良土のpHを中性域（pH5.0～pH9.0）に保つ中性改質剤で、従来は生石灰による改良と覆土で対応していた。本技術の活用により覆土が必要なくなり、経済性の向上と工程の短縮が図れる。",null,"本技術は、軟弱な建設発生土・泥土・汚泥を再利用するための改良土のpHを中性域（pH5.0～pH9.0）に保つ中性改質剤で、従来は生石灰による改良と覆土で対応していた。本技術の活用により覆土が必要なくなり、経済性の向上と工程の短縮が図れる。",null,"本技術は、軟弱な建設発生土・泥土・汚泥を再利用するための改良土のpHを中性域（pH5.0～pH9.0）に保つ中性改質剤で、従来は生石灰による改良と覆土で対応していた。本技術の活用により覆土が必要なくなり、経済性の向上と工程の短縮が図れる。",null,"本技術は、残土処理工に寄与する技術である。従来技術では難しかった、セレンをはじめとした複合汚染土の重金属不溶化が可能。本技術の活用により、汚染土を盛土等へリサイクルすることが可能となり、処分場への持込み費用や購入土の費用を削減できる。",null,"本技術は、残土処理工に寄与する技術である。従来技術では難しかった、セレンをはじめとした複合汚染土の重金属不溶化が可能。本技術の活用により、汚染土を盛土等へリサイクルすることが可能となり、処分場への持込み費用や購入土の費用を削減できる。",null,"スラリー状重金属不溶化材により現場で重金属類の汚染土を不溶化する技術で、従来は、掘削除去および最終処分上への運搬が活用されていた。本技術の活用により不溶化した土砂の埋め戻しが可能となり、経済性の向上と工程短縮や周辺環境への影響の低減が図れる。",null,"スラリー状重金属不溶化材により現場で重金属類の汚染土を不溶化する技術で、従来は、掘削除去および最終処分上への運搬が活用されていた。本技術の活用により不溶化した土砂の埋め戻しが可能となり、経済性の向上と工程短縮や周辺環境への影響の低減が図れる。",null,"本技術は、安定処理工において短時間でハンドリングの改善と締固め度を増大できる土質改良材で、従来はセメント系固化材で対応していた。本技術の活用により、防塵性や即効性に優れ、中性改良となるため、施工性、安全性の向上が図れ、環境への負荷を軽減できる。",null,"本技術は、安定処理工において短時間でハンドリングの改善と締固め度を増大できる土質改良材で、従来はセメント系固化材で対応していた。本技術の活用により、防塵性や即効性に優れ、中性改良となるため、施工性、安全性の向上が図れ、環境への負荷を軽減できる。",null,"本技術は、高含水泥土に攪拌混合することにより第３～４種建設発生土の強度を持つ改良土に改質できる中性の土壌改質剤である。従来はセメントを混ぜてから約7日の養生期間を設けて改質する方法で対応していた。本技術の活用により養生が不要となり施工性の向上が図れる。",null,"本技術は、高含水泥土に攪拌混合することにより第３～４種建設発生土の強度を持つ改良土に改質できる中性の土壌改質剤である。従来はセメントを混ぜてから約7日の養生期間を設けて改質する方法で対応していた。本技術の活用により養生が不要となり施工性の向上が図れる。",null,"本技術は、高含水泥土に攪拌混合することにより第３～４種建設発生土の強度を持つ改良土に改質できる中性の土壌改質剤である。従来はセメントを混ぜてから約7日の養生期間を設けて改質する方法で対応していた。本技術の活用により養生が不要となり施工性の向上が図れる。",null,"本技術は、残土運搬処理のための泥土の粒状固化処理について、改質材を用いて早期に運搬可能な状態にできる技術で、従来は、天日干しによる粒状固化処理していた。本技術の活用により、早期に運搬可能な状態になり工程程短縮が図れる。",null,"本技術は、残土運搬処理のための泥土の粒状固化処理について、改質材を用いて早期に運搬可能な状態にできる技術で、従来は、天日干しによる粒状固化処理していた。本技術の活用により、早期に運搬可能な状態になり工程程短縮が図れる。",null,"本技術は、軟弱土壌を早期に改質できる中性固化材である。従来は軟弱地盤の改良は生石灰で対応していた。本技術の活用により、早期に改質できるため工程を短縮でき、材料が中性のため薬傷の危険性が低く、安全性が向上する。",null,"本技術は、軟弱土壌を早期に改質できる中性固化材である。従来は軟弱地盤の改良は生石灰で対応していた。本技術の活用により、早期に改質できるため工程を短縮でき、材料が中性のため薬傷の危険性が低く、安全性が向上する。",null,"本技術は、軟弱土壌を早期に改質できる中性固化材である。従来は軟弱地盤の改良は生石灰で対応していた。本技術の活用により、早期に改質できるため工程を短縮でき、材料が中性のため薬傷の危険性が低く、安全性が向上する。",null,"本技術は、軟弱土壌を早期に改質できる中性固化材である。従来は軟弱地盤の改良は生石灰で対応していた。本技術の活用により、早期に改質できるため工程を短縮でき、材料が中性のため薬傷の危険性が低く、安全性が向上する。",null,"本技術は、軟弱土壌を早期に改質できる中性固化材である。従来は軟弱地盤の改良は生石灰で対応していた。本技術の活用により、早期に改質できるため工程を短縮でき、材料が中性のため薬傷の危険性が低く、安全性が向上する。",null,"本技術は、安定処理工について低pH値での土質改良が可能な非セメント系固化材で、従来は生石灰による土質改良と覆土で対応していた。本技術の活用により、覆土が不要となるため、経済性、施工性の向上および工程の短縮が図れる。",null,"本技術は、安定処理工について低pH値での土質改良が可能な非セメント系固化材で、従来は生石灰による土質改良と覆土で対応していた。本技術の活用により、覆土が不要となるため、経済性、施工性の向上および工程の短縮が図れる。",null,"本技術は、安定処理工について低pH値での土質改良が可能な非セメント系固化材で、従来は生石灰による土質改良と覆土で対応していた。本技術の活用により、覆土が不要となるため、経済性、施工性の向上および工程の短縮が図れる。",null,"本技術は、安定処理工について低pH値での土質改良が可能な非セメント系固化材で、従来は生石灰による土質改良と覆土で対応していた。本技術の活用により、覆土が不要となるため、経済性、施工性の向上および工程の短縮が図れる。",null,"本技術は軟弱土に対して粒状固化・強度発現ができる中性の粉末固化処理剤である。従来は生石灰等を使用していたが、本技術の活用により材料費削減や土砂の再利用先の拡大による経済性の向上や環境影響改善、施工効率改善による工期の短縮が図られる。",null,"本技術は軟弱土に対して粒状固化・強度発現ができる中性の粉末固化処理剤である。従来は生石灰等を使用していたが、本技術の活用により材料費削減や土砂の再利用先の拡大による経済性の向上や環境影響改善、施工効率改善による工期の短縮が図られる。",null,"本技術は軟弱土に対して粒状固化・強度発現ができる中性の粉末固化処理剤である。従来は生石灰等を使用していたが、本技術の活用により材料費削減や土砂の再利用先の拡大による経済性の向上や環境影響改善、施工効率改善による工期の短縮が図られる。",null,"本技術は軟弱土に対して粒状固化・強度発現ができる中性の粉末固化処理剤である。従来は生石灰等を使用していたが、本技術の活用により材料費削減や土砂の再利用先の拡大による経済性の向上や環境影響改善、施工効率改善による工期の短縮が図られる。",null,"本技術は軟弱土に対して粒状固化・強度発現ができる中性の粉末固化処理剤である。従来は生石灰等を使用していたが、本技術の活用により材料費削減や土砂の再利用先の拡大による経済性の向上や環境影響改善、施工効率改善による工期の短縮が図られる。",null,"本技術は軟弱土に対して粒状固化・強度発現ができる中性の粉末固化処理剤である。従来は生石灰等を使用していたが、本技術の活用により材料費削減や土砂の再利用先の拡大による経済性の向上や環境影響改善、施工効率改善による工期の短縮が図られる。",null,"本技術は、地盤改良工事について、天然植物及び鉱物性由来の原料を混入したセメント系固化材である。従来は、通常のセメント系固化材で対応していた。本技術の活用により、固化促進をもたらすことで早期に地盤の固化及び強度発現が可能となり、工程短縮が図られる 。",null,"本技術は、地盤改良工事について、天然植物及び鉱物性由来の原料を混入したセメント系固化材である。従来は、通常のセメント系固化材で対応していた。本技術の活用により、固化促進をもたらすことで早期に地盤の固化及び強度発現が可能となり、工程短縮が図られる 。",null,"本技術は、地盤改良工事について、天然植物及び鉱物性由来の原料を混入したセメント系固化材である。従来は、通常のセメント系固化材で対応していた。本技術の活用により、固化促進をもたらすことで早期に地盤の固化及び強度発現が可能となり、工程短縮が図られる 。",null,"本技術は、地盤改良工事について、天然植物及び鉱物性由来の原料を混入したセメント系固化材である。従来は、通常のセメント系固化材で対応していた。本技術の活用により、固化促進をもたらすことで早期に地盤の固化及び強度発現が可能となり、工程短縮が図られる 。",null,"本技術は、地盤改良工事について、天然植物及び鉱物性由来の原料を混入したセメント系固化材である。従来は、通常のセメント系固化材で対応していた。本技術の活用により、固化促進をもたらすことで早期に地盤の固化及び強度発現が可能となり、工程短縮が図られる 。",null,"本技術は、リサイクル材である木質焼却灰及び不溶化材を混錬したセメントを含まない地盤改良材であり、従来はセメント系固化材による。本技術の活用により、六価クロム溶出試験の実施工程が不要となり、混合攪拌までの施工性の向上、作業工程が短縮する。",null,"本技術は、リサイクル材である木質焼却灰及び不溶化材を混錬したセメントを含まない地盤改良材であり、従来はセメント系固化材による。本技術の活用により、六価クロム溶出試験の実施工程が不要となり、混合攪拌までの施工性の向上、作業工程が短縮する。",null,"本技術は、リサイクル材である木質焼却灰及び不溶化材を混錬したセメントを含まない地盤改良材であり、従来はセメント系固化材による。本技術の活用により、六価クロム溶出試験の実施工程が不要となり、混合攪拌までの施工性の向上、作業工程が短縮する。",null,"本技術は、リサイクル材である木質焼却灰及び不溶化材を混錬したセメントを含まない地盤改良材であり、従来はセメント系固化材による。本技術の活用により、六価クロム溶出試験の実施工程が不要となり、混合攪拌までの施工性の向上、作業工程が短縮する。"]
[null,"⑦","概要図"]
[null,"⑧","施工条件・適用条件等","種類",null,"残土処理工",null,"残土処理工",null,"残土処理工",null,"残土処理工",null,"残土処理工",null,"残土処理工",null,"残土処理工（固化材（セメント系、石灰系、石膏系等から選定可能）+高分子凝集剤）",null,"残土処理工",null,"残土処理工",null,"残土処理工",null,"残土処理工",null,"残土処理工",null,"残土処理工",null,"ペーパースラッジ焼却灰系改良材（ペーパースラッジ焼却灰+補助材（カルシウム成分、硫酸成分））",null,"ペーパースラッジ焼却灰系改良材（ペーパースラッジ焼却灰+補助材（カルシウム成分、硫酸成分））",null,"ペーパースラッジ焼却灰系改良材（ペーパースラッジ焼却灰+補助材（カルシウム成分、硫酸成分））",null,"ペーパースラッジ焼却灰系改良材（ペーパースラッジ焼却灰+補助材（カルシウム成分、硫酸成分））",null,"転炉系製鋼スラグ【石灰系】",null,"転炉系製鋼スラグ【石灰系】",null,"石灰複合型改良材（酸化カルシウム、硫酸カルシウム、シリカ、アルミナ）【石灰、石膏】",null,"石灰複合型改良材（酸化カルシウム、硫酸カルシウム、シリカ、アルミナ）【石灰、石膏】",null,"石灰複合型改良材（酸化カルシウム、硫酸カルシウム、シリカ、アルミナ）【石灰、石膏】",null,"石灰複合型改良材（酸化カルシウム、硫酸カルシウム、シリカ、アルミナ）【石灰、石膏】",null,"フライアッシュ系改良材（フライアッシュの他、石膏・セメント・重金属不溶出剤等で構成）",null,"フライアッシュ系改良材（フライアッシュの他、石膏・セメント・重金属不溶出剤等で構成）",null,"フライアッシュ系改良材（フライアッシュの他、石膏・セメント・重金属不溶出剤等で構成）",null,"フライアッシュ系改良材（フライアッシュの他、石膏・セメント・重金属不溶出剤等で構成）",null,"古紙破砕物+固化材【セメント系、石灰系固化材】",null,"古紙破砕物+固化材【セメント系、石灰系固化材】",null,"古紙破砕物+固化材【セメント系、石灰系固化材】",null,"古紙破砕物+固化材【セメント系、石灰系固化材】",null,"ペーパースラッジ焼却灰系改良材",null,"ペーパースラッジ焼却灰系改良材",null,"ペーパースラッジ焼却灰系改良材",null,"ペーパースラッジ焼却灰系改良材",null,"吸水性材料【無機吸水粘土、特殊高分子系材料】",null,"吸水性材料【無機吸水粘土、特殊高分子系材料】",null,"吸水性材料【無機吸水粘土、特殊高分子系材料】",null,"吸水性材料【無機吸水粘土、特殊高分子系材料】",null,"石膏系改良材",null,"石膏系改良材",null,"石膏系改良材",null,"石膏系改良材",null,"LDH(層状複水酸化物)系重金属類吸着剤",null,"LDH系重金属類吸着剤",null,"・汚泥（脱水ケーキ）とカルシウム系薬剤をセラミック加工させた材料　【酸化マグネシウム系】",null,"・汚泥（脱水ケーキ）とカルシウム系薬剤をセラミック加工させた材料　【酸化マグネシウム系】",null,"中和型重金属不溶化中性改質剤【酸化マグネシウム系】",null,"中和型重金属不溶化中性改質剤【酸化マグネシウム系】",null,"中和型重金属不溶化中性改質剤【酸化マグネシウム系】",null,"中和型重金属不溶化中性改質剤【酸化マグネシウム系】",null,"中和型重金属不溶化中性改質剤【酸化マグネシウム系】",null,"中和型重金属不溶化中性改質剤【酸化マグネシウム系】",null,"アロフェン・イモゴライトを主成分とする重金属不溶化材【酸化マグネシウム系】",null,"アロフェン・イモゴライトを主成分とする重金属不溶化材【酸化マグネシウム系】",null,"無機鉱物複合系改質固化剤　【石灰系、酸化マグネシウム系、石膏系】",null,"無機鉱物複合系改質固化剤　【石灰系、酸化マグネシウム系、石膏系】",null,"無機鉱物複合系改質固化剤　【石灰系、酸化マグネシウム系、石膏系】",null,"無機鉱物複合系改質固化剤　【石灰系、酸化マグネシウム系、石膏系】",null,"鉱物マグネシウムを主成分とする重金属不溶化材",null,"鉱物マグネシウムを主成分とする重金属不溶化材",null,"アルミニウム置換アカガネアイトを主成分とするスラリー状重金属不溶化材（副成分として非晶質水酸化アルミニウムも含む）",null,"アルミニウム置換アカガネアイトを主成分とするスラリー状重金属不溶化材（副成分として非晶質水酸化アルミニウムも含む）",null,"高分子と鉱物粒子等（粒度などを調整)を主体とした土質改良材",null,"高分子と鉱物粒子等（粒度などを調整)を主体とした土質改良材",null,"ポリマー成分を含んだ即時改質性能を発揮する中性土壌改質剤【改良材の種類（主成分）：高分子系、酸化マグネシウム系】",null,"ポリマー成分を含んだ即時改質性能を発揮する中性土壌改質剤【改良材の種類（主成分）：高分子系、酸化マグネシウム系】",null,"ポリマー成分を含んだ即時改質性能を発揮する中性土壌改質剤【改良材の種類（主成分）：高分子系、酸化マグネシウム系】",null,"窯業系製品の製造工程から発生する粉体及び端材を粉砕処理した粉体を主体とした土壌改質材【窯業系製品微粉末】",null,"窯業系製品の製造工程から発生する粉体及び端材を粉砕処理した粉体を主体とした土壌改質材【窯業系製品微粉末】",null,"主成分にマグネシウム及びカルシウムを用いて軟弱土壌を早期に、中性域(pH5.8～8.6)の土壌に改質できる中性固化材",null,"主成分にマグネシウム及びカルシウムを用いて軟弱土壌を早期に、中性域(pH5.8～8.6)の土壌に改質できる中性固化材",null,"主成分にマグネシウム及びカルシウムを用いて軟弱土壌を早期に、中性域(pH5.8～8.6)の土壌に改質できる中性固化材",null,"主成分にマグネシウム及びカルシウムを用いて軟弱土壌を早期に、中性域(pH5.8～8.6)の土壌に改質できる中性固化材",null,"主成分にマグネシウム及びカルシウムを用いて軟弱土壌を早期に、中性域(pH5.8～8.6)の土壌に改質できる中性固化材",null,"安定処理工について低pH値での土質改良が可能な非セメント系固化材【PS灰、高炉スラグ微粉末、石膏、石灰の複合】",null,"安定処理工について低pH値での土質改良が可能な非セメント系固化材【PS灰、高炉スラグ微粉末、石膏、石灰の複合】",null,"安定処理工について低pH値での土質改良が可能な非セメント系固化材【PS灰、高炉スラグ微粉末、石膏、石灰の複合】",null,"安定処理工について低pH値での土質改良が可能な非セメント系固化材【PS灰、高炉スラグ微粉末、石膏、石灰の複合】",null,"高含水土砂や高粘性土砂を即時的に粒状固化、付着防止し乾燥促進効果も付与する土砂改質剤",null,"高含水土砂や高粘性土砂を即時的に粒状固化、付着防止し乾燥促進効果も付与する土砂改質剤",null,"高含水土砂や高粘性土砂を即時的に粒状固化、付着防止し乾燥促進効果も付与する土砂改質剤",null,"高含水土砂や高粘性土砂を即時的に粒状固化、付着防止し乾燥促進効果も付与する土砂改質剤",null,"高含水土砂や高粘性土砂を即時的に粒状固化、付着防止し乾燥促進効果も付与する土砂改質剤",null,"高含水土砂や高粘性土砂を即時的に粒状固化、付着防止し乾燥促進効果も付与する土砂改質剤",null,"天然植物・鉱物性由来セメント系固化材（地盤改良材）",null,"天然植物・鉱物性由来セメント系固化材（地盤改良材）",null,"天然植物・鉱物性由来セメント系固化材（地盤改良材）",null,"天然植物・鉱物性由来セメント系固化材（地盤改良材）",null,"天然植物・鉱物性由来セメント系固化材（地盤改良材）",null,"木質焼却灰を再資源化したセメントを含まない地盤改良材",null,"木質焼却灰を再資源化したセメントを含まない地盤改良材",null,"木質焼却灰を再資源化したセメントを含まない地盤改良材",null,"木質焼却灰を再資源化したセメントを含まない地盤改良材"]
[null,null,null,"施工方式",null,"定置式プラント方式",null,"定置式プラント方式",null,"定置式プラント方式",null,"定置式プラント方式",null,"定置式プラント方式",null,"自走式プラント方式",null,"定置式プラント方式（特殊連続ミキサー）",null,"自走式プラント方式",null,"自走式プラント方式",null,"スタビライザ混合",null,"スタビライザ混合",null,"定置式プラント方式",null,"定置式プラント方式",null,"バックホウ混合【スタビライザ混合、自走式プラント方式、定置式プラント方式に適用可能】",null,"バックホウ混合【スタビライザ混合、自走式プラント方式、定置式プラント方式に適用可能】",null,"バックホウ混合【スタビライザ混合、自走式プラント方式、定置式プラント方式に適用可能】",null,"バックホウ混合【スタビライザ混合、自走式プラント方式、定置式プラント方式に適用可能】",null,"バックホウ混合、定置式プラント工法等に適用可能",null,"バックホウ混合、定置式プラント工法等に適用可能",null,"バックホウ混合、スタビライザ混合、自走式プラント方式、定置式プラント方式",null,"バックホウ混合、スタビライザ混合、自走式プラント方式、定置式プラント方式",null,"バックホウ混合、スタビライザ混合、自走式プラント方式、定置式プラント方式",null,"バックホウ混合、スタビライザ混合、自走式プラント方式、定置式プラント方式",null,"バックホウ混合（含水比70%以上）、自走式プラント方式（含水比70%以下）",null,"バックホウ混合（含水比70%以上）、自走式プラント方式（含水比70%以下）",null,"バックホウ混合（含水比70%以上）、自走式プラント方式（含水比70%以下）",null,"バックホウ混合（含水比70%以上）、自走式プラント方式（含水比70%以下）",null,"バックホウ混合",null,"バックホウ混合",null,"バックホウ混合",null,"バックホウ混合",null,"FTマッドキラー専用ミキサー、バックホウ　【自走式プラント方式】",null,"FTマッドキラー専用ミキサー、バックホウ　【自走式プラント方式】",null,"FTマッドキラー専用ミキサー、バックホウ　【自走式プラント方式】",null,"FTマッドキラー専用ミキサー、バックホウ　【自走式プラント方式】",null,"バックホウ混合、自走式プラント方式、【スタビライザ混合、定置式プラント方式】",null,"バックホウ混合、自走式プラント方式、【スタビライザ混合、定置式プラント方式】",null,"バックホウ混合、自走式プラント方式、【スタビライザ混合、定置式プラント方式】",null,"バックホウ混合、自走式プラント方式、【スタビライザ混合、定置式プラント方式】",null,"バックホウ混合、自走式プラント方式 【スタビライザ混合、定置式プラント方式】",null,"バックホウ混合、自走式プラント方式 【スタビライザ混合、定置式プラント方式】",null,"バックホウ混合、自走式プラント方式 【スタビライザ混合、定置式プラント方式】",null,"バックホウ混合、自走式プラント方式 【スタビライザ混合、定置式プラント方式】",null,"自走式土質改良機　【吸着層工法】",null,"自走式土質改良機",null,"自走式土質改良機　【バックホウ混合、スタビライザー混合、盛土下部等に有害物質の吸着層を造成する】",null,"自走式土質改良機　【バックホウ混合、スタビライザー混合、盛土下部等に有害物質の吸着層を造成する】",null,"・自走式土質改良機・自走式プラント方式・バックホウ混合・スタビライザ混合・トレンチャー工法による中層～深層混合方式",null,"・自走式土質改良機・自走式プラント方式・バックホウ混合・スタビライザ混合・トレンチャー工法による中層～深層混合方式",null,"・自走式土質改良機・自走式プラント方式・バックホウ混合・スタビライザ混合・トレンチャー工法による中層～深層混合方式",null,"・自走式土質改良機・自走式プラント方式・バックホウ混合・スタビライザ混合・トレンチャー工法による中層～深層混合方式",null,"・自走式土質改良機・自走式プラント方式・バックホウ混合・スタビライザ混合・トレンチャー工法による中層～深層混合方式",null,"・自走式土質改良機・自走式プラント方式・バックホウ混合・スタビライザ混合・トレンチャー工法による中層～深層混合方式",null,"・自走式土質改良機【・バックホウ混合・スタビライザ混合】(粉体施工)　・中層混合処理機(液体施工)",null,"・自走式土質改良機【・バックホウ混合・スタビライザ混合】(粉体施工)　・中層混合処理機(液体施工)",null,"バックホウ混合、スタビライザー混合、自走式プラント方式　【定置式プラント等】",null,"バックホウ混合、スタビライザー混合、自走式プラント方式　【定置式プラント等】",null,"バックホウ混合、スタビライザー混合、自走式プラント方式　【定置式プラント等】",null,"バックホウ混合、スタビライザー混合、自走式プラント方式　【定置式プラント等】",null,"自走式土質改良機【バックホウ混合、スタビライザー混合、定置式プラント、盛土下部等に有害物質の吸着層を造成する】",null,"自走式土質改良機【バックホウ混合、スタビライザー混合、定置式プラント、盛土下部等に有害物質の吸着層を造成する】",null,"自走式土質改良機【バックホウ混合、盛土下部等に有害物質の吸着層を造成するスタビライザー混合、定置式プラント】",null,"自走式土質改良機【バックホウ混合、盛土下部等に有害物質の吸着層を造成するスタビライザー混合、定置式プラント】",null,"バックホウ混合、【自走式プラント（自走式土質改良機）、スタビライザー混合、定置式プラント】",null,"バックホウ混合、【自走式プラント（自走式土質改良機）、スタビライザー混合、定置式プラント】",null,"バックホウ混合、【自走式プラント（自走式土質改良機）、スタビライザー混合、定置式プラント】",null,"バックホウ混合、【自走式プラント（自走式土質改良機）、スタビライザー混合、定置式プラント】",null,"バックホウ混合、【自走式プラント（自走式土質改良機）、スタビライザー混合、定置式プラント】",null,"バックホウ混合、【定置式プラント】",null,"バックホウ混合、【定置式プラント】",null,"自走式土質改良機、【バックホウ混合、スタビライザー混合、定置式プラント】",null,"自走式土質改良機、【バックホウ混合、スタビライザー混合、定置式プラント】",null,"自走式土質改良機、【バックホウ混合、スタビライザー混合、定置式プラント】",null,"自走式土質改良機、【バックホウ混合、スタビライザー混合、定置式プラント】",null,"自走式土質改良機、【バックホウ混合、スタビライザー混合、定置式プラント】",null,"自走式土質改良機、【スタビライザー、バックホウ混合、定置式プラント】",null,"自走式土質改良機、【スタビライザー、バックホウ混合、定置式プラント】",null,"自走式土質改良機、【スタビライザー、バックホウ混合、定置式プラント】",null,"自走式土質改良機、【スタビライザー、バックホウ混合、定置式プラント】",null,"バックホウ",null,"バックホウ",null,"バックホウ",null,"バックホウ",null,"バックホウ",null,"バックホウ",null,"バックホウ混合",null,"バックホウ混合",null,"バックホウ混合",null,"バックホウ混合",null,"バックホウ混合",null,"バックホウ混合",null,"バックホウ混合",null,"バックホウ混合",null,"バックホウ混合"]
[null,null,null,"対象土質",null,"・第1種建設発生土～第4種建設発生土、粒径200 ㎜以下の地盤材料、軟岩、風化岩、泥土、高含水比粘性土。ただし、配合試験により改良土が目標品質(細粒分率やコーン指数)を満たすもの。　【最大含水比（固化材添加等の前処理無し）：138％、（固化材添加等の前処理有り）：400％】",null,"・第1種建設発生土～第4種建設発生土、粒径200 ㎜以下の地盤材料、軟岩、風化岩、泥土、高含水比粘性土。ただし、配合試験により改良土が目標品質(細粒分率やコーン指数)を満たすもの。　【最大含水比（固化材添加等の前処理無し）：138％、（固化材添加等の前処理有り）：400％】",null,"・第1種建設発生土～第4種建設発生土・泥土、最大粒径100mm以下の礫質土、砂質土、粘性土、適正処理されたコンクリート塊及びその他の有価物　【最大粒径100～150㎜】",null,"・第1種建設発生土～第4種建設発生土・泥土、最大粒径100mm以下の礫質土、砂質土、粘性土、適正処理されたコンクリート塊及びその他の有価物　【最大粒径100～150㎜】",null,"・第1種建設発生土～第4種建設発生土・泥土、最大粒径100mm以下の礫質土、砂質土、粘性土、適正処理されたコンクリート塊及びその他の有価物　【最大粒径100～150㎜】",null,"原位置における建設発生土の土質改良、最大粒径200mm\n【泥土は液性限界の範囲（自立性のある泥土）の場合適用可能】",null,"・自硬性汚泥、非自硬性汚泥、砂質土、シルト、粘性土、有機質土。【・泥土に適用可能。】\n・含水比40～300%程度の高含水泥土（120%以上は固液分離等により含水比の低下を図る）。【・粉塵抑制】",null,"・第1種建設発生土～第4種建設発生土、軟岩・レキ質土（最大粒径200mm以下、岩級CL、D級）、高含水比粘性土（自然含水比138％以下）。",null,"・第1種建設発生土～第4種建設発生土、軟岩・レキ質土（最大粒径200mm以下、岩級CL、D級）、高含水比粘性土（自然含水比138％以下）。",null,"・河川堤防に使用する築堤（盛土）材料の粒度改良　・混合する土砂：砂質土、礫質土、再生砕石、単粒砕石、【泥土】　・混合深度：1.0ｍ以下　【・投入可能な粒径：最大粒径150ｍｍ　・その他：要求品質を満足する為に、事前配合試験を実施し、発生土と母材の混合比率を決定する】",null,"・河川堤防に使用する築堤（盛土）材料の粒度改良　・混合する土砂：砂質土、礫質土、再生砕石、単粒砕石、【泥土】　・混合深度：1.0ｍ以下　【・投入可能な粒径：最大粒径150ｍｍ　・その他：要求品質を満足する為に、事前配合試験を実施し、発生土と母材の混合比率を決定する】",null,"・盛土材料としての品質を満足しない建設発生土や建設汚泥等\n・最大粒径200mm以下、含水比50％以下",null,"・盛土材料としての品質を満足しない建設発生土や建設汚泥等\n・最大粒径200mm以下、含水比50％以下",null,"・含水比350%以下の泥土の改良。・吸水性改質なので、生石灰では改質困難な有機質土を改質可能。【第4種建設発生土、泥土に適用可能。】・改良後早期にpH低減（弱アルカリから中性域に移行）。・臭気の低減が可能。【・早期改質可能（吸水改良）。・六価クロム溶出なし（非セメント系）。】",null,"・含水比350%以下の泥土の改良。・吸水性改質なので、生石灰では改質困難な有機質土を改質可能。【第4種建設発生土、泥土に適用可能。】・改良後早期にpH低減（弱アルカリから中性域に移行）。・臭気の低減が可能。【・早期改質可能（吸水改良）。・六価クロム溶出なし（非セメント系）。】",null,"・含水比350%以下の泥土の改良。・吸水性改質なので、生石灰では改質困難な有機質土を改質可能。【第4種建設発生土、泥土に適用可能。】・改良後早期にpH低減（弱アルカリから中性域に移行）。・臭気の低減が可能。【・早期改質可能（吸水改良）。・六価クロム溶出なし（非セメント系）。】",null,"・含水比350%以下の泥土の改良。・吸水性改質なので、生石灰では改質困難な有機質土を改質可能。【第4種建設発生土、泥土に適用可能。】・改良後早期にpH低減（弱アルカリから中性域に移行）。・臭気の低減が可能。【・早期改質可能（吸水改良）。・六価クロム溶出なし（非セメント系）。】",null,"・シルト・粘土分が多い軟弱浚渫土(細粒分含有率≧20%)。【・中性域での処理が可能。・六価クロム溶出なし（非セメント系）。・粉塵抑制】",null,"・シルト・粘土分が多い軟弱浚渫土(細粒分含有率≧20%)。【・中性域での処理が可能。・六価クロム溶出なし（非セメント系）。・粉塵抑制】",null,"・土木・建築工事において発生される建設発生土・建設泥土。・適用土質：レキ質土・砂質土・シルト質土・粘性土・有機質土。・適応含水比：10％～350％。・六価クロム溶出なし（非セメント系）。・改良後早期にpH低減（弱アルカリから20日程度で中性域に移行）。・粉塵抑制。【・早期改質が可能（吸水・発熱）。】",null,"・土木・建築工事において発生される建設発生土・建設泥土。・適用土質：レキ質土・砂質土・シルト質土・粘性土・有機質土。・適応含水比：10％～350％。・六価クロム溶出なし（非セメント系）。・改良後早期にpH低減（弱アルカリから20日程度で中性域に移行）。・粉塵抑制。【・早期改質が可能（吸水・発熱）。】",null,"・土木・建築工事において発生される建設発生土・建設泥土。・適用土質：レキ質土・砂質土・シルト質土・粘性土・有機質土。・適応含水比：10％～350％。・六価クロム溶出なし（非セメント系）。・改良後早期にpH低減（弱アルカリから20日程度で中性域に移行）。・粉塵抑制。【・早期改質が可能（吸水・発熱）。】",null,"・土木・建築工事において発生される建設発生土・建設泥土。・適用土質：レキ質土・砂質土・シルト質土・粘性土・有機質土。・適応含水比：10％～350％。・六価クロム溶出なし（非セメント系）。・改良後早期にpH低減（弱アルカリから20日程度で中性域に移行）。・粉塵抑制。【・早期改質が可能（吸水・発熱）。】",null,"・現場打杭等により発生した建設汚泥で、含水比210%未満の汚泥に適応可能。【・第4種建設発生土、泥土に適用可能。】【六価クロム溶出なし】",null,"・現場打杭等により発生した建設汚泥で、含水比210%未満の汚泥に適応可能。【・第4種建設発生土、泥土に適用可能。】【六価クロム溶出なし】",null,"・現場打杭等により発生した建設汚泥で、含水比210%未満の汚泥に適応可能。【・第4種建設発生土、泥土に適用可能。】【六価クロム溶出なし】",null,"・現場打杭等により発生した建設汚泥で、含水比210%未満の汚泥に適応可能。【・第4種建設発生土、泥土に適用可能。】【六価クロム溶出なし】",null,"・浚渫土、軟弱土、ため池底泥、建設汚泥等の第4種発生土および泥土。【セメント、石灰等のアルカリ性の高い固化材との併用。】【・最大含水比：500％以下（改良直後に仮置きする場合は200％以下）。・早期改質が可能（吸水作用）。】",null,"・浚渫土、軟弱土、ため池底泥、建設汚泥等の第4種発生土および泥土。【セメント、石灰等のアルカリ性の高い固化材との併用。】【・最大含水比：500％以下（改良直後に仮置きする場合は200％以下）。・早期改質が可能（吸水作用）。】",null,"・浚渫土、軟弱土、ため池底泥、建設汚泥等の第4種発生土および泥土。【セメント、石灰等のアルカリ性の高い固化材との併用。】【・最大含水比：500％以下（改良直後に仮置きする場合は200％以下）。・早期改質が可能（吸水作用）。】",null,"・浚渫土、軟弱土、ため池底泥、建設汚泥等の第4種発生土および泥土。【セメント、石灰等のアルカリ性の高い固化材との併用。】【・最大含水比：500％以下（改良直後に仮置きする場合は200％以下）。・早期改質が可能（吸水作用）。】",null,"・関東ローム、有機質土などのあらゆる土質に適用可能。【第4種建設発生土、泥土に適用可能、最大含水比：420％。】・早期改質可能（吸水改良）。 ・六価クロム溶出なし（非セメント系）。・臭気低減可能。",null,"・関東ローム、有機質土などのあらゆる土質に適用可能。【第4種建設発生土、泥土に適用可能、最大含水比：420％。】・早期改質可能（吸水改良）。 ・六価クロム溶出なし（非セメント系）。・臭気低減可能。",null,"・関東ローム、有機質土などのあらゆる土質に適用可能。【第4種建設発生土、泥土に適用可能、最大含水比：420％。】・早期改質可能（吸水改良）。 ・六価クロム溶出なし（非セメント系）。・臭気低減可能。",null,"・関東ローム、有機質土などのあらゆる土質に適用可能。【第4種建設発生土、泥土に適用可能、最大含水比：420％。】・早期改質可能（吸水改良）。 ・六価クロム溶出なし（非セメント系）。・臭気低減可能。",null,"・改質が必要となる軟弱な粘性土　・廃棄物混入土砂等（分別の前処理）　・早期改質可能（吸水改良）　・中性域での改良が可能【・第4種建設発生土、泥土に適用可能　・六価クロム溶出なし（非セメント系）・臭気低減可能】",null,"・改質が必要となる軟弱な粘性土　・廃棄物混入土砂等（分別の前処理）　・早期改質可能（吸水改良）　・中性域での改良が可能【・第4種建設発生土、泥土に適用可能　・六価クロム溶出なし（非セメント系）・臭気低減可能】",null,"・改質が必要となる軟弱な粘性土　・廃棄物混入土砂等（分別の前処理）　・早期改質可能（吸水改良）　・中性域での改良が可能【・第4種建設発生土、泥土に適用可能　・六価クロム溶出なし（非セメント系）・臭気低減可能】",null,"・改質が必要となる軟弱な粘性土　・廃棄物混入土砂等（分別の前処理）　・早期改質可能（吸水改良）　・中性域での改良が可能【・第4種建設発生土、泥土に適用可能　・六価クロム溶出なし（非セメント系）・臭気低減可能】",null,"・建設汚泥、浚渫土、泥土、軟弱土等　・中性域での改良が可能 　・六価クロム溶出なし（非セメント系）　【・第4種建設発生土、泥土に適用可能。最大含水比：120％　・早期改質可能　・臭気低減可能】",null,"・建設汚泥、浚渫土、泥土、軟弱土等　・中性域での改良が可能 　・六価クロム溶出なし（非セメント系）　【・第4種建設発生土、泥土に適用可能。最大含水比：120％　・早期改質可能　・臭気低減可能】",null,"・建設汚泥、浚渫土、泥土、軟弱土等　・中性域での改良が可能 　・六価クロム溶出なし（非セメント系）　【・第4種建設発生土、泥土に適用可能。最大含水比：120％　・早期改質可能　・臭気低減可能】",null,"・建設汚泥、浚渫土、泥土、軟弱土等　・中性域での改良が可能 　・六価クロム溶出なし（非セメント系）　【・第4種建設発生土、泥土に適用可能。最大含水比：120％　・早期改質可能　・臭気低減可能】",null,"・重金属類(砒素、セレン、鉛、カドミウム、フッ素、ホウ素、六価クロム)を含有する地下水や湧水に対する常時吸着(フィルター層のような吸着層)処理が必要な箇所。・水素イオン指数pH4～12の範囲。【対象土のpH：4～10,含水比w₀：10％～80％】",null,"・重金属類(砒素、セレン、鉛、カドミウム、フッ素、ホウ素、六価クロム)を含有する地下水や湧水に対する常時吸着(フィルター層のような吸着層)処理が必要な箇所。・水素イオン指数pH4～12の範囲。",null,"・環境基準を超える重金属類(ヒ素・鉛等)を含む汚染土壌。【対象土のpH：9以上（中性域から低アルカリ性）】",null,"・環境基準を超える重金属類(ヒ素・鉛等)を含む汚染土壌。【対象土のpH：9以上（中性域から低アルカリ性）】",null,"・重金属を含む土壌環境基準不適合土壌全般【・土質改良可能　・第４種建設発生土、泥土に適用可能　対象土のpH：3～11,含水比：5～200％に適用可能】",null,"・重金属を含む土壌環境基準不適合土壌全般【・土質改良可能　・第４種建設発生土、泥土に適用可能　対象土のpH：3～11,含水比：5～200％に適用可能】",null,"・重金属を含む土壌環境基準不適合土壌全般【・土質改良可能　・第４種建設発生土、泥土に適用可能　対象土のpH：3～11,含水比：5～200％に適用可能】",null,"・重金属を含む土壌環境基準不適合土壌全般【・土質改良可能　・第４種建設発生土、泥土に適用可能　対象土のpH：3～11,含水比：5～200％に適用可能】",null,"・重金属を含む土壌環境基準不適合土壌全般【・土質改良可能　・第４種建設発生土、泥土に適用可能　対象土のpH：3～11,含水比：5～200％に適用可能】",null,"・重金属を含む土壌環境基準不適合土壌全般【・土質改良可能　・第４種建設発生土、泥土に適用可能　対象土のpH：3～11,含水比：5～200％に適用可能】",null,"・重金属類（砒素、鉛、カドミウム、クロム、フッ素、ホウ素、セレン）の７種類が混じっている土壌の不溶化。・水素イオン指数pH4～12【・土質の改良　・有害物質の固化、不溶化、吸着　・第４種建設発生土　・泥土　・対象土のpH：3～12,含水比：10～100％に適用可能】",null,"・重金属類（砒素、鉛、カドミウム、クロム、フッ素、ホウ素、セレン）の７種類が混じっている土壌の不溶化。・水素イオン指数pH4～12【・土質の改良　・有害物質の固化、不溶化、吸着　・第４種建設発生土　・泥土　・対象土のpH：3～12,含水比：10～100％に適用可能】",null,"・中性域での改良が可能（pH5.0～pH9.0）　・建設発生土・泥土・汚泥等の軟弱土を再利用する工事・砂礫土、火山灰質土、高有機質土、酸性硫酸塩土コーン指数が200kN /m2未満で、高含水比(50%～150%)の泥土や汚泥で効果が高い。",null,"・中性域での改良が可能（pH5.0～pH9.0）　・建設発生土・泥土・汚泥等の軟弱土を再利用する工事・砂礫土、火山灰質土、高有機質土、酸性硫酸塩土コーン指数が200kN /m2未満で、高含水比(50%～150%)の泥土や汚泥で効果が高い。",null,"・中性域での改良が可能（pH5.0～pH9.0）　・建設発生土・泥土・汚泥等の軟弱土を再利用する工事・砂礫土、火山灰質土、高有機質土、酸性硫酸塩土コーン指数が200kN /m2未満で、高含水比(50%～150%)の泥土や汚泥で効果が高い。",null,"・中性域での改良が可能（pH5.0～pH9.0）　・建設発生土・泥土・汚泥等の軟弱土を再利用する工事・砂礫土、火山灰質土、高有機質土、酸性硫酸塩土コーン指数が200kN /m2未満で、高含水比(50%～150%)の泥土や汚泥で効果が高い。",null,"・第二種特定有害物質(重金属等)を含む土砂【対象土のｐＨ：11以下】",null,"・第二種特定有害物質(重金属等)を含む土砂【対象土のｐＨ：11以下】",null,"第二種特定有害物質の内フッ素、ヒ素、クロム、水銀、鉛、カドミウム、セレン等を含む土壌環境基準不適合土壌全般",null,"第二種特定有害物質の内フッ素、ヒ素、クロム、水銀、鉛、カドミウム、セレン等を含む土壌環境基準不適合土壌全般",null,"・含水比150％程度までの高含水軟弱土の土質改良・早期改質可能（高含水泥土（150％程度まで））・早期強度発現可能・粉塵抑制・中性化での改良が可能・災害廃棄物混入土等からの異物除去、【土質改良、第4種建設発生土、泥土】",null,"・含水比150％程度までの高含水軟弱土の土質改良・早期改質可能（高含水泥土（150％程度まで））・早期強度発現可能・粉塵抑制・中性化での改良が可能・災害廃棄物混入土等からの異物除去、【土質改良、第4種建設発生土、泥土】",null,"・含水率59%以下の泥土　・工事現場から発生する無機系土壌、砂質、粘土質から成る残土  ・海水程度の塩分濃度を含んだ浚渫土　・ヒ素などの有害金属に汚染された土壌",null,"・含水率59%以下の泥土　・工事現場から発生する無機系土壌、砂質、粘土質から成る残土  ・海水程度の塩分濃度を含んだ浚渫土　・ヒ素などの有害金属に汚染された土壌",null,"・含水率59%以下の泥土　・工事現場から発生する無機系土壌、砂質、粘土質から成る残土  ・海水程度の塩分濃度を含んだ浚渫土　・ヒ素などの有害金属に汚染された土壌",null,"土質、含水率関係なく　【建設発生土：第4種建設発生土、泥土、有害物質：第一種特定有害物質(揮発性有機化合物)、第二種特定有害物質(重金属等）、第三種特定有害物質(農薬類)、その他（ダイオキシン類等）】",null,"土質、含水率関係なく　【建設発生土：第4種建設発生土、泥土、有害物質：第一種特定有害物質(揮発性有機化合物)、第二種特定有害物質(重金属等）、第三種特定有害物質(農薬類)、その他（ダイオキシン類等）】",null,"・中性域（pH5.8～8.6)に改質する必要がある現場。・浚渫土や建設汚泥を改質後すぐに搬出が必要な現場。\n【第4種建設発生土、泥土、第二種特定有害物質(重金属等）】",null,"・中性域（pH5.8～8.6)に改質する必要がある現場。・浚渫土や建設汚泥を改質後すぐに搬出が必要な現場。\n【第4種建設発生土、泥土、第二種特定有害物質(重金属等）】",null,"・中性域（pH5.8～8.6)に改質する必要がある現場。・浚渫土や建設汚泥を改質後すぐに搬出が必要な現場。\n【第4種建設発生土、泥土、第二種特定有害物質(重金属等）】",null,"・中性域（pH5.8～8.6)に改質する必要がある現場。・浚渫土や建設汚泥を改質後すぐに搬出が必要な現場。\n【第4種建設発生土、泥土、第二種特定有害物質(重金属等）】",null,"・中性域（pH5.8～8.6)に改質する必要がある現場。・浚渫土や建設汚泥を改質後すぐに搬出が必要な現場。\n【第4種建設発生土、泥土、第二種特定有害物質(重金属等）】",null,"・軟弱土を中性域（pH5.0～pH9.0）で固化することが必要な現場。【土質改良、有害物質の固化・不溶化・吸着、第4種建設発生土、泥土】",null,"・軟弱土を中性域（pH5.0～pH9.0）で固化することが必要な現場。【土質改良、有害物質の固化・不溶化・吸着、第4種建設発生土、泥土】",null,"・軟弱土を中性域（pH5.0～pH9.0）で固化することが必要な現場。【土質改良、有害物質の固化・不溶化・吸着、第4種建設発生土、泥土】",null,"・軟弱土を中性域（pH5.0～pH9.0）で固化することが必要な現場。【土質改良、有害物質の固化・不溶化・吸着、第4種建設発生土、泥土】",null,"・油に起因する軟弱土砂ではない土砂の改質 ・高含水、軟弱土砂の改質および強度付与 ・含水に由来する高粘性土の付着防止 ・ある程度含水のある廃棄物混じり土の分別",null,"・油に起因する軟弱土砂ではない土砂の改質 ・高含水、軟弱土砂の改質および強度付与 ・含水に由来する高粘性土の付着防止 ・ある程度含水のある廃棄物混じり土の分別",null,"・油に起因する軟弱土砂ではない土砂の改質 ・高含水、軟弱土砂の改質および強度付与 ・含水に由来する高粘性土の付着防止 ・ある程度含水のある廃棄物混じり土の分別",null,"・油に起因する軟弱土砂ではない土砂の改質 ・高含水、軟弱土砂の改質および強度付与 ・含水に由来する高粘性土の付着防止 ・ある程度含水のある廃棄物混じり土の分別",null,"・油に起因する軟弱土砂ではない土砂の改質 ・高含水、軟弱土砂の改質および強度付与 ・含水に由来する高粘性土の付着防止 ・ある程度含水のある廃棄物混じり土の分別",null,"・油に起因する軟弱土砂ではない土砂の改質 ・高含水、軟弱土砂の改質および強度付与 ・含水に由来する高粘性土の付着防止 ・ある程度含水のある廃棄物混じり土の分別",null,"・地盤改良工事。",null,"・地盤改良工事。",null,"・地盤改良工事。",null,"・地盤改良工事。",null,"・地盤改良工事。",null,"地盤改良強度が第2種改良土（コーン指数800kN/m²以上）以上を求められる現場",null,"地盤改良強度が第2種改良土（コーン指数800kN/m²以上）以上を求められる現場",null,"地盤改良強度が第2種改良土（コーン指数800kN/m²以上）以上を求められる現場",null,"地盤改良強度が第2種改良土（コーン指数800kN/m²以上）以上を求められる現場"]
[null,null,null,"対象汚染物質",null,"-",null,"-",null,"-",null,"-",null,"-",null,"-",null,"-",null,"-",null,"-",null,"-",null,"-",null,"-",null,"-",null,"-",null,"-",null,"-",null,"-",null,"-",null,"-",null,"-",null,"-",null,"-",null,"-",null,"【自然由来重金属等（鉛、六価クロム、フッ素等）】",null,"【自然由来重金属等（鉛、六価クロム、フッ素等）】",null,"【自然由来重金属等（鉛、六価クロム、フッ素等）】",null,"【自然由来重金属等（鉛、六価クロム、フッ素等）】",null,"-",null,"-",null,"-",null,"-",null,"-",null,"-",null,"-",null,"-",null,"-",null,"-",null,"-",null,"-",null,"-",null,"-",null,"-",null,"-",null,"シアンを除く第2種特定有害物質（重金属類）",null,"砒素、セレン(4価、6価)、鉛、カドミウム、フッ素、ホウ素、六価クロム",null,"シアン、水銀を除く第2種特定有害物質（重金属類）",null,"シアン、水銀を除く第2種特定有害物質（重金属類）",null,"【第二種特定有害物質（重金属類）】",null,"【第二種特定有害物質（重金属類）】",null,"【第二種特定有害物質（重金属類）】",null,"【第二種特定有害物質（重金属類）】",null,"【第二種特定有害物質（重金属類）】",null,"【第二種特定有害物質（重金属類）】",null,"砒素、鉛、カドミウム、クロム、フッ素、ホウ素、セレン【シアン、水銀を除く第2種特定有害物質（重金属類）】",null,"砒素、鉛、カドミウム、クロム、フッ素、ホウ素、セレン【シアン、水銀を除く第2種特定有害物質（重金属類）】",null,"-",null,"-",null,"-",null,"-",null,"第二種特定有害物質（カドミウム、六価クロム、水銀、セレン、鉛、砒素、ふっ素、ほう素）",null,"第二種特定有害物質（カドミウム、六価クロム、水銀、セレン、鉛、砒素、ふっ素、ほう素）",null,"フッ素、ヒ素、六価クロム、シアン、水銀、鉛、カドミウム、セレン",null,"フッ素、ヒ素、六価クロム、シアン、水銀、鉛、カドミウム、セレン",null,"-",null,"-",null,"・第二種特定有害物質(重金属等）　・ヒ素などの有害金属に汚染された土壌の場合、アースレフォールβおよびアースソルを用いることで有害金属の不溶化が可能",null,"・第二種特定有害物質(重金属等）　・ヒ素などの有害金属に汚染された土壌の場合、アースレフォールβおよびアースソルを用いることで有害金属の不溶化が可能",null,"・第二種特定有害物質(重金属等）　・ヒ素などの有害金属に汚染された土壌の場合、アースレフォールβおよびアースソルを用いることで有害金属の不溶化が可能",null,"【第一種特定有害物質(揮発性有機化合物)、第二種特定有害物質(重金属等）、第三種特定有害物質(農薬類)、その他（ダイオキシン類等）】",null,"【第一種特定有害物質(揮発性有機化合物)、第二種特定有害物質(重金属等）、第三種特定有害物質(農薬類)、その他（ダイオキシン類等）】",null,"【ヒ素】",null,"【ヒ素】",null,"【ヒ素】",null,"【ヒ素】",null,"【ヒ素】",null,"-",null,"-",null,"-",null,"-",null,"-",null,"-",null,"-",null,"-",null,"-",null,"-",null,"-",null,"-",null,"-",null,"-",null,"-",null,"-",null,"-",null,"-",null,"-"]
[null,null,null,"適用不可範囲",null,"・ベルコンで輸送できないような高含水比の材料　・鉄筋、木材が混入した材料",null,"・ベルコンで輸送できないような高含水比の材料　・鉄筋、木材が混入した材料",null,"流動性を呈している土、有害物を含んでいる土",null,"流動性を呈している土、有害物を含んでいる土",null,"流動性を呈している土、有害物を含んでいる土",null,"汚泥、流動性のあるヘドロ等の改良",null,"汚染されている(土壌環境基準に適合していない)泥土",null,"・泥土　　・鉄筋、木材が混入した材料",null,"・泥土　　・鉄筋、木材が混入した材料",null,"・河川堤防に使用する築堤（盛土）材料の粒度改良以外　・粘性土、砂質土、礫質土、再生砕石、単粒砕石以外　・混合深度：1.0ｍを超える",null,"・河川堤防に使用する築堤（盛土）材料の粒度改良以外　・粘性土、砂質土、礫質土、再生砕石、単粒砕石以外　・混合深度：1.0ｍを超える",null,"・受入側の含水比が高い状態　・母材(建設発生土)の最大粒径：200mm超過、含水比：50％超過",null,"・受入側の含水比が高い状態　・母材(建設発生土)の最大粒径：200mm超過、含水比：50％超過",null,"含水比350%以上の泥水状の泥土改質は添加量が多くなり不経済となる。水中施工部分への改質土の埋め戻しは締め固めができないため利用不可。",null,"含水比350%以上の泥水状の泥土改質は添加量が多くなり不経済となる。水中施工部分への改質土の埋め戻しは締め固めができないため利用不可。",null,"含水比350%以上の泥水状の泥土改質は添加量が多くなり不経済となる。水中施工部分への改質土の埋め戻しは締め固めができないため利用不可。",null,"含水比350%以上の泥水状の泥土改質は添加量が多くなり不経済となる。水中施工部分への改質土の埋め戻しは締め固めができないため利用不可。",null,"水和固化反応の阻害因子である水(含水比)や有機物(強熱減量)を多く含む浚渫土。",null,"水和固化反応の阻害因子である水(含水比)や有機物(強熱減量)を多く含む浚渫土。",null,"・レキ質のみを安定処理する場合。・水中における土質改良。",null,"・レキ質のみを安定処理する場合。・水中における土質改良。",null,"・レキ質のみを安定処理する場合。・水中における土質改良。",null,"・レキ質のみを安定処理する場合。・水中における土質改良。",null,"重金属により汚染された土壌(工場跡地等)。",null,"重金属により汚染された土壌(工場跡地等)。",null,"重金属により汚染された土壌(工場跡地等)。",null,"重金属により汚染された土壌(工場跡地等)。",null,"土壌環境基準値を越える汚染された泥土および下水汚泥等の有機汚泥。【アルカリ性の低い固化材との併用（ボンファイバーが分解するため）。】",null,"土壌環境基準値を越える汚染された泥土および下水汚泥等の有機汚泥。【アルカリ性の低い固化材との併用（ボンファイバーが分解するため）。】",null,"土壌環境基準値を越える汚染された泥土および下水汚泥等の有機汚泥。【アルカリ性の低い固化材との併用（ボンファイバーが分解するため）。】",null,"土壌環境基準値を越える汚染された泥土および下水汚泥等の有機汚泥。【アルカリ性の低い固化材との併用（ボンファイバーが分解するため）。】",null,"構造物基礎等の高い改良強度が要求される位置の利用、地下水位以下の施工(締固めが必要)",null,"構造物基礎等の高い改良強度が要求される位置の利用、地下水位以下の施工(締固めが必要)",null,"構造物基礎等の高い改良強度が要求される位置の利用、地下水位以下の施工(締固めが必要)",null,"構造物基礎等の高い改良強度が要求される位置の利用、地下水位以下の施工(締固めが必要)",null,"・砂質土等改質の必要のない土壌　【・撹拌装置に供給できない程の高含水土壌】",null,"・砂質土等改質の必要のない土壌　【・撹拌装置に供給できない程の高含水土壌】",null,"・砂質土等改質の必要のない土壌　【・撹拌装置に供給できない程の高含水土壌】",null,"・砂質土等改質の必要のない土壌　【・撹拌装置に供給できない程の高含水土壌】",null,"・従来の固化材と同様",null,"・従来の固化材と同様",null,"・従来の固化材と同様",null,"・従来の固化材と同様",null,"・砒素、セレン(4価、6価)、鉛、カドミウム、フッ素、ホウ素、六価クロム、【水銀】以外の吸着。\n・水素イオン指数pH4～12以外の範囲。",null,"・砒素、セレン(4価、6価)、鉛、カドミウム、フッ素、ホウ素、六価クロム以外の吸着。\n・水素イオン指数pH4～12以外の範囲。",null,"・水銀、シアン、ダイオキシン類に汚染された土壌。・均等混合が難しい瓦礫や鉄くずなどの大きなごみが混ざっている土壌。\n・重金属物質が岩石に含まれている場合は、適用できないので粉砕してから処理すること。",null,"・水銀、シアン、ダイオキシン類に汚染された土壌。・均等混合が難しい瓦礫や鉄くずなどの大きなごみが混ざっている土壌。\n・重金属物質が岩石に含まれている場合は、適用できないので粉砕してから処理すること。",null,"・重金属の溶出及び含有が不検出である土壌や、中性域にある土壌で、廃棄処分をしない土壌",null,"・重金属の溶出及び含有が不検出である土壌や、中性域にある土壌で、廃棄処分をしない土壌",null,"・重金属の溶出及び含有が不検出である土壌や、中性域にある土壌で、廃棄処分をしない土壌",null,"・重金属の溶出及び含有が不検出である土壌や、中性域にある土壌で、廃棄処分をしない土壌",null,"・重金属の溶出及び含有が不検出である土壌や、中性域にある土壌で、廃棄処分をしない土壌",null,"・重金属の溶出及び含有が不検出である土壌や、中性域にある土壌で、廃棄処分をしない土壌",null,"・重金属類（砒素、鉛、カドミウム、クロム、フッ素、ホウ素、セレン）が混じっていない土壌の不溶化。\n・水素イオン指数pH4～12以外の範囲。",null,"・重金属類（砒素、鉛、カドミウム、クロム、フッ素、ホウ素、セレン）が混じっていない土壌の不溶化。\n・水素イオン指数pH4～12以外の範囲。",null,"・建設発生土、泥土・汚泥などの軟弱土壌を中性域でなく強アルカリで再利用可能な工事",null,"・建設発生土、泥土・汚泥などの軟弱土壌を中性域でなく強アルカリで再利用可能な工事",null,"・建設発生土、泥土・汚泥などの軟弱土壌を中性域でなく強アルカリで再利用可能な工事",null,"・建設発生土、泥土・汚泥などの軟弱土壌を中性域でなく強アルカリで再利用可能な工事",null,"・第一種特定有害物質(揮発性有機化合物) ・第三種特定有害物質(農薬類)",null,"・第一種特定有害物質(揮発性有機化合物) ・第三種特定有害物質(農薬類)",null,"・第一種特定有害物質(揮発性有機化合物)、第三種特定有害物質(農薬類)、第二種特定有害物質の内、含有量基準超過汚染土・設計段階で事前に行う室内試験において不溶化効果が得られない土壌",null,"・第一種特定有害物質(揮発性有機化合物)、第三種特定有害物質(農薬類)、第二種特定有害物質の内、含有量基準超過汚染土・設計段階で事前に行う室内試験において不溶化効果が得られない土壌",null,"・含水比200％程度を超える土質改良（150％～200％は、要相談）\n・塩類が多く含まれる地盤　・既に、セメント、石灰などで改良された地盤",null,"・含水比200％程度を超える土質改良（150％～200％は、要相談）\n・塩類が多く含まれる地盤　・既に、セメント、石灰などで改良された地盤",null,"氷点下の凍結土壌",null,"氷点下の凍結土壌",null,"氷点下の凍結土壌",null,"【対象物が凍結している場合】",null,"【対象物が凍結している場合】",null,"・中性域（pH5.8～8.6)に改質する必要が無い（高アルカリでも良い）現場。",null,"・中性域（pH5.8～8.6)に改質する必要が無い（高アルカリでも良い）現場。",null,"・中性域（pH5.8～8.6)に改質する必要が無い（高アルカリでも良い）現場。",null,"・中性域（pH5.8～8.6)に改質する必要が無い（高アルカリでも良い）現場。",null,"・中性域（pH5.8～8.6)に改質する必要が無い（高アルカリでも良い）現場。",null,"・特になし。",null,"・特になし。",null,"・特になし。",null,"・特になし。",null,"・油に起因する軟弱土砂の改質 ・低含水土砂へのさらなる強度付与 ・含水に由来しない高粘性土砂の改質 ・低含水の廃棄物混じり土の分別",null,"・油に起因する軟弱土砂の改質 ・低含水土砂へのさらなる強度付与 ・含水に由来しない高粘性土砂の改質 ・低含水の廃棄物混じり土の分別",null,"・油に起因する軟弱土砂の改質 ・低含水土砂へのさらなる強度付与 ・含水に由来しない高粘性土砂の改質 ・低含水の廃棄物混じり土の分別",null,"・油に起因する軟弱土砂の改質 ・低含水土砂へのさらなる強度付与 ・含水に由来しない高粘性土砂の改質 ・低含水の廃棄物混じり土の分別",null,"・油に起因する軟弱土砂の改質 ・低含水土砂へのさらなる強度付与 ・含水に由来しない高粘性土砂の改質 ・低含水の廃棄物混じり土の分別",null,"・油に起因する軟弱土砂の改質 ・低含水土砂へのさらなる強度付与 ・含水に由来しない高粘性土砂の改質 ・低含水の廃棄物混じり土の分別",null,"・地盤改良工事以外。",null,"・地盤改良工事以外。",null,"・地盤改良工事以外。",null,"・地盤改良工事以外。",null,"・地盤改良工事以外。",null,"雨天時に使用できないこと",null,"雨天時に使用できないこと",null,"雨天時に使用できないこと",null,"雨天時に使用できないこと"]
[null,null,null,"処理後の適用先",null,"築堤盛土、路床・路体盛土等",null,"築堤盛土、路床・路体盛土等",null,"築堤盛土、路床・路体盛土等",null,"築堤盛土、路床・路体盛土等",null,"築堤盛土、路床・路体盛土等",null,"建設発生土のリサイクル",null,"・第4種処理(改良)土(qc≧200kN/m2)～第2種処理(改良)土(qc≧800kN/m2)に処理(改良)可能。【・路体・路床材、埋戻し材や堤体材料等。】",null,"・築堤盛土　・路体、路床盛土　・改良、埋戻し",null,"・築堤盛土　・路体、路床盛土　・改良、埋戻し",null,"築堤盛土 、河川盛土等",null,"築堤盛土 、河川盛土等",null,"建設工事（土木、建築など）における埋戻し工や盛土工など",null,"建設工事（土木、建築など）における埋戻し工や盛土工など",null,"低アルカリから中性域なので、植生土や田畑付近での埋め戻し材としての利用も可能。",null,"低アルカリから中性域なので、植生土や田畑付近での埋め戻し材としての利用も可能。",null,"低アルカリから中性域なので、植生土や田畑付近での埋め戻し材としての利用も可能。",null,"低アルカリから中性域なので、植生土や田畑付近での埋め戻し材としての利用も可能。",null,"・干潟浅場造成における基盤材や浚渫窪地埋戻し材等の海域環境改善工事用材料。・埋土材や腹付け材等の埋立て工事用材料。",null,"・干潟浅場造成における基盤材や浚渫窪地埋戻し材等の海域環境改善工事用材料。・埋土材や腹付け材等の埋立て工事用材料。",null,"-",null,"-",null,"-",null,"-",null,"利用目的により第3種～第2種建設発生土以上まで改良調整が可能",null,"利用目的により第3種～第2種建設発生土以上まで改良調整が可能",null,"利用目的により第3種～第2種建設発生土以上まで改良調整が可能",null,"利用目的により第3種～第2種建設発生土以上まで改良調整が可能",null,"・路体盛土、河川堤防、造成地盤、埋戻し土",null,"・路体盛土、河川堤防、造成地盤、埋戻し土",null,"・路体盛土、河川堤防、造成地盤、埋戻し土",null,"・路体盛土、河川堤防、造成地盤、埋戻し土",null,"公共工事における通常の盛土材(宅地、路体)のほか、水域環境での盛土材（建設発生土第2種～4種(qc = 200～800 kN/m2)および路体盛土材(qc=1000kN/m2以上)）。",null,"公共工事における通常の盛土材(宅地、路体)のほか、水域環境での盛土材（建設発生土第2種～4種(qc = 200～800 kN/m2)および路体盛土材(qc=1000kN/m2以上)）。",null,"公共工事における通常の盛土材(宅地、路体)のほか、水域環境での盛土材（建設発生土第2種～4種(qc = 200～800 kN/m2)および路体盛土材(qc=1000kN/m2以上)）。",null,"公共工事における通常の盛土材(宅地、路体)のほか、水域環境での盛土材（建設発生土第2種～4種(qc = 200～800 kN/m2)および路体盛土材(qc=1000kN/m2以上)）。",null,"-",null,"-",null,"-",null,"-",null,"-",null,"-",null,"-",null,"-",null,"現地利用",null,"現地利用",null,"現地利用",null,"現地利用",null,"現地利用,盛土の土木資材,現位置混合撹拌",null,"現地利用,盛土の土木資材,現位置混合撹拌",null,"現地利用,盛土の土木資材,現位置混合撹拌",null,"現地利用,盛土の土木資材,現位置混合撹拌",null,"現地利用,盛土の土木資材,現位置混合撹拌",null,"現地利用,盛土の土木資材,現位置混合撹拌",null,"現地利用",null,"現地利用",null,"現地利用",null,"現地利用",null,"現地利用",null,"現地利用",null,"現地利用",null,"現地利用",null,"現地利用",null,"現地利用",null,"【盛土】",null,"【盛土】",null,"【盛り土】",null,"【盛り土】",null,"【盛り土】",null,"【埋め戻し材として再利用可能】",null,"【埋め戻し材として再利用可能】",null,"【埋戻し、埋め立て等】",null,"【埋戻し、埋め立て等】",null,"【埋戻し、埋め立て等】",null,"【埋戻し、埋め立て等】",null,"【埋戻し、埋め立て等】",null,"現地利用",null,"現地利用",null,"現地利用",null,"現地利用",null,"現地利用",null,"現地利用",null,"現地利用",null,"現地利用",null,"現地利用",null,"現地利用",null,"-",null,"-",null,"-",null,"-",null,"-",null,"盛土、埋戻し",null,"盛土、埋戻し",null,"盛土、埋戻し",null,"盛土、埋戻し"]
[null,null,null,"現場条件",null,"プラント設置ヤード：幅16m×35m=560㎡程度、作業スペース：幅28m×長さ53m=約1,500㎡が標準　　【機械設置ヤード：630㎡以上、ストックヤード等：1350㎡以上】",null,"プラント設置ヤード：幅16m×35m=560㎡程度、作業スペース：幅28m×長さ53m=約1,500㎡が標準　　【機械設置ヤード：630㎡以上、ストックヤード等：1350㎡以上】",null,"プラント設置面積：150～500㎡、混合ヤード（プラント含む）必要面積：750～1500㎡",null,"プラント設置面積：150～500㎡、混合ヤード（プラント含む）必要面積：750～1500㎡",null,"プラント設置面積：150～500㎡、混合ヤード（プラント含む）必要面積：750～1500㎡",null,"自走式土質改良機の進入が可能な場所(コーン指数200kN/㎡以下(泥土b相当)の地盤でも敷鉄板により自走可能)",null,"・機械の設置スペースとしては、12m×7m程度必要。雨天時も施工可能。【・高分子凝集剤については降雨等の影響を受けるためシート等による養生が必要。】",null,"・プラント設置ヤード 長さ14ｍ×幅35ｍ＝490ｍ2程度",null,"・プラント設置ヤード 長さ14ｍ×幅35ｍ＝490ｍ2程度",null,"スタビライザ作業スペース：9.42m×2.98m=28.1m2、混合作業ヤードスペース：18.5m×50m＝925m2",null,"スタビライザ作業スペース：9.42m×2.98m=28.1m2、混合作業ヤードスペース：18.5m×50m＝925m2",null,"-",null,"-",null,"現場での製品保管時の水濡れ対策が必要。粉状のため、必要に応じてシート養生・ミスト等の飛散防止対策を行う。",null,"現場での製品保管時の水濡れ対策が必要。粉状のため、必要に応じてシート養生・ミスト等の飛散防止対策を行う。",null,"現場での製品保管時の水濡れ対策が必要。粉状のため、必要に応じてシート養生・ミスト等の飛散防止対策を行う。",null,"現場での製品保管時の水濡れ対策が必要。粉状のため、必要に応じてシート養生・ミスト等の飛散防止対策を行う。",null,"一般の海洋工事と同様。",null,"一般の海洋工事と同様。",null,"・現場での搬入及び保管は、酸化カルシウムによる発熱作用を有するため雨水や湧水等に対するシート養生が必要。",null,"・現場での搬入及び保管は、酸化カルシウムによる発熱作用を有するため雨水や湧水等に対するシート養生が必要。",null,"・現場での搬入及び保管は、酸化カルシウムによる発熱作用を有するため雨水や湧水等に対するシート養生が必要。",null,"・現場での搬入及び保管は、酸化カルシウムによる発熱作用を有するため雨水や湧水等に対するシート養生が必要。",null,"改良材(DF剤フレコンパック)はパレット上で保管し、養生シートにより降雨対策を行う。",null,"改良材(DF剤フレコンパック)はパレット上で保管し、養生シートにより降雨対策を行う。",null,"改良材(DF剤フレコンパック)はパレット上で保管し、養生シートにより降雨対策を行う。",null,"改良材(DF剤フレコンパック)はパレット上で保管し、養生シートにより降雨対策を行う。",null,"施工ヤードとして200m2程度(改良土仮置きヤードは別途)",null,"施工ヤードとして200m2程度(改良土仮置きヤードは別途)",null,"施工ヤードとして200m2程度(改良土仮置きヤードは別途)",null,"施工ヤードとして200m2程度(改良土仮置きヤードは別途)",null,"材料自身は、弱アルカリ(処理土は中性域)のため皮膚のアレルギー反応を生じることがあるため、直接、触れないこと。",null,"材料自身は、弱アルカリ(処理土は中性域)のため皮膚のアレルギー反応を生じることがあるため、直接、触れないこと。",null,"材料自身は、弱アルカリ(処理土は中性域)のため皮膚のアレルギー反応を生じることがあるため、直接、触れないこと。",null,"材料自身は、弱アルカリ(処理土は中性域)のため皮膚のアレルギー反応を生じることがあるため、直接、触れないこと。",null,"・雨天時は施工できない　・風が強い場合には防塵対策が必要となる",null,"・雨天時は施工できない　・風が強い場合には防塵対策が必要となる",null,"・雨天時は施工できない　・風が強い場合には防塵対策が必要となる",null,"・雨天時は施工できない　・風が強い場合には防塵対策が必要となる",null,"・雨天、悪天候時は施工が不可である。",null,"・雨天、悪天候時は施工が不可である。",null,"・雨天、悪天候時は施工が不可である。",null,"・雨天、悪天候時は施工が不可である。",null,"・作業スペースは、自走式土質改良機20t級(13.12m×2.85m=37.6m2)+土砂積込用バックホウ0.8m3級(9.6m×2.71m=26m2)=63.6m2必要。",null,"・作業スペースは、自走式土質改良機20t級(13.12m×2.85m=37.6m2)+土砂積込用バックホウ0.8m3級(9.6m×2.71m=26m2)=63.6m2必要。",null,"・自走式土質改良機や原材料を置くスペースが必要。",null,"・自走式土質改良機や原材料を置くスペースが必要。",null,"・混合施工ヤードの確保が必要(別途土砂の仮置き場も必要)",null,"・混合施工ヤードの確保が必要(別途土砂の仮置き場も必要)",null,"・混合施工ヤードの確保が必要(別途土砂の仮置き場も必要)",null,"・混合施工ヤードの確保が必要(別途土砂の仮置き場も必要)",null,"・混合施工ヤードの確保が必要(別途土砂の仮置き場も必要)",null,"・混合施工ヤードの確保が必要(別途土砂の仮置き場も必要)",null,"粉体の場合：自走式土質改良機20t級(13.12m×2.85m=37.6m2)+土砂積込用バックホウ0.8m3級(9.6m×2.71m=26m2)=63.6m2、液体の場合：中層混合処理機8.347m×3.505m=29.3m2が必要",null,"粉体の場合：自走式土質改良機20t級(13.12m×2.85m=37.6m2)+土砂積込用バックホウ0.8m3級(9.6m×2.71m=26m2)=63.6m2、液体の場合：中層混合処理機8.347m×3.505m=29.3m2が必要",null,"・対象土の温度が氷点下以下の時は施工不可　・現場での搬入及び保管は、化学反応を防ぐため雨水や湧水等に対するシート養生が必要",null,"・対象土の温度が氷点下以下の時は施工不可　・現場での搬入及び保管は、化学反応を防ぐため雨水や湧水等に対するシート養生が必要",null,"・対象土の温度が氷点下以下の時は施工不可　・現場での搬入及び保管は、化学反応を防ぐため雨水や湧水等に対するシート養生が必要",null,"・対象土の温度が氷点下以下の時は施工不可　・現場での搬入及び保管は、化学反応を防ぐため雨水や湧水等に対するシート養生が必要",null,"施工機械の作業スペースとして約10m×10m程度が必要",null,"施工機械の作業スペースとして約10m×10m程度が必要",null,"・混合する重機や改良機を準備する事 ・改良稼働等の活動スペースがある事",null,"・混合する重機や改良機を準備する事 ・改良稼働等の活動スペースがある事",null,"材料を仮置きする場合は、直射日光による紫外線や水の影響を受けないようパレットによるかさ上げとブルーシートによる保護を行う。また、積み上げは2段以下とする。",null,"材料を仮置きする場合は、直射日光による紫外線や水の影響を受けないようパレットによるかさ上げとブルーシートによる保護を行う。また、積み上げは2段以下とする。",null,"ミキサーやバックホウ等の混合機が稼働できる作業スペース100m2程度",null,"ミキサーやバックホウ等の混合機が稼働できる作業スペース100m2程度",null,"ミキサーやバックホウ等の混合機が稼働できる作業スペース100m2程度",null,"-",null,"-",null,"【雨天、強風、積雪時の施工は不可】",null,"【雨天、強風、積雪時の施工は不可】",null,"【雨天、強風、積雪時の施工は不可】",null,"【雨天、強風、積雪時の施工は不可】",null,"【雨天、強風、積雪時の施工は不可】",null,"・自走式改良機による作業ヤードは、25m×40m＝1000m2以上を必要とする。",null,"・自走式改良機による作業ヤードは、25m×40m＝1000m2以上を必要とする。",null,"・自走式改良機による作業ヤードは、25m×40m＝1000m2以上を必要とする。",null,"・自走式改良機による作業ヤードは、25m×40m＝1000m2以上を必要とする。",null,"-",null,"-",null,"-",null,"-",null,"-",null,"-",null,"-",null,"-",null,"-",null,"-",null,"-",null,"安定処理1,000㎥（コーン指数200～400kN/m²未満）で、アッシュベリー1袋/ｔを平積みする場合、ストックヤードは約24㎡（8m×3m）必要。",null,"安定処理1,000㎥（コーン指数200～400kN/m²未満）で、アッシュベリー1袋/ｔを平積みする場合、ストックヤードは約24㎡（8m×3m）必要。",null,"安定処理1,000㎥（コーン指数200～400kN/m²未満）で、アッシュベリー1袋/ｔを平積みする場合、ストックヤードは約24㎡（8m×3m）必要。",null,"安定処理1,000㎥（コーン指数200～400kN/m²未満）で、アッシュベリー1袋/ｔを平積みする場合、ストックヤードは約24㎡（8m×3m）必要。"]
[null,"⑨","比較する従来技術",null,null,"入替え工法(発生土場外処分・良質土購入)",null,"入替え工法(発生土場外処分・良質土購入)",null,"入れ替え工法（不良土処分・良質土購入）",null,"入れ替え工法（不良土処分・良質土購入）",null,"入れ替え工法（不良土処分・良質土購入）",null,"安定処理工(バックホウ混合)",null,"建設汚泥を中間処理して最終処分し、新材(砂)購入",null,"\t安定処理工（自走式土質改良工）",null,"\t安定処理工（自走式土質改良工）",null,"\tプラントによる土質改良+人による施工管理",null,"\tプラントによる土質改良+人による施工管理",null,"残土処分(残土処理)及び盛土材料の購入",null,"残土処分(残土処理)及び盛土材料の購入",null,"生石灰",null,"生石灰",null,"生石灰",null,"生石灰",null,"浚渫土単独による造成",null,"浚渫土単独による造成",null,"セメント系固化材による安定処理工",null,"セメント系固化材による安定処理工",null,"セメント系固化材による安定処理工",null,"セメント系固化材による安定処理工",null,"建設廃棄物処理・処分",null,"建設廃棄物処理・処分",null,"建設廃棄物処理・処分",null,"建設廃棄物処理・処分",null,"生石灰安定処理工法",null,"生石灰安定処理工法",null,"生石灰安定処理工法",null,"生石灰安定処理工法",null,"残土処理工(生石灰系改良材)",null,"残土処理工(生石灰系改良材)",null,"残土処理工(生石灰系改良材)",null,"残土処理工(生石灰系改良材)",null,"生石灰による残土処理",null,"生石灰による残土処理",null,"生石灰による残土処理",null,"生石灰による残土処理",null,"生石灰",null,"生石灰",null,"生石灰",null,"生石灰",null,"汚染土壌の置き換えと廃棄処分",null,"汚染土壌の置き換えと廃棄処分",null,"掘削除去法",null,"掘削除去法",null,"汚染土壌処理施設や最終処分場への廃棄処分",null,"汚染土壌処理施設や最終処分場への廃棄処分",null,"汚染土壌処理施設や最終処分場への廃棄処分",null,"汚染土壌処理施設や最終処分場への廃棄処分",null,"汚染土壌処理施設や最終処分場への廃棄処分",null,"汚染土壌処理施設や最終処分場への廃棄処分",null,"購入土等への置き換え",null,"購入土等への置き換え",null,"生石灰による土質改良と覆土",null,"生石灰による土質改良と覆土",null,"生石灰による土質改良と覆土",null,"生石灰による土質改良と覆土",null,"汚染土壌掘削除去および最終処分場への運搬",null,"汚染土壌掘削除去および最終処分場への運搬",null,"汚染土壌掘削除去および最終処分場への運搬",null,"汚染土壌掘削除去および最終処分場への運搬",null,"セメント系固化材",null,"セメント系固化材",null,"・高含水泥土にセメントを加え、雨などで濡れないように対策した上で第4種建設発生土（コーン指数200kN/m2以上）の強度を発現するまでに7日ほど養生して対応していた。",null,"・高含水泥土にセメントを加え、雨などで濡れないように対策した上で第4種建設発生土（コーン指数200kN/m2以上）の強度を発現するまでに7日ほど養生して対応していた。",null,"・高含水泥土にセメントを加え、雨などで濡れないように対策した上で第4種建設発生土（コーン指数200kN/m2以上）の強度を発現するまでに7日ほど養生して対応していた。",null,"天日干しによる粒状固化処理",null,"天日干しによる粒状固化処理",null,"・生石灰",null,"・生石灰",null,"・生石灰",null,"・生石灰",null,"・生石灰",null,"生石灰による土質改良と覆土",null,"生石灰による土質改良と覆土",null,"生石灰による土質改良と覆土",null,"生石灰による土質改良と覆土",null,"生石灰による土砂改良",null,"生石灰による土砂改良",null,"生石灰による土砂改良",null,"生石灰による土砂改良",null,"生石灰による土砂改良",null,"生石灰による土砂改良",null,"通常のセメント系固化材",null,"通常のセメント系固化材",null,"通常のセメント系固化材",null,"通常のセメント系固化材",null,"通常のセメント系固化材",null,"通常のセメント系固化材",null,"通常のセメント系固化材",null,"通常のセメント系固化材",null,"通常のセメント系固化材"]
["評価情報 ","⑩","評価基準",null,null,"最新の活用効果評価結果,所見",null,"最新の活用効果評価結果,所見",null,"最新の活用効果評価結果,所見",null,"最新の活用効果評価結果,所見",null,"最新の活用効果評価結果,所見",null,"最新の活用効果評価結果,所見",null,"最新の活用効果評価結果,所見",null,"最新の活用効果評価結果,所見",null,"最新の活用効果評価結果,所見",null,"最新の活用効果評価結果,所見",null,"最新の活用効果評価結果,所見",null,"最新の活用効果評価結果,所見",null,"最新の活用効果評価結果,所見",null,"最新の活用効果評価結果,所見",null,"最新の活用効果評価結果,所見",null,"最新の活用効果評価結果,所見",null,"最新の活用効果評価結果,所見",null,"最新の活用効果評価結果,所見",null,"最新の活用効果評価結果,所見",null,"最新の活用効果評価結果,所見",null,"最新の活用効果評価結果,所見",null,"最新の活用効果評価結果,所見",null,"最新の活用効果評価結果,所見",null,"最新の活用効果評価結果,所見",null,"最新の活用効果評価結果,所見",null,"最新の活用効果評価結果,所見",null,"最新の活用効果評価結果,所見",null,"最新の活用効果評価結果,所見",null,"最新の活用効果評価結果,所見",null,"最新の活用効果評価結果,所見",null,"最新の活用効果評価結果,所見",null,"最新の活用効果評価結果,所見",null,"最新の活用効果評価結果,所見",null,"最新の活用効果評価結果,所見",null,"最新の活用効果評価結果,所見",null,"最新の活用効果評価結果,所見",null,"最新の活用効果評価結果,所見",null,"最新の活用効果評価結果,所見",null,"最新の活用効果評価結果,所見",null,"最新の活用効果評価結果,所見",null,"最新の活用効果評価結果,所見",null,"最新の活用効果評価結果,所見",null,"最新の活用効果評価結果,所見",null,"最新の活用効果評価結果,所見",null,"最新の活用効果評価結果,所見",null,"最新の活用効果評価結果,所見",null,"最新の活用効果評価結果,所見",null,"最新の活用効果評価結果,所見",null,"最新の活用効果評価結果,所見",null,"最新の活用効果評価結果,所見",null,"最新の活用効果評価結果,所見",null,"最新の活用効果評価結果,所見",null,"最新の活用効果評価結果,所見",null,"最新の活用効果評価結果,所見",null,"最新の活用効果評価結果,所見",null,"最新の活用効果評価結果,所見",null,"最新の活用効果評価結果,所見",null,"最新の活用効果評価結果,所見",null,"最新の活用効果評価結果,所見",null,"最新の活用効果評価結果,所見",null,"最新の活用効果評価結果,所見",null,"最新の活用効果評価結果,所見",null,"最新の活用効果評価結果,所見",null,"最新の活用効果評価結果,所見",null,"最新の活用効果評価結果,所見",null,"最新の活用効果評価結果,所見",null,"最新の活用効果評価結果,所見",null,"最新の活用効果評価結果,所見",null,"最新の活用効果評価結果,所見",null,"最新の活用効果評価結果,所見",null,"最新の活用効果評価結果,所見",null,"最新の活用効果評価結果,所見",null,"最新の活用効果評価結果,所見",null,"最新の活用効果評価結果,所見",null,"最新の活用効果評価結果,所見",null,"最新の活用効果評価結果,所見",null,"最新の活用効果評価結果,所見",null,"最新の活用効果評価結果,所見",null,"最新の活用効果評価結果,所見",null,"最新の活用効果評価結果,所見",null,"最新の活用効果評価結果,所見",null,"最新の活用効果評価結果,所見",null,"最新の活用効果評価結果,所見",null,"最新の活用効果評価結果,所見",null,"最新の活用効果評価結果,所見",null,"最新の活用効果評価結果,所見",null,"最新の活用効果評価結果,所見",null,"最新の活用効果評価結果,所見",null,"最新の活用効果評価結果,所見",null,"最新の活用効果評価結果,所見",null,"最新の活用効果評価結果,所見",null,"最新の活用効果評価結果,所見",null,"最新の活用効果評価結果,所見",null,"最新の活用効果評価結果,所見"]
[null,null,"・A：従来技術より極めて優れる\n・B：従来技術より優れる\n・C：従来技術と同等\n・D：従来技術より劣る",null,"経済性","B：・不要な土砂の処分費や良質土の購入費が抑えられ、経済性が向上する。",null,"B：・不要な土砂の処分費や良質土の購入費が抑えられ、経済性が向上する。",null,"B：所見：不良土の処分及び良質土の購入にかかる費用が削減され、経済性が向上した。",null,"B：所見：不良土の処分及び良質土の購入にかかる費用が削減され、経済性が向上した。",null,"B：所見：不良土の処分及び良質土の購入にかかる費用が削減され、経済性が向上した。",null,"C：                                                             -",null,"B：留意事項：使用する固化材量の占める割合が多い為土の性状によってはコスト増になる場合もある事から、泥土の性状を精度良く把握することが重要。",null,"-",null,"-",null,"B：原位置にて粒度改良ができ、合理的な築堤材料の製造工程が可能となるため、経済性が向上する。",null,"B：原位置にて粒度改良ができ、合理的な築堤材料の製造工程が可能となるため、経済性が向上する。",null,"-",null,"-",null,"B：・材料単価が安いため、経済性が向上する。",null,"B：・材料単価が安いため、経済性が向上する。",null,"B：・材料単価が安いため、経済性が向上する。",null,"B：・材料単価が安いため、経済性が向上する。",null,"C：-",null,"C：-",null,"B：所見：少量の配合で土質改良効果が得られる為、材料コストが低減できる。",null,"B：所見：少量の配合で土質改良効果が得られる為、材料コストが低減できる。",null,"B：所見：少量の配合で土質改良効果が得られる為、材料コストが低減できる。",null,"B：所見：少量の配合で土質改良効果が得られる為、材料コストが低減できる。",null,"B：・原位置で建設汚泥を再利用できるため運搬費が削減できる。",null,"B：・原位置で建設汚泥を再利用できるため運搬費が削減できる。",null,"B：・原位置で建設汚泥を再利用できるため運搬費が削減できる。",null,"B：・原位置で建設汚泥を再利用できるため運搬費が削減できる。",null,"C：                                                             -",null,"C：                                                             -",null,"C：                                                             -",null,"C：                                                             -",null,"C：所見：生石灰改良材に比べ経済的。\n留意事項：大量に泥土を処理する場合、FTマッドキラーの供給量の確認が必要。",null,"C：所見：生石灰改良材に比べ経済的。\n留意事項：大量に泥土を処理する場合、FTマッドキラーの供給量の確認が必要。",null,"C：所見：生石灰改良材に比べ経済的。\n留意事項：大量に泥土を処理する場合、FTマッドキラーの供給量の確認が必要。",null,"C：所見：生石灰改良材に比べ経済的。\n留意事項：大量に泥土を処理する場合、FTマッドキラーの供給量の確認が必要。",null,"-",null,"-",null,"-",null,"-",null,"-",null,"-",null,"-",null,"-",null,"-",null,"-",null,"-",null,"-",null,"-",null,"-",null,"-",null,"-",null,"-",null,"-",null,"-",null,"-",null,"-",null,"-",null,"-",null,"-",null,"-",null,"-",null,"-",null,"-",null,"-",null,"-",null,"-",null,"-",null,"-",null,"-",null,"-",null,"-",null,"-",null,"-",null,"-",null,"-",null,"-",null,"-",null,"-",null,"-",null,"-",null,"-",null,"-",null,"-",null,"-",null,"-",null,"-",null,"-",null,"-",null,"-",null,"-",null,"-",null,"-",null,"-",null,"-"]
[null,null,null,null,"工程","C：-",null,"C：-",null,"C：                                                             -",null,"C：                                                             -",null,"C：                                                             -",null,"B：所見：従来工法より施工能力が高く、施工管理を一貫して行える事から工程短縮となる。",null,"C：                                                             -",null,"-",null,"-",null,"B：原位置にて粒度改良ができ、合理的な築堤材料の製造工程が可能となるため、工程が短縮する。",null,"B：原位置にて粒度改良ができ、合理的な築堤材料の製造工程が可能となるため、工程が短縮する。",null,"-",null,"-",null,"B：・改良体pH値の中性化までの期間が短いため、施工日数が短縮できる。",null,"B：・改良体pH値の中性化までの期間が短いため、施工日数が短縮できる。",null,"B：・改良体pH値の中性化までの期間が短いため、施工日数が短縮できる。",null,"B：・改良体pH値の中性化までの期間が短いため、施工日数が短縮できる。",null,"B：・吸出し防止材の敷設などの工事が無くなり、土砂投入後すぐに安定するため、施工日数が短縮される。",null,"B：・吸出し防止材の敷設などの工事が無くなり、土砂投入後すぐに安定するため、施工日数が短縮される。",null,"C：                                                             -",null,"C：                                                             -",null,"C：                                                             -",null,"C：                                                             -",null,"B：・中間処理施設までの運搬時間を削減できるため、施工日数が短縮される。",null,"B：・中間処理施設までの運搬時間を削減できるため、施工日数が短縮される。",null,"B：・中間処理施設までの運搬時間を削減できるため、施工日数が短縮される。",null,"B：・中間処理施設までの運搬時間を削減できるため、施工日数が短縮される。",null,"B：所見：早期強度が得られ、工程短縮が図られる。",null,"B：所見：早期強度が得られ、工程短縮が図られる。",null,"B：所見：早期強度が得られ、工程短縮が図られる。",null,"B：所見：早期強度が得られ、工程短縮が図られる。",null,"B：所見：生石灰は固結に4日要したが、本技術は即時に固結し、工程の短縮が出来る。",null,"B：所見：生石灰は固結に4日要したが、本技術は即時に固結し、工程の短縮が出来る。",null,"B：所見：生石灰は固結に4日要したが、本技術は即時に固結し、工程の短縮が出来る。",null,"B：所見：生石灰は固結に4日要したが、本技術は即時に固結し、工程の短縮が出来る。",null,"-",null,"-",null,"-",null,"-",null,"-",null,"-",null,"-",null,"-",null,"-",null,"-",null,"-",null,"-",null,"-",null,"-",null,"-",null,"-",null,"-",null,"-",null,"-",null,"-",null,"-",null,"-",null,"-",null,"-",null,"-",null,"-",null,"-",null,"-",null,"-",null,"-",null,"-",null,"-",null,"-",null,"-",null,"-",null,"-",null,"-",null,"-",null,"-",null,"-",null,"-",null,"-",null,"-",null,"-",null,"-",null,"-",null,"-",null,"-",null,"-",null,"-",null,"-",null,"-",null,"-",null,"-",null,"-",null,"-",null,"-",null,"-",null,"-"]
[null,null,null,null,"品質・出来形","B：・均質に混合された最適な盛土材ができるため、安定した品質が確保できる。",null,"B：・均質に混合された最適な盛土材ができるため、安定した品質が確保できる。",null,"B：所見：自動制御システムによって均一な品質の材料を安定的に製造できた。",null,"B：所見：自動制御システムによって均一な品質の材料を安定的に製造できた。",null,"B：所見：自動制御システムによって均一な品質の材料を安定的に製造できた。",null,"B：所見：オペレータの熟練度に依存することなく均一な混合が出来ることから品質向上となる。",null,"B：所見：改良後の強度発現から、再泥化もなく耐久性向上が確認できた。\n留意事項：改良土の品質確保において、泥土の均質化、異物の分級作業が重要である。",null,"-",null,"-",null,"B：オペレーターがモニター画面にてリアルタイムに混合厚さを確認でき、施工完了範囲が明確になり、出来形・精度が向上するため、品質が向上する。",null,"B：オペレーターがモニター画面にてリアルタイムに混合厚さを確認でき、施工完了範囲が明確になり、出来形・精度が向上するため、品質が向上する。",null,"-",null,"-",null,"C：-",null,"C：-",null,"C：-",null,"C：-",null,"B：・強度増進効果により流出防止になり、品質・出来形に優れる。",null,"B：・強度増進効果により流出防止になり、品質・出来形に優れる。",null,"C：                                                             -",null,"C：                                                             -",null,"C：                                                             -",null,"C：                                                             -",null,"B：・第３種～第２種建設発生土以上に改良でき、改良土は再掘削が可能となる。",null,"B：・第３種～第２種建設発生土以上に改良でき、改良土は再掘削が可能となる。",null,"B：・第３種～第２種建設発生土以上に改良でき、改良土は再掘削が可能となる。",null,"B：・第３種～第２種建設発生土以上に改良でき、改良土は再掘削が可能となる。",null,"B：                                                             -",null,"B：                                                             -",null,"B：                                                             -",null,"B：                                                             -",null,"C：所見：短時間で強度が確保できたほか、再掘削後も必要強度を確保。\n留意事項：原泥に含まれる木材や礫分の大きさによっては、事前に除去が必要。",null,"C：所見：短時間で強度が確保できたほか、再掘削後も必要強度を確保。\n留意事項：原泥に含まれる木材や礫分の大きさによっては、事前に除去が必要。",null,"C：所見：短時間で強度が確保できたほか、再掘削後も必要強度を確保。\n留意事項：原泥に含まれる木材や礫分の大きさによっては、事前に除去が必要。",null,"C：所見：短時間で強度が確保できたほか、再掘削後も必要強度を確保。\n留意事項：原泥に含まれる木材や礫分の大きさによっては、事前に除去が必要。",null,"-",null,"-",null,"-",null,"-",null,"-",null,"-",null,"-",null,"-",null,"-",null,"-",null,"-",null,"-",null,"-",null,"-",null,"-",null,"-",null,"-",null,"-",null,"-",null,"-",null,"-",null,"-",null,"-",null,"-",null,"-",null,"-",null,"-",null,"-",null,"-",null,"-",null,"-",null,"-",null,"-",null,"-",null,"-",null,"-",null,"-",null,"-",null,"-",null,"-",null,"-",null,"-",null,"-",null,"-",null,"-",null,"-",null,"-",null,"-",null,"-",null,"-",null,"-",null,"-",null,"-",null,"-",null,"-",null,"-",null,"-",null,"-",null,"-"]
[null,null,null,null,"安全性","C：-",null,"C：-",null,"C：                                                             -",null,"C：                                                             -",null,"C：                                                             -",null,"C：                                                             -",null,"B：所見：運転監理者は,重機等隔離された場所で従事できることから、安全性が向上。",null,"-",null,"-",null,"C：-",null,"C：-",null,"-",null,"-",null,"B：・生石灰に比べ発熱がないため、やけどの危険性がなくなる。",null,"B：・生石灰に比べ発熱がないため、やけどの危険性がなくなる。",null,"B：・生石灰に比べ発熱がないため、やけどの危険性がなくなる。",null,"B：・生石灰に比べ発熱がないため、やけどの危険性がなくなる。",null,"C：・カルシア改質材の混合作業により、重機使用工種が増加する。",null,"C：・カルシア改質材の混合作業により、重機使用工種が増加する。",null,"C：                                                             -",null,"C：                                                             -",null,"C：                                                             -",null,"C：                                                             -",null,"C：-",null,"C：-",null,"C：-",null,"C：-",null,"C：                                                             -",null,"C：                                                             -",null,"C：                                                             -",null,"C：                                                             -",null,"C：所見：化学反応が起こる材料等、危険物の取り扱いが無く安全性が向上。",null,"C：所見：化学反応が起こる材料等、危険物の取り扱いが無く安全性が向上。",null,"C：所見：化学反応が起こる材料等、危険物の取り扱いが無く安全性が向上。",null,"C：所見：化学反応が起こる材料等、危険物の取り扱いが無く安全性が向上。",null,"-",null,"-",null,"-",null,"-",null,"-",null,"-",null,"-",null,"-",null,"-",null,"-",null,"-",null,"-",null,"-",null,"-",null,"-",null,"-",null,"-",null,"-",null,"-",null,"-",null,"-",null,"-",null,"-",null,"-",null,"-",null,"-",null,"-",null,"-",null,"-",null,"-",null,"-",null,"-",null,"-",null,"-",null,"-",null,"-",null,"-",null,"-",null,"-",null,"-",null,"-",null,"-",null,"-",null,"-",null,"-",null,"-",null,"-",null,"-",null,"-",null,"-",null,"-",null,"-",null,"-",null,"-",null,"-",null,"-",null,"-",null,"-",null,"-"]
[null,null,null,null,"施工性","C： ・発生土の搬出及び良質土の搬入がないため、施工性が向上する。",null,"C： ・発生土の搬出及び良質土の搬入がないため、施工性が向上する。",null,"C：留意事項：規格外の転石などの撤去作業が必要である。",null,"C：留意事項：規格外の転石などの撤去作業が必要である。",null,"C：留意事項：規格外の転石などの撤去作業が必要である。",null,"B：所見：作業員の熟練度に依存せず、連続的な施工が可能で人力作業も減少できる事から、施工性の向上となる。",null,"B：所見：降雨時にも施工が可能で、常に安定した改良土の生成が可能であり、施工性は良好。\n留意事項：泥土のストックヤード、改良ヤード、改良土置き場を確保できる広いヤードが必要。",null,"-",null,"-",null,"B：原位置で混合ができ、施工軌跡がリアルタイムに確認できることで、手戻りの防止ができるため、施工性が向上する。",null,"B：原位置で混合ができ、施工軌跡がリアルタイムに確認できることで、手戻りの防止ができるため、施工性が向上する。",null,"-",null,"-",null,"C：-",null,"C：-",null,"C：-",null,"C：-",null,"C：・一般的な土木工事の機械を用いることが可能で、現場での施工条件等に柔軟に対応でき、施工性に優れる。",null,"C：・一般的な土木工事の機械を用いることが可能で、現場での施工条件等に柔軟に対応でき、施工性に優れる。",null,"C：                                                             -",null,"C：                                                             -",null,"C：                                                             -",null,"C：                                                             -",null,"C：-",null,"C：-",null,"C：-",null,"C：-",null,"C：                                                             -",null,"C：                                                             -",null,"C：                                                             -",null,"C：                                                             -",null,"B：所見：養生期間が必要なく、運搬までの時間が短縮できたことから施工性が向上。\n留意事項：現場保管には降雨等により濡れないような注意が必要。",null,"B：所見：養生期間が必要なく、運搬までの時間が短縮できたことから施工性が向上。\n留意事項：現場保管には降雨等により濡れないような注意が必要。",null,"B：所見：養生期間が必要なく、運搬までの時間が短縮できたことから施工性が向上。\n留意事項：現場保管には降雨等により濡れないような注意が必要。",null,"B：所見：養生期間が必要なく、運搬までの時間が短縮できたことから施工性が向上。\n留意事項：現場保管には降雨等により濡れないような注意が必要。",null,"-",null,"-",null,"-",null,"-",null,"-",null,"-",null,"-",null,"-",null,"-",null,"-",null,"-",null,"-",null,"-",null,"-",null,"-",null,"-",null,"-",null,"-",null,"-",null,"-",null,"-",null,"-",null,"-",null,"-",null,"-",null,"-",null,"-",null,"-",null,"-",null,"-",null,"-",null,"-",null,"-",null,"-",null,"-",null,"-",null,"-",null,"-",null,"-",null,"-",null,"-",null,"-",null,"-",null,"-",null,"-",null,"-",null,"-",null,"-",null,"-",null,"-",null,"-",null,"-",null,"-",null,"-",null,"-",null,"-",null,"-",null,"-",null,"-"]
[null,null,null,null,"環境","B：・分別された土砂を盛土材として再利用できるため、産業廃棄物の発生量が削減できる。",null,"B：・分別された土砂を盛土材として再利用できるため、産業廃棄物の発生量が削減できる。",null,"B：所見：従来、処分されていた土砂を有効に活用することができた。",null,"B：所見：従来、処分されていた土砂を有効に活用することができた。",null,"B：所見：従来、処分されていた土砂を有効に活用することができた。",null,"B：所見：固化材、粉塵の飛散が抑制されるため、作業環境と周辺環境への負荷が抑えられる。",null,"B：所見：浚渫土を材料として流用することからリサイクルの向上が図られる。また、泥土の搬出に伴う騒音・振動・粉塵の発生、燃料やCO2排出等の環境負荷が軽減できる。留意事項：改良直後には独特の臭気があるため、市街地内での施工には十分な検討が必要。",null,"-",null,"-",null,"C：-",null,"C：-",null,"-",null,"-",null,"B：・本材料は、低アルカリから中性域であるため、環境への影響がなくなる。",null,"B：・本材料は、低アルカリから中性域であるため、環境への影響がなくなる。",null,"B：・本材料は、低アルカリから中性域であるため、環境への影響がなくなる。",null,"B：・本材料は、低アルカリから中性域であるため、環境への影響がなくなる。",null,"B：・土砂投入時に濁り発生の抑制効果があり、環境に優れる。",null,"B：・土砂投入時に濁り発生の抑制効果があり、環境に優れる。",null,"B：所見：セメント系材料を含有していないため、六価クロム溶出の恐れがない。",null,"B：所見：セメント系材料を含有していないため、六価クロム溶出の恐れがない。",null,"B：所見：セメント系材料を含有していないため、六価クロム溶出の恐れがない。",null,"B：所見：セメント系材料を含有していないため、六価クロム溶出の恐れがない。",null,"B：・現場内再利用により、中間処理施設までの運搬車両運行の軽減が図れ、CO2削減が期待できる。",null,"B：・現場内再利用により、中間処理施設までの運搬車両運行の軽減が図れ、CO2削減が期待できる。",null,"B：・現場内再利用により、中間処理施設までの運搬車両運行の軽減が図れ、CO2削減が期待できる。",null,"B：・現場内再利用により、中間処理施設までの運搬車両運行の軽減が図れ、CO2削減が期待できる。",null,"B：所見：古紙を利用し、建設汚泥を再利用するため廃棄物を抑制できる。\n留意事項：粉砕古紙から粉塵が発生する場合があるので、飛散防止処置が必要。",null,"B：所見：古紙を利用し、建設汚泥を再利用するため廃棄物を抑制できる。\n留意事項：粉砕古紙から粉塵が発生する場合があるので、飛散防止処置が必要。",null,"B：所見：古紙を利用し、建設汚泥を再利用するため廃棄物を抑制できる。\n留意事項：粉砕古紙から粉塵が発生する場合があるので、飛散防止処置が必要。",null,"B：所見：古紙を利用し、建設汚泥を再利用するため廃棄物を抑制できる。\n留意事項：粉砕古紙から粉塵が発生する場合があるので、飛散防止処置が必要。",null,"B：所見：化学的改良ではない為、化学汚染（六価クロムやpH）の心配がない。石灰、セメントより粉塵が少ない。",null,"B：所見：化学的改良ではない為、化学汚染（六価クロムやpH）の心配がない。石灰、セメントより粉塵が少ない。",null,"B：所見：化学的改良ではない為、化学汚染（六価クロムやpH）の心配がない。石灰、セメントより粉塵が少ない。",null,"B：所見：化学的改良ではない為、化学汚染（六価クロムやpH）の心配がない。石灰、セメントより粉塵が少ない。",null,"-",null,"-",null,"-",null,"-",null,"-",null,"-",null,"-",null,"-",null,"-",null,"-",null,"-",null,"-",null,"-",null,"-",null,"-",null,"-",null,"-",null,"-",null,"-",null,"-",null,"-",null,"-",null,"-",null,"-",null,"-",null,"-",null,"-",null,"-",null,"-",null,"-",null,"-",null,"-",null,"-",null,"-",null,"-",null,"-",null,"-",null,"-",null,"-",null,"-",null,"-",null,"-",null,"-",null,"-",null,"-",null,"-",null,"-",null,"-",null,"-",null,"-",null,"-",null,"-",null,"-",null,"-",null,"-",null,"-",null,"-",null,"-",null,"-"]
[null,null,null,null,"総合評価","B：留意事項：小規模の施工の場合は、経済性に劣る場合がある。",null,"B：留意事項：小規模の施工の場合は、経済性に劣る場合がある。",null,"B：                                                             -",null,"B：                                                             -",null,"B：                                                             -",null,"B：                                                             -",null,"B：留意事項：使用する固化材によっては改良土のpHが高くなる場合があることから、pHの高い改良土を使用する際には、建設汚泥再生利用マニュアルに基づき、覆土、敷土等によるアルカリ流出対策が必要である。",null,"-",null,"-",null,"B：-",null,"B：-",null,"-",null,"-",null,"B：-",null,"B：-",null,"B：-",null,"B：-",null,"B：・品質確保のための配合管理が必要",null,"B：・品質確保のための配合管理が必要",null,"C：                                                             -",null,"C：                                                             -",null,"C：                                                             -",null,"C：                                                             -",null,"B：留意事項：施工ヤード（改良作業及びストック場所）の確保が必要となる。",null,"B：留意事項：施工ヤード（改良作業及びストック場所）の確保が必要となる。",null,"B：留意事項：施工ヤード（改良作業及びストック場所）の確保が必要となる。",null,"B：留意事項：施工ヤード（改良作業及びストック場所）の確保が必要となる。",null,"C：                                                             -",null,"C：                                                             -",null,"C：                                                             -",null,"C：                                                             -",null,"C：留意事項：固化材の添加量によっては改良土のpHが高くなる場合がある為、pHの確認が必要。また、改良土のpHが高い場合には、利用の際「建設汚泥再生マニュアル」に基づく対策が必要。",null,"C：留意事項：固化材の添加量によっては改良土のpHが高くなる場合がある為、pHの確認が必要。また、改良土のpHが高い場合には、利用の際「建設汚泥再生マニュアル」に基づく対策が必要。",null,"C：留意事項：固化材の添加量によっては改良土のpHが高くなる場合がある為、pHの確認が必要。また、改良土のpHが高い場合には、利用の際「建設汚泥再生マニュアル」に基づく対策が必要。",null,"C：留意事項：固化材の添加量によっては改良土のpHが高くなる場合がある為、pHの確認が必要。また、改良土のpHが高い場合には、利用の際「建設汚泥再生マニュアル」に基づく対策が必要。",null,"-",null,"-",null,"-",null,"-",null,"-",null,"-",null,"-",null,"-",null,"-",null,"-",null,"-",null,"-",null,"-",null,"-",null,"-",null,"-",null,"-",null,"-",null,"-",null,"-",null,"-",null,"-",null,"-",null,"-",null,"-",null,"-",null,"-",null,"-",null,"-",null,"-",null,"-",null,"-",null,"-",null,"-",null,"-",null,"-",null,"-",null,"-",null,"-",null,"-",null,"-",null,"-",null,"-",null,"-",null,"-",null,"-",null,"-",null,"-",null,"-",null,"-",null,"-",null,"-",null,"-",null,"-",null,"-",null,"-",null,"-",null,"-",null,"-"]
["統一した従来技術",null,null,null,null,"自走式土質改良工",null,"自走式土質改良工",null,"自走式土質改良工",null,"自走式土質改良工",null,"自走式土質改良工",null,"自走式土質改良工",null,"自走式土質改良工",null,"自走式土質改良工",null,"自走式土質改良工",null,"自走式土質改良工",null,"自走式土質改良工",null,"／",null,"／",null,"セメント系固化材（一般軟弱土用）による第4種建設発生土の地盤改良",null,"セメント系固化材（一般軟弱土用）による泥土の地盤改良",null,"石灰系固化材（生石灰）による第4種建設発生土の地盤改良",null,"石灰系固化材（生石灰）による泥土の地盤改良",null,"セメント系固化材（一般軟弱土用）による泥土の地盤改良",null,"石灰系固化材（生石灰）による泥土の地盤改良",null,"セメント系固化材（一般軟弱土用）による第4種建設発生土の地盤改良",null,"セメント系固化材（一般軟弱土用）による泥土の地盤改良",null,"石灰系固化材（生石灰）による第4種建設発生土の地盤改良",null,"石灰系固化材（生石灰）による泥土の地盤改良",null,"セメント系固化材（一般軟弱土用）による第4種建設発生土の地盤改良",null,"セメント系固化材（一般軟弱土用）による泥土の地盤改良",null,"石灰系固化材（生石灰）による第4種建設発生土の地盤改良",null,"石灰系固化材（生石灰）による泥土の地盤改良",null,"セメント系固化材（一般軟弱土用）による第4種建設発生土の地盤改良",null,"セメント系固化材（一般軟弱土用）による泥土の地盤改良",null,"石灰系固化材（生石灰）による第4種建設発生土の地盤改良",null,"石灰系固化材（生石灰）による泥土の地盤改良",null,"セメント系固化材（一般軟弱土用）による第4種建設発生土の地盤改良",null,"セメント系固化材（一般軟弱土用）による泥土の地盤改良",null,"石灰系固化材（生石灰）による第4種建設発生土の地盤改良",null,"石灰系固化材（生石灰）による泥土の地盤改良",null,"セメント系固化材（一般軟弱土用）による第4種建設発生土の地盤改良",null,"セメント系固化材（一般軟弱土用）による泥土の地盤改良",null,"石灰系固化材（生石灰）による第4種建設発生土の地盤改良",null,"石灰系固化材（生石灰）による泥土の地盤改良",null,"セメント系固化材（一般軟弱土用）による第4種建設発生土の地盤改良",null,"セメント系固化材（一般軟弱土用）による泥土の地盤改良",null,"石灰系固化材（生石灰）による第4種建設発生土の地盤改良",null,"石灰系固化材（生石灰）による泥土の地盤改良",null,"セメント系固化材（六価クロム対応型）による特殊土の地盤改良",null,"セメント系固化材（六価クロム対応型）による特殊土の地盤改良",null,"セメント系固化材（六価クロム対応型）による特殊土の地盤改良",null,"セメント系固化材（六価クロム対応型）による特殊土の地盤改良",null,"セメント系固化材（一般軟弱土用）による第4種建設発生土の地盤改良",null,"セメント系固化材（一般軟弱土用）による泥土の地盤改良",null,"石灰系固化材（生石灰）による第4種建設発生土の地盤改良",null,"石灰系固化材（生石灰）による泥土の地盤改良",null,"セメント系固化材（六価クロム対応型）による特殊土の地盤改良",null,"セメント系固化材（六価クロム対応型）による特殊土の地盤改良",null,"セメント系固化材（六価クロム対応型）による特殊土の地盤改良",null,"セメント系固化材（六価クロム対応型）による特殊土の地盤改良",null,"セメント系固化材（一般軟弱土用）による第4種建設発生土の地盤改良",null,"セメント系固化材（一般軟弱土用）による泥土の地盤改良",null,"石灰系固化材（生石灰）による第4種建設発生土の地盤改良",null,"石灰系固化材（生石灰）による泥土の地盤改良",null,"セメント系固化材（六価クロム対応型）による特殊土の地盤改良",null,"セメント系固化材（六価クロム対応型）による特殊土の地盤改良",null,"セメント系固化材（六価クロム対応型）による特殊土の地盤改良",null,"セメント系固化材（六価クロム対応型）による特殊土の地盤改良",null,"セメント系固化材（一般軟弱土用）による第4種建設発生土の地盤改良",null,"セメント系固化材（一般軟弱土用）による泥土の地盤改良",null,"セメント系固化材（一般軟弱土用）による第4種建設発生土の地盤改良",null,"セメント系固化材（一般軟弱土用）による泥土の地盤改良",null,"セメント系固化材（六価クロム対応型）による特殊土の地盤改良",null,"セメント系固化材（一般軟弱土用）による第4種建設発生土の地盤改良",null,"セメント系固化材（一般軟弱土用）による泥土の地盤改良",null,"セメント系固化材（一般軟弱土用）による第4種建設発生土の地盤改良",null,"セメント系固化材（一般軟弱土用）による泥土の地盤改良",null,"セメント系固化材（六価クロム対応型）による特殊土の地盤改良",null,"石灰系固化材（生石灰）による第4種建設発生土の地盤改良",null,"石灰系固化材（生石灰）による泥土の地盤改良",null,"セメント系固化材（一般軟弱土用）による第4種建設発生土の地盤改良",null,"セメント系固化材（一般軟弱土用）による泥土の地盤改良",null,"石灰系固化材（生石灰）による第4種建設発生土の地盤改良",null,"石灰系固化材（生石灰）による泥土の地盤改良",null,"-",null,"-",null,"-",null,"-",null,"-",null,"-",null,"-",null,"-",null,"-",null,"-",null,"-",null,"-",null,"-",null,"-",null,"-"]
["補完資料等からの情報","⑪","工法の特徴",null,null,"本工法は、鋼製の円筒内で高速回転するフレキシブルなチェーンの打撃力で、地盤材料の解きほぐしと添加材料との均質な混合を同時に行うことができる地盤改良技術である。粒径200mmの軟岩から自然含水比138%の高含水比粘性土まで対応している。",null,"本工法は、鋼製の円筒内で高速回転するフレキシブルなチェーンの打撃力で、地盤材料の解きほぐしと添加材料との均質な混合を同時に行うことができる地盤改良技術である。粒径200mmの軟岩から自然含水比138%の高含水比粘性土まで対応 している。",null,"低品質な建設発生土に対し、異なる土質性状の建設発生土を組み合わせ撹拌混合することにより、「粒度改善」と「強度改善」し、良質な土材料に改良する。添加材の同時投入も可能。〔物理的処理・化学的処理の双方が可能〕",null,"低品質な建設発生土に対し、異なる土質性状の建設発生土を組み合わせ撹拌混合することにより、「粒度改善」と「強度改善」し、良質な土材料に改良する。添加材の同時投入も可能。〔物理的処理・化学的処理の双方が可能〕",null,"低品質な建設発生土に対し、異なる土質性状の建設発生土を組み合わせ撹拌混合することにより、「粒度改善」と「強度改善」し、良質な土材料に改良する。添加材の同時投入も可能。〔物理的処理・化学的処理の双方が可能〕",null,"事前調査による現場条件の把握、現場条件と配合設計、自走式土質改良機による固化材混合、改良土を用いた土工事の施工管理を一貫して行う技術。日毎の土の含水率変化に対応した配合試験、キャリブレーションによる固化材添加量で改良するため、品質のバラツキが少ない。また、大きな含水率変化にも追従可能である。",null,"安定処理技術に位置付けられるイーキューブシステム®は、高分子凝集剤と固化材を泥土の流動程度に応じて添加し、約30秒程度の攪拌・混合を連続的に処理することにより、粒状の地盤材料（路体・路床材、埋戻し材、堤体材料等）を生成する技術である。",null,"チェーンの打撃力で破砕と混合を同時に行う機構に変えたことにより、最大粒径200mmまで軟岩の破砕・粒度調整と固結粘性土の解砕ができる。",null,"チェーンの打撃力で破砕と混合を同時に行う機構に変えたことにより、最大粒径200mmまで軟岩の破砕・粒度調整と固結粘性土の解砕ができる。",null,"単独利用できない建設発生土と混合用土をGNSS施工管理システムを搭載したスタビライザによる粒度改良する事で発生土を活用した合理的な材料を製造する技術。",null,"単独利用できない建設発生土と混合用土をGNSS施工管理システムを搭載したスタビライザによる粒度改良する事で発生土を活用した合理的な材料を製造する技術。",null,"／",null,"／",null,"ペーパースラッジ焼却灰（PS灰）に補助薬剤を混合し加水乾燥処理した泥土改質材である。即時に改質可能。養生により強度が増加する。改質土は中性域となる。腐臭泥土の臭気低減効果がある。有機質土の改質が可能。",null,"ペーパースラッジ焼却灰（PS灰）に補助薬剤を混合し加水乾燥処理した泥土改質材である。即時に改質可能。養生により強度が増加する。改質土は中性域となる。腐臭泥土の臭気低減効果がある。有機質土の改質が可能。",null,"ペーパースラッジ焼却灰（PS灰）に補助薬剤を混合し加水乾燥処理した泥土改質材である。即時に改質可能。養生により強度が増加する。改質土は中性域となる。腐臭泥土の臭気低減効果がある。有機質土の改質が可能。",null,"ペーパースラッジ焼却灰（PS灰）に補助薬剤を混合し加水乾燥処理した泥土改質材である。即時に改質可能。養生により強度が増加する。改質土は中性域となる。腐臭泥土の臭気低減効果がある。有機質土の改質が可能。",null,"軟弱な浚渫土にカルシア改質材を混合することで、強度の発現、水中投入時の濁り抑制、リンや硫化物の溶出抑制といった特長を持つ。",null,"軟弱な浚渫土にカルシア改質材を混合することで、強度の発現、水中投入時の濁り抑制、リンや硫化物の溶出抑制といった特長を持つ。",null,"長期安定に加え短期安定効果を有し、処理直後からの強度発現により、改良後すぐに転圧が可能。繰り返し、固化反応をおこすため、改良土の再利用やストック後の再使用が可能。",null,"長期安定に加え短期安定効果を有し、処理直後からの強度発現により、改良後すぐに転圧が可能。繰り返し、固化反応をおこすため、改良土の再利用やストック後の再使用が可能。",null,"長期安定に加え短期安定効果を有し、処理直後からの強度発現により、改良後すぐに転圧が可能。繰り返し、固化反応をおこすため、改良土の再利用やストック後の再使用が可能。",null,"長期安定に加え短期安定効果を有し、処理直後からの強度発現により、改良後すぐに転圧が可能。繰り返し、固化反応をおこすため、改良土の再利用やストック後の再使用が可能。",null,"製品自体が土壌環境基準値（28項目）を遵守した安全な改良材であり、処理土は早期（4週～6週）にpH9以下の中性域となり、覆土の必要が無く直接緑化が可能。泥土中に含まれる自然由来重金属等も材料特性の効果も相まって不溶出化（軽減化）を実現する。",null,"製品自体が土壌環境基準値（28項目）を遵守した安全な改良材であり、処理土は早期（4週～6週）にpH9以下の中性域となり、覆土の必要が無く直接緑化が可能。泥土中に含まれる自然由来重金属等も材料特性の効果も相まって不溶出化（軽減化）を実現する。",null,"製品自体が土壌環境基準値（28項目）を遵守した安全な改良材であり、処理土は早期（4週～6週）にpH9以下の中性域となり、覆土の必要が無く直接緑化が可能。泥土中に含まれる自然由来重金属等も材料特性の効果も相まって不溶出化（軽減化）を実現する。",null,"製品自体が土壌環境基準値（28項目）を遵守した安全な改良材であり、処理土は早期（4週～6週）にpH9以下の中性域となり、覆土の必要が無く直接緑化が可能。泥土中に含まれる自然由来重金属等も材料特性の効果も相まって不溶出化（軽減化）を実現する。",null,"ボンテラン改良土は乾湿繰返しを受けても劣化せず、高い耐久性を有する。ボンテラン改良土は生石灰安定処理土と比べ、一軸圧縮試験における破壊ひずみが大きく、変形係数が小さく、靱性の向上が図れる。",null,"ボンテラン改良土は乾湿繰返しを受けても劣化せず、高い耐久性を有する。ボンテラン改良土は生石灰安定処理土と比べ、一軸圧縮試験における破壊ひずみが大きく、変形係数が小さく、靱性の向上が図れる。",null,"ボンテラン改良土は乾湿繰返しを受けても劣化せず、高い耐久性を有する。ボンテラン改良土は生石灰安定処理土と比べ、一軸圧縮試験における破壊ひずみが大きく、変形係数が小さく、靱性の向上が図れる。",null,"ボンテラン改良土は乾湿繰返しを受けても劣化せず、高い耐久性を有する。ボンテラン改良土は生石灰安定処理土と比べ、一軸圧縮試験における破壊ひずみが大きく、変形係数が小さく、靱性の向上が図れる。",null,"無機多孔質で吸水効果を主体とする物理的な改良であり、瞬時に改良可能。セメント系、石灰系固化材と比べて材料のpHが低く、周辺環境への影響が少ない。処理土は、再掘削してもくり返し利用可能。処理土に対して、追添加が可能で強度増加が図れる。",null,"無機多孔質で吸水効果を主体とする物理的な改良であり、瞬時に改良可能。セメント系、石灰系固化材と比べて材料のpHが低く、周辺環境への影響が少ない。処理土は、再掘削してもくり返し利用可能。処理土に対して、追添加が可能で強度増加が図れる。",null,"無機多孔質で吸水効果を主体とする物理的な改良であり、瞬時に改良可能。セメント系、石灰系固化材と比べて材料のpHが低く、周辺環境への影響が少ない。処理土は、再掘削してもくり返し利用可能。処理土に対して、追添加が可能で強度増加が図れる。",null,"無機多孔質で吸水効果を主体とする物理的な改良であり、瞬時に改良可能。セメント系、石灰系固化材と比べて材料のpHが低く、周辺環境への影響が少ない。処理土は、再掘削してもくり返し利用可能。処理土に対して、追添加が可能で強度増加が図れる。",null,"瞬時にコーン指数400～800kN/m2程度に地盤強度を改善し、その強度を維持することが可能。環境負荷が小さい中性系であり、処理後の土壌から発生する浸出水のアルカリ化等を防止することが可能。",null,"瞬時にコーン指数400～800kN/m2程度に地盤強度を改善し、その強度を維持することが可能。環境負荷が小さい中性系であり、処理後の土壌から発生する浸出水のアルカリ化等を防止することが可能。",null,"瞬時にコーン指数400～800kN/m2程度に地盤強度を改善し、その強度を維持することが可能。環境負荷が小さい中性系であり、処理後の土壌から発生する浸出水のアルカリ化等を防止することが可能。",null,"瞬時にコーン指数400～800kN/m2程度に地盤強度を改善し、その強度を維持することが可能。環境負荷が小さい中性系であり、処理後の土壌から発生する浸出水のアルカリ化等を防止することが可能。",null,"セーフティーソイルは中性の固化材であるため、現泥のpHが変化せず、植生を阻害することなく、環境・自然に無害なもので土壌環境基準に適合しリサイクルに適した土壌として再資源化が可能。",null,"セーフティーソイルは中性の固化材であるため、現泥のpHが変化せず、植生を阻害することなく、環境・自然に無害なもので土壌環境基準に適合しリサイクルに適した土壌として再資源化が可能。",null,"セーフティーソイルは中性の固化材であるため、現泥のpHが変化せず、植生を阻害することなく、環境・自然に無害なもので土壌環境基準に適合しリサイクルに適した土壌として再資源化が可能。",null,"セーフティーソイルは中性の固化材であるため、現泥のpHが変化せず、植生を阻害することなく、環境・自然に無害なもので土壌環境基準に適合しリサイクルに適した土壌として再資源化が可能。",null,"多種類の重金属類を吸着し、従来技術では困難だった物質(セレン、フッ素、ホウ素、六価クロム)の処理を可能にした。また、広いｐH範囲に有効であり、酸・アルカリ環境下でも吸着力を維持する。",null,"多種類の重金属類を吸着し、従来技術では困難だった物質(セレン、フッ素、ホウ素、六価クロム)の処理を可能にした。また、広いｐH範囲に有効であり、酸・アルカリ環境下でも吸着力を維持する。",null,"有害金属類（主に砒素、鉛）の吸着に適した吸着材であり、重金属を含んだ土壌を不溶化することで場内で盛土として再利用できる。また、水に溶けないため、雨天などの悪条件でも施工可能である。",null,"有害金属類の主に砒素、鉛の吸着に適した吸着材であり、重金属を含んだ土壌を不溶化することで場内で盛土として再利用できる。また、水に溶けないため、雨天などの悪条件でも施工可能である。",null,"カルシウム・マグネシウム・鉄分等を原料とする無機鉱物複合系であり、重金属の不溶化効果を持ちながら土木材料として有効利用するための強度改善、塑性改質効果を発揮する不溶化改質材である。",null,"カルシウム・マグネシウム・鉄分等を原料とする無機鉱物複合系であり、重金属の不溶化効果を持ちながら土木材料として有効利用するための強度改善、塑性改質効果を発揮する不溶化改質材である。",null,"カルシウム・マグネシウム・鉄分等を原料とする無機鉱物複合系であり、重金属の不溶化効果を持ちながら土木材料として有効利用するための強度改善、塑性改質効果を発揮する不溶化改質材である。",null,"カルシウム・マグネシウム・鉄分等を原料とする無機鉱物複合系であり、重金属の不溶化効果を持ちながら土木材料として有効利用するための強度改善、塑性改質効果を発揮する不溶化改質材である。",null,"カルシウム・マグネシウム・鉄分等を原料とする無機鉱物複合系であり、重金属の不溶化効果を持ちながら土木材料として有効利用するための強度改善、塑性改質効果を発揮する不溶化改質材である。",null,"カルシウム・マグネシウム・鉄分等を原料とする無機鉱物複合系であり、重金属の不溶化効果を持ちながら土木材料として有効利用するための強度改善、塑性改質効果を発揮する不溶化改質材である。",null,"購入土等への置き換えから、環境負担が少ないアロフェン・イモゴライトを主成分とする重金属不溶化材であり、盛土材等の再利用が可能となる。",null,"購入土等への置き換えから、環境負担が少ないアロフェン・イモゴライトを主成分とする重金属不溶化材であり、盛土材等の再利用が可能となる。",null,"軟弱な建設発生土・泥土・汚泥を再利用するための改良土のpHを中性域（pH5.0～pH9.0）に保つ中性改質剤であり、覆土が必要ない。\t",null,"軟弱な建設発生土・泥土・汚泥を再利用するための改良土のpHを中性域（pH5.0～pH9.0）に保つ中性改質剤であり、覆土が必要ない。\t",null,"軟弱な建設発生土・泥土・汚泥を再利用するための改良土のpHを中性域（pH5.0～pH9.0）に保つ中性改質剤であり、覆土が必要ない。\t",null,"軟弱な建設発生土・泥土・汚泥を再利用するための改良土のpHを中性域（pH5.0～pH9.0）に保つ中性改質剤であり、覆土が必要ない。\t",null,"セレンを含む複合汚染土への不溶化効果が得られるため、汚染土の不溶化工法により土壌の搬出・処分が不要となり処理費用の低減ができる。",null,"セレンを含む複合汚染土への不溶化効果が得られるため、汚染土の不溶化工法により土壌の搬出・処分が不要となり処理費用の低減ができる。",null,"不溶化剤自体に有害物質が含まれておらず、スラリー状な為汚染物質の飛散リスクを低減し、周辺環境への影響を抑制できる。",null,"不溶化剤自体に有害物質が含まれておらず、スラリー状な為汚染物質の飛散リスクを低減し、周辺環境への影響を抑制できる。",null,"防塵タイプで、即効性があり、且つ一定量の添加量を使うことで、バックホウなどのラフな混合でも均一に混ぜることが可能である。",null,"防塵タイプで、即効性があり、且つ一定量の添加量を使うことで、バックホウなどのラフな混合でも均一に混ぜることが可能である。",null,"セメントおよび石灰系材料不使用のため、早期強度発現のための養生期間が不要な即時改質剤",null,"セメントおよび石灰系材料不使用のため、早期強度発現のための養生期間が不要な即時改質剤",null,"セメントおよび石灰系材料不使用のため、早期強度発現のための養生期間が不要な即時改質剤",null,"中性固化材で六価クロムの問題もなく、環境を汚染させない土質改良材。",null,"中性固化材で六価クロムの問題もなく、環境を汚染させない土質改良材。",null,"軟弱土壌を早期に所定の強度に改良するとともに、中性域(pH5.8～8.6)の土壌に改質できる中性固化材",null,"軟弱土壌を早期に所定の強度に改良するとともに、中性域(pH5.8～8.6)の土壌に改質できる中性固化材",null,"軟弱土壌を早期に所定の強度に改良するとともに、中性域(pH5.8～8.6)の土壌に改質できる中性固化材",null,"軟弱土壌を早期に所定の強度に改良するとともに、中性域(pH5.8～8.6)の土壌に改質できる中性固化材",null,"軟弱土壌を早期に所定の強度に改良するとともに、中性域(pH5.8～8.6)の土壌に改質できる中性固化材",null,"ｐH調整剤が添加されており比較的低ｐH値での改良が可能。改良土は比較的早期に中性域となる。",null,"ｐH調整剤が添加されており比較的低ｐH値での改良が可能。改良土は比較的早期に中性域となる。",null,"ｐH調整剤が添加されており比較的低ｐH値での改良が可能。改良土は比較的早期に中性域となる。",null,"ｐH調整剤が添加されており比較的低ｐH値での改良が可能。改良土は比較的早期に中性域となる。",null,"-",null,"-",null,"-",null,"-",null,"-",null,"-",null,"-",null,"-",null,"-",null,"-",null,"-",null,"-",null,"-",null,"-",null,"-"]
[null,null,null,null,null,"従来技術","新技術","従来技術","新技術","従来技術","新技術","従来技術","新技術","従来技術","新技術","従来技術","新技術","従来技術","新技術","従来技術","新技術","従来技術","新技術","従来技術","新技術","従来技術","新技術","従来技術","新技術","従来技術","新技術","従来技術","新技術","従来技術","新技術","従来技術","新技術","従来技術","新技術","従来技術","新技術","従来技術","新技術","従来技術","新技術","従来技術","新技術","従来技術","新技術","従来技術","新技術","従来技術","新技術","従来技術","新技術","従来技術","新技術","従来技術","新技術","従来技術","新技術","従来技術","新技術","従来技術","新技術","従来技術","新技術","従来技術","新技術","従来技術","新技術","従来技術","新技術","従来技術","新技術","従来技術","新技術","従来技術","新技術","従来技術","新技術","従来技術","新技術","従来技術","新技術","従来技術","新技術","従来技術","新技術","従来技術","新技術","従来技術","新技術","従来技術","新技術","従来技術","新技術","従来技術","新技術","従来技術","新技術","従来技術","新技術","従来技術","新技術","従来技術","新技術","従来技術","新技術","従来技術","新技術","従来技術","新技術","従来技術","新技術","従来技術","新技術","従来技術","新技術","従来技術","新技術","従来技術","新技術","従来技術","新技術","従来技術","新技術","従来技術","新技術","従来技術","新技術","従来技術","新技術","従来技術","新技術","従来技術","新技術","従来技術","新技術","従来技術","新技術","従来技術","新技術","従来技術","新技術","従来技術","新技術","従来技術","新技術","従来技術","新技術","従来技術","新技術","従来技術","新技術","従来技術","新技術","従来技術","新技術","従来技術","新技術","従来技術","新技術","従来技術","新技術","従来技術","新技術","従来技術","新技術","従来技術","新技術","従来技術","新技術","従来技術","新技術","従来技術","新技術","従来技術","新技術","従来技術","新技術","従来技術","新技術","従来技術","新技術","従来技術","新技術","従来技術","新技術","従来技術","新技術","従来技術","新技術"]
[null,"⑫","固化材等",null,null,"良質土と混合","良質土混合","良質土と混合","良質土混合・固化材添加","良質土と混合","固化材添加","良質土と混合","良質土混合","良質土と混合","良質土混合・固化材添加","良質土と混合","固化材添加","良質土と混合","固化材添加","良質土と混合","良質土混合","良質土と混合","良質土混合・固化材添加","良質土と混合","良質土混合","良質土と混合","良質土混合","／","／","／","／","50kg/m3（養生7日、室内配合）","150kg/m3（養生1日、室内配合）","60kg/m3（養生7日、室内配合）","200kg/m3（養生3日、室内配合）","30kg/m3（室内配合）","150kg/m3（養生1日、室内配合）","50kg/m3（室内配合）","200kg/m3（養生3日、室内配合）","60kg/m3（養生7日、室内配合）","900kg/m3（混合率30容積％、一軸圧縮強度50～300kN/m2程度）","50kg/m3（室内配合）","900kg/m3（混合率30容積％、一軸圧縮強度50～300kN/m2程度）","50kg/m3（養生7日、室内配合）","30kg/m3（室内配合、発塵抑制型(LX)）","60kg/m3（養生7日、室内配合）","30kg/m3（室内配合、発塵抑制型(LX)）","30kg/m3（室内配合）","30kg/m3（養生日数10日、室内配合）","50kg/m3（室内配合）","30kg/m3（養生日数10日、室内配合）","50kg/m3（養生7日、室内配合）","未回答","60kg/m3（養生7日、室内配合）","未回答","30kg/m3（室内配合）","未回答","50kg/m3（室内配合）","未回答","50kg/m3（養生7日、室内配合）","固化材50kg/m3、ボンファイバー25ｋg/m3（養生7日、室内配合）","60kg/m3（養生7日、室内配合）","固化材50kg/m3、ボンファイバー25ｋg/m3（養生7日、室内配合）","30kg/m3（室内配合）","固化材50kg/m3、ボンファイバー25ｋg/m3（養生7日、室内配合）","50kg/m3（室内配合）","固化材50kg/m3、ボンファイバー25ｋg/m3（養生7日、室内配合）","50kg/m3（養生7日、室内配合）","60kg/m3（瞬時改良(0日)、室内配合）","60kg/m3（養生7日、室内配合）","150kg/m3（瞬時改良(0日)、室内配合）","30kg/m3（室内配合）","60kg/m3（瞬時改良(0日)、室内配合）","50kg/m3（室内配合）","150kg/m3（瞬時改良(0日)、室内配合）","50kg/m3（養生7日、室内配合）","15kg/m3（養生不要、室内配合）","60kg/m3（養生7日、室内配合）","45kg/m3（養生不要、室内配合）","30kg/m3（室内配合）","15kg/m3（養生不要、室内配合）","50kg/m3（室内配合）","45kg/m3（養生不要、室内配合）","50kg/m3（養生7日、室内配合）","未回答","60kg/m3（養生7日、室内配合）","未回答","30kg/m3（室内配合）","未回答","50kg/m3（室内配合）","未回答","100kg/m3（養生7日、室内配合）","1.8kg/m3（養生不要、室内配合）","100kg/m3（養生7日、室内配合）","1.8kg/m3（養生不要、室内配合）","100kg/m3（養生7日、室内配合）","未回答","100kg/m3（養生7日、室内配合）","未回答","50kg/m3（養生7日、室内配合）","30kg/m3（養生0.5日以上、室内配合）","60kg/m3（養生7日、室内配合）","80kg/m3（養生0.5日以上、室内配合）","30kg/m3（室内配合）","30kg/m3（養生0.5日以上、室内配合）","50kg/m3（室内配合）","80kg/m3（養生0.5日以上、室内配合）","100kg/m3（養生7日、室内配合）","60kg/m3（養生0.5日以上、室内配合）","100kg/m3（養生7日、室内配合）","30kg/m3（養生0.5日以上、室内配合）","100kg/m3（養生7日、室内配合）","50kg/m3（養生7日、室内配合）","100kg/m3（養生7日、室内配合）","30kg/m3（養生3日、室内配合）","50kg/m3（養生7日、室内配合）","30kg/m3（養生0.5日以上、室内配合）","60kg/m3（養生7日、室内配合）","60kg/m3（養生0.5日以上、室内配合）","30kg/m3（室内配合）","30kg/m3（養生0.5日以上、室内配合）","50kg/m3（室内配合）","60kg/m3（養生0.5日以上、室内配合）","100kg/m3（養生7日、室内配合）","50kg/m3（養生3日、室内配合）","100kg/m3（養生7日、室内配合）","50kg/m3（養生3日、室内配合）","100kg/m3（養生7日、室内配合）","5kg/m3（養生0日、室内配合）","100kg/m3（養生7日、室内配合）","2kg/m3（養生0日、室内配合）","50kg/m3（養生7日、室内配合）","20kg/m3（養生0日、含水比の低減効果なし）","60kg/m3（養生7日、室内配合）","30kg/m3（養生0日、含水比の低減効果なし）","50kg/m3（養生7日、室内配合）","30kg/m3（養生0日、室内配合）","60kg/m3（養生7日、室内配合）","50kg/m3（養生0日、室内配合）","100kg/m3（養生7日、室内配合）","45kg/m3（養生1日、室内配合）","50kg/m3（養生7日、室内配合）","150kg/m3（養生7日、室内配合）","60kg/m3（養生7日、室内配合）","300kg/m3（養生7日、室内配合）","50kg/m3（養生7日、室内配合）","80kg/m3（養生直後、室内配合）","60kg/m3（養生7日、室内配合）","200kg/m3（養生直後、室内配合）","100kg/m3（養生7日、室内配合）","100kg/m3（養生3日、室内配合）","30kg/m3（室内配合）","80kg/m3（養生直後、室内配合）","50kg/m3（室内配合）","200kg/m3（養生直後、室内配合）","50kg/m3（養生7日、室内配合）","60kg/m3（養生7、室内配合）","60kg/m3（養生7日、室内配合）","80kg/m3（養生7、室内配合）","30kg/m3（室内配合）","60kg/m3（養生7、室内配合）","50kg/m3（室内配合）","80kg/m3（養生7、室内配合）","／","／","／","／","／","／","／","／","／","／","／","／","／","／","／","／","／","／","／","／","／","／","／","／","／","／","／","／","／","／"]
[null,"⑬","概算費用","共通仮設費用（組立輸送解体費用）",null,239400,3164430,239400,3164430,239400,2033800,239400,1837800,239400,2033800,239400,239400,239400,2700000,239400,2095310,239400,2150790,239400,"-",239400,"-","／","／","／","／","-","-","-","-","-","-","-","-","-","-","-","-","-","-","-","-","-","-","-","-","-","-","-","-","-","-","-","-","-","-","-","-","-","-","-","-","-","-","-","-","-","-","-","-","-","-","-","-","-","-","-","-","-","-","-","-","-","-","-","-","-","-","-","-","-","-","-","-","-","-","-","-","-","-","-","-","-","-","-","-","-","-","-","-","-","-","-","-","-","-","-","-","-","-","-","-","-","-","-","-","-","-","-","-","-","-","-","-","-","-","-","-","-","-","-","-","-","-","-","-","-","-","-","-","-","-","-","-","-","-","-","-","／","-","／","／","／","／","／","／","／","／","／","／","／","／","／","／","／","／","／","／","／","／","／","／","／","／","／","／","／","／"]
[null,"⑭",null,"施工費","固化材（一般軟弱土用）","-","-","-","-","-","-","-","-","-","-","-","-","-","-","-","-","-","-","-","-","-","-","／","／","／","／","-","-","-","-","-","-","-","-","-","-","-","-","-","-","-","-","-","-","-","-","-","-","-","-","-","-","-","-","-",16600,"-",21000,"-",16600,"-",21000,"-","-","-","-","-","-","-","-","-","-","-","-","-","-","-","-","-","-","-","-","-","-","-","-","-","-","-","-","-","-","-","-","-","-","-","-","-","-","-","-","-","-","-","-","-","-","-","-","-","-","-","-","-","-","-","-","-","-","-","-","-","-","-","-","-","-","-","-","-","-","-","-","-","-","-","-","-","-","-","-","-","-","-","-","-","-","-","-","-","-","-","-","-","-","-","-","／","／","／","／","／","／","／","／","／","／","／","／","／","／","／","／","／","／","／","／","／","／","／","／","／","／","／","／","／","／"]
[null,null,null,null,"改良材単価","-","-","-","-","-","-","-","-","-","-","-","-","-","-","-","-","-","-","-","-","-","-","／","／","／","／",16500,34600,16500,34600,22500,34600,22500,34600,16500,1000,22500,1000,16500,51500,16500,51500,22500,51500,22500,51500,16500,"未回答",16500,"未回答",22500,"未回答",22500,"未回答",16500,110000,16500,110000,22500,110000,22500,110000,16500,38000,16500,38000,22500,38000,22500,38000,16500,350000,16500,350000,22500,350000,22500,350000,16500,"未回答",16500,"未回答",22500,"未回答",22500,"未回答",18500,1000000,18500,1000000,18500,"未回答",18500,"未回答",16500,75000,16500,75000,22500,75000,22500,75000,18500,75000,18500,150000,18500,120000,18500,120000,16500,35000,16500,35000,22500,35000,22500,35000,18500,110000,18500,110000,18500,2000000,18500,2000000,16500,300000,16500,300000,16500,210000,16500,210000,18500,210000,16500,20000,16500,20000,16500,125000,16500,145000,18500,145000,22500,125000,22500,145000,16500,48000,16500,48000,22500,48000,22500,48000,"／","／","／","／","／","／","／","／","／","／","／","／","／","／","／","／","／","／","／","／","／","／","／","／","／","／","／","／","／","／"]
[null,null,null,null,"材料費",1414,1426,1414,1492,1414,1150,1414,877,1414,1150,1414,1414,1414,5300,1414,1395,1414,1549,1414,837,1414,837,"／","／","／","／",825,5190,990,6920,675,5190,1125,6920,990,900,1125,900,825,1545,990,1545,675,1545,1125,1545,825,"未回答",990,"未回答",675,"未回答",1125,"未回答",825,3580,990,3800,675,3580,1125,3800,825,2280,990,5700,675,2280,1125,5700,825,5250,990,15750,675,5250,1125,15750,825,"未回答",990,"未回答",675,"未回答",1125,"未回答",1850,1800,1850,1800,1850,"未回答",1850,"未回答",825,2250,990,6000,675,2250,1125,6000,1850,4500,1850,4500,1850,6000,1850,3600,825,1050,990,2100,675,1050,1125,2100,1850,5500,1850,5500,1850,10000,1850,4000,825,6000,990,9000,825,6300,990,10500,1850,9450,825,3000,990,6000,825,10000,990,29000,1850,14500,675,10000,1125,29000,825,2880,990,3840,675,2880,1125,3840,"／","／","／","／","／","／","／","／","／","／","／","／","／","／","／","／","／","／","／","／","／","／","／","／","／","／","／","／","／","／"]
[null,"⑮","概算施工日数",null,null,0.33200000000000002,0.20833333333333334,0.33200000000000002,0.20833333333333334,0.33200000000000002,0.18867924528301888,0.33200000000000002,0.16666666666666669,0.33200000000000002,0.18867924528301888,0.33200000000000002,0.33200000000000002,0.33200000000000002,0.66666666666666674,0.33200000000000002,0.23148148148148145,0.33200000000000002,0.23148148148148145,0.33200000000000002,0.14005602240896359,0.33200000000000002,0.14005602240896359,"／","／","／","／","-","-","-","-","-","-","-","-","-","-","-","-","-","-","-","-","-","-","-","-","-","-","-","-","-","-","-","-","-","-","-","-","-","-","-","-","-","-","-","-","-","-","-","-","-","-","-","-","-","-","-","-","-","-","-","-","-","-","-","-","-","-","-","-","-","-","-","-","-","-","-","-","-","-","-","-","-","-","-","-","-","-","-","-","-","-","-","-","-","-","-","-","-","-","-","-","-","-","-","-","-","-","-","-","-","-","-","-","-","-","-","-","-","-","-","-","-","-","-","-","-","-","-","-","-","-","-","-","-","-","-","-","／","-","／","／","／","／","／","／","／","／","／","／","／","／","／","／","／","／","／","／","／","／","／","／","／","／","／","／","／","／"]
[null,"⑯","従来技術との比較評価","判定の凡例 \n  ○：従来技術より優れる\n  △：従来技術と同程度\n  －：上記以外","経済性",{"$f":"IFERROR(IF(G36=\"-\",\"-\",IF(G36=\"\",\"-\",IF(G36/F36=1,\"△\",IF(G36/F36>1,\"-（\"&ABS(ROUND(100*G36/F36-100,1))&\"％増）\",IF(G36/F36<1,\"○（\"&ABS(ROUND(100*G36/F36-100,1))&\"％減）\",\"\"))))),\"-\")","v":"-（0.8％増）"},{"$f":"IFERROR(IF(F36=\"-\",\"-\",\"（\"&TEXT(G36,\"#,###\")&\"-\"&TEXT(F36,\"#,###\")&\"）/\"&TEXT(F36,\"#,###\")&\"=\"&TEXT((G36-F36)/F36*100,\"0.0\")&\"%\"),\"-\")","v":"（1,426-1,414）/1,414=0.8%"},{"$f":"IFERROR(IF(I36=\"-\",\"-\",IF(I36=\"\",\"-\",IF(I36/H36=1,\"△\",IF(I36/H36>1,\"-（\"&ABS(ROUND(100*I36/H36-100,1))&\"％増）\",IF(I36/H36<1,\"○（\"&ABS(ROUND(100*I36/H36-100,1))&\"％減）\",\"\"))))),\"-\")","v":"-（5.5％増）"},{"$f":"IFERROR(IF(H36=\"-\",\"-\",\"（\"&TEXT(I36,\"#,###\")&\"-\"&TEXT(H36,\"#,###\")&\"）/\"&TEXT(H36,\"#,###\")&\"=\"&TEXT((I36-H36)/H36*100,\"0.0\")&\"%\"),\"-\")","v":"（1,492-1,414）/1,414=5.5%"},{"$f":"IFERROR(IF(K36=\"-\",\"-\",IF(K36=\"\",\"-\",IF(K36/J36=1,\"△\",IF(K36/J36>1,\"-（\"&ABS(ROUND(100*K36/J36-100,1))&\"％増）\",IF(K36/J36<1,\"○（\"&ABS(ROUND(100*K36/J36-100,1))&\"％減）\",\"\"))))),\"-\")","v":"○（18.7％減）"},{"$f":"IFERROR(IF(J36=\"-\",\"-\",\"（\"&TEXT(K36,\"#,###\")&\"-\"&TEXT(J36,\"#,###\")&\"）/\"&TEXT(J36,\"#,###\")&\"=\"&TEXT((K36-J36)/J36*100,\"0.0\")&\"%\"),\"-\")","v":"（1,150-1,414）/1,414=-18.7%"},{"$f":"IFERROR(IF(M36=\"-\",\"-\",IF(M36=\"\",\"-\",IF(M36/L36=1,\"△\",IF(M36/L36>1,\"-（\"&ABS(ROUND(100*M36/L36-100,1))&\"％増）\",IF(M36/L36<1,\"○（\"&ABS(ROUND(100*M36/L36-100,1))&\"％減）\",\"\"))))),\"-\")","v":"○（38％減）"},{"$f":"IFERROR(IF(L36=\"-\",\"-\",\"（\"&TEXT(M36,\"#,###\")&\"-\"&TEXT(L36,\"#,###\")&\"）/\"&TEXT(L36,\"#,###\")&\"=\"&TEXT((M36-L36)/L36*100,\"0.0\")&\"%\"),\"-\")","v":"（877-1,414）/1,414=-38.0%"},{"$f":"IFERROR(IF(O36=\"-\",\"-\",IF(O36=\"\",\"-\",IF(O36/N36=1,\"△\",IF(O36/N36>1,\"-（\"&ABS(ROUND(100*O36/N36-100,1))&\"％増）\",IF(O36/N36<1,\"○（\"&ABS(ROUND(100*O36/N36-100,1))&\"％減）\",\"\"))))),\"-\")","v":"○（18.7％減）"},{"$f":"IFERROR(IF(N36=\"-\",\"-\",\"（\"&TEXT(O36,\"#,###\")&\"-\"&TEXT(N36,\"#,###\")&\"）/\"&TEXT(N36,\"#,###\")&\"=\"&TEXT((O36-N36)/N36*100,\"0.0\")&\"%\"),\"-\")","v":"（1,150-1,414）/1,414=-18.7%"},{"$f":"IFERROR(IF(Q36=\"-\",\"-\",IF(Q36=\"\",\"-\",IF(Q36/P36=1,\"△\",IF(Q36/P36>1,\"-（\"&ABS(ROUND(100*Q36/P36-100,1))&\"％増）\",IF(Q36/P36<1,\"○（\"&ABS(ROUND(100*Q36/P36-100,1))&\"％減）\",\"\"))))),\"-\")","v":"△"},{"$f":"IFERROR(IF(P36=\"-\",\"-\",\"（\"&TEXT(Q36,\"#,###\")&\"-\"&TEXT(P36,\"#,###\")&\"）/\"&TEXT(P36,\"#,###\")&\"=\"&TEXT((Q36-P36)/P36*100,\"0.0\")&\"%\"),\"-\")","v":"（1,414-1,414）/1,414=0.0%"},{"$f":"IFERROR(IF(S36=\"-\",\"-\",IF(S36=\"\",\"-\",IF(S36/R36=1,\"△\",IF(S36/R36>1,\"-（\"&ABS(ROUND(100*S36/R36-100,1))&\"％増）\",IF(S36/R36<1,\"○（\"&ABS(ROUND(100*S36/R36-100,1))&\"％減）\",\"\"))))),\"-\")","v":"-（274.8％増）"},{"$f":"IFERROR(IF(R36=\"-\",\"-\",\"（\"&TEXT(S36,\"#,###\")&\"-\"&TEXT(R36,\"#,###\")&\"）/\"&TEXT(R36,\"#,###\")&\"=\"&TEXT((S36-R36)/R36*100,\"0.0\")&\"%\"),\"-\")","v":"（5,300-1,414）/1,414=274.8%"},{"$f":"IFERROR(IF(U36=\"-\",\"-\",IF(U36=\"\",\"-\",IF(U36/T36=1,\"△\",IF(U36/T36>1,\"-（\"&ABS(ROUND(100*U36/T36-100,1))&\"％増）\",IF(U36/T36<1,\"○（\"&ABS(ROUND(100*U36/T36-100,1))&\"％減）\",\"\"))))),\"-\")","v":"○（1.3％減）"},{"$f":"IFERROR(IF(T36=\"-\",\"-\",\"（\"&TEXT(U36,\"#,###\")&\"-\"&TEXT(T36,\"#,###\")&\"）/\"&TEXT(T36,\"#,###\")&\"=\"&TEXT((U36-T36)/T36*100,\"0.0\")&\"%\"),\"-\")","v":"（1,395-1,414）/1,414=-1.3%"},{"$f":"IFERROR(IF(W36=\"-\",\"-\",IF(W36=\"\",\"-\",IF(W36/V36=1,\"△\",IF(W36/V36>1,\"-（\"&ABS(ROUND(100*W36/V36-100,1))&\"％増）\",IF(W36/V36<1,\"○（\"&ABS(ROUND(100*W36/V36-100,1))&\"％減）\",\"\"))))),\"-\")","v":"-（9.5％増）"},{"$f":"IFERROR(IF(V36=\"-\",\"-\",\"（\"&TEXT(W36,\"#,###\")&\"-\"&TEXT(V36,\"#,###\")&\"）/\"&TEXT(V36,\"#,###\")&\"=\"&TEXT((W36-V36)/V36*100,\"0.0\")&\"%\"),\"-\")","v":"（1,549-1,414）/1,414=9.5%"},{"$f":"IFERROR(IF(Y36=\"-\",\"-\",IF(Y36=\"\",\"-\",IF(Y36/X36=1,\"△\",IF(Y36/X36>1,\"-（\"&ABS(ROUND(100*Y36/X36-100,1))&\"％増）\",IF(Y36/X36<1,\"○（\"&ABS(ROUND(100*Y36/X36-100,1))&\"％減）\",\"\"))))),\"-\")","v":"○（40.8％減）"},{"$f":"IFERROR(IF(X36=\"-\",\"-\",\"（\"&TEXT(Y36,\"#,###\")&\"-\"&TEXT(X36,\"#,###\")&\"）/\"&TEXT(X36,\"#,###\")&\"=\"&TEXT((Y36-X36)/X36*100,\"0.0\")&\"%\"),\"-\")","v":"（837-1,414）/1,414=-40.8%"},{"$f":"IFERROR(IF(AA36=\"-\",\"-\",IF(AA36=\"\",\"-\",IF(AA36/Z36=1,\"△\",IF(AA36/Z36>1,\"-（\"&ABS(ROUND(100*AA36/Z36-100,1))&\"％増）\",IF(AA36/Z36<1,\"○（\"&ABS(ROUND(100*AA36/Z36-100,1))&\"％減）\",\"\"))))),\"-\")","v":"○（40.8％減）"},{"$f":"IFERROR(IF(Z36=\"-\",\"-\",\"（\"&TEXT(AA36,\"#,###\")&\"-\"&TEXT(Z36,\"#,###\")&\"）/\"&TEXT(Z36,\"#,###\")&\"=\"&TEXT((AA36-Z36)/Z36*100,\"0.0\")&\"%\"),\"-\")","v":"（837-1,414）/1,414=-40.8%"},"／","／","／","／",{"$f":"IFERROR(IF(AG36=\"-\",\"-\",IF(AG36=\"\",\"-\",IF(AG36/AF36=1,\"△\",IF(AG36/AF36>1,\"-（\"&ABS(ROUND(100*AG36/AF36-100,1))&\"％増）\",IF(AG36/AF36<1,\"○（\"&ABS(ROUND(100*AG36/AF36-100,1))&\"％減）\",\"\"))))),\"-\")","v":"-（529.1％増）"},{"$f":"IFERROR(IF(AF36=\"-\",\"-\",\"（\"&TEXT(AG36,\"#,###\")&\"-\"&TEXT(AF36,\"#,###\")&\"）/\"&TEXT(AF36,\"#,###\")&\"=\"&TEXT((AG36-AF36)/AF36*100,\"0.0\")&\"%\"),\"-\")","v":"（5,190-825）/825=529.1%"},{"$f":"IFERROR(IF(AI36=\"-\",\"-\",IF(AI36=\"\",\"-\",IF(AI36/AH36=1,\"△\",IF(AI36/AH36>1,\"-（\"&ABS(ROUND(100*AI36/AH36-100,1))&\"％増）\",IF(AI36/AH36<1,\"○（\"&ABS(ROUND(100*AI36/AH36-100,1))&\"％減）\",\"\"))))),\"-\")","v":"-（599％増）"},{"$f":"IFERROR(IF(AH36=\"-\",\"-\",\"（\"&TEXT(AI36,\"#,###\")&\"-\"&TEXT(AH36,\"#,###\")&\"）/\"&TEXT(AH36,\"#,###\")&\"=\"&TEXT((AI36-AH36)/AH36*100,\"0.0\")&\"%\"),\"-\")","v":"（6,920-990）/990=599.0%"},{"$f":"IFERROR(IF(AK36=\"-\",\"-\",IF(AK36=\"\",\"-\",IF(AK36/AJ36=1,\"△\",IF(AK36/AJ36>1,\"-（\"&ABS(ROUND(100*AK36/AJ36-100,1))&\"％増）\",IF(AK36/AJ36<1,\"○（\"&ABS(ROUND(100*AK36/AJ36-100,1))&\"％減）\",\"\"))))),\"-\")","v":"-（668.9％増）"},{"$f":"IFERROR(IF(AJ36=\"-\",\"-\",\"（\"&TEXT(AK36,\"#,###\")&\"-\"&TEXT(AJ36,\"#,###\")&\"）/\"&TEXT(AJ36,\"#,###\")&\"=\"&TEXT((AK36-AJ36)/AJ36*100,\"0.0\")&\"%\"),\"-\")","v":"（5,190-675）/675=668.9%"},{"$f":"IFERROR(IF(AM36=\"-\",\"-\",IF(AM36=\"\",\"-\",IF(AM36/AL36=1,\"△\",IF(AM36/AL36>1,\"-（\"&ABS(ROUND(100*AM36/AL36-100,1))&\"％増）\",IF(AM36/AL36<1,\"○（\"&ABS(ROUND(100*AM36/AL36-100,1))&\"％減）\",\"\"))))),\"-\")","v":"-（515.1％増）"},{"$f":"IFERROR(IF(AL36=\"-\",\"-\",\"（\"&TEXT(AM36,\"#,###\")&\"-\"&TEXT(AL36,\"#,###\")&\"）/\"&TEXT(AL36,\"#,###\")&\"=\"&TEXT((AM36-AL36)/AL36*100,\"0.0\")&\"%\"),\"-\")","v":"（6,920-1,125）/1,125=515.1%"},{"$f":"IFERROR(IF(AO36=\"-\",\"-\",IF(AO36=\"\",\"-\",IF(AO36/AN36=1,\"△\",IF(AO36/AN36>1,\"-（\"&ABS(ROUND(100*AO36/AN36-100,1))&\"％増）\",IF(AO36/AN36<1,\"○（\"&ABS(ROUND(100*AO36/AN36-100,1))&\"％減）\",\"\"))))),\"-\")","v":"○（9.1％減）"},{"$f":"IFERROR(IF(AN36=\"-\",\"-\",\"（\"&TEXT(AO36,\"#,###\")&\"-\"&TEXT(AN36,\"#,###\")&\"）/\"&TEXT(AN36,\"#,###\")&\"=\"&TEXT((AO36-AN36)/AN36*100,\"0.0\")&\"%\"),\"-\")","v":"（900-990）/990=-9.1%"},{"$f":"IFERROR(IF(AQ36=\"-\",\"-\",IF(AQ36=\"\",\"-\",IF(AQ36/AP36=1,\"△\",IF(AQ36/AP36>1,\"-（\"&ABS(ROUND(100*AQ36/AP36-100,1))&\"％増）\",IF(AQ36/AP36<1,\"○（\"&ABS(ROUND(100*AQ36/AP36-100,1))&\"％減）\",\"\"))))),\"-\")","v":"○（20％減）"},{"$f":"IFERROR(IF(AP36=\"-\",\"-\",\"（\"&TEXT(AQ36,\"#,###\")&\"-\"&TEXT(AP36,\"#,###\")&\"）/\"&TEXT(AP36,\"#,###\")&\"=\"&TEXT((AQ36-AP36)/AP36*100,\"0.0\")&\"%\"),\"-\")","v":"（900-1,125）/1,125=-20.0%"},{"$f":"IFERROR(IF(AS36=\"-\",\"-\",IF(AS36=\"\",\"-\",IF(AS36/AR36=1,\"△\",IF(AS36/AR36>1,\"-（\"&ABS(ROUND(100*AS36/AR36-100,1))&\"％増）\",IF(AS36/AR36<1,\"○（\"&ABS(ROUND(100*AS36/AR36-100,1))&\"％減）\",\"\"))))),\"-\")","v":"-（87.3％増）"},{"$f":"IFERROR(IF(AR36=\"-\",\"-\",\"（\"&TEXT(AS36,\"#,###\")&\"-\"&TEXT(AR36,\"#,###\")&\"）/\"&TEXT(AR36,\"#,###\")&\"=\"&TEXT((AS36-AR36)/AR36*100,\"0.0\")&\"%\"),\"-\")","v":"（1,545-825）/825=87.3%"},{"$f":"IFERROR(IF(AU36=\"-\",\"-\",IF(AU36=\"\",\"-\",IF(AU36/AT36=1,\"△\",IF(AU36/AT36>1,\"-（\"&ABS(ROUND(100*AU36/AT36-100,1))&\"％増）\",IF(AU36/AT36<1,\"○（\"&ABS(ROUND(100*AU36/AT36-100,1))&\"％減）\",\"\"))))),\"-\")","v":"-（56.1％増）"},{"$f":"IFERROR(IF(AT36=\"-\",\"-\",\"（\"&TEXT(AU36,\"#,###\")&\"-\"&TEXT(AT36,\"#,###\")&\"）/\"&TEXT(AT36,\"#,###\")&\"=\"&TEXT((AU36-AT36)/AT36*100,\"0.0\")&\"%\"),\"-\")","v":"（1,545-990）/990=56.1%"},{"$f":"IFERROR(IF(AW36=\"-\",\"-\",IF(AW36=\"\",\"-\",IF(AW36/AV36=1,\"△\",IF(AW36/AV36>1,\"-（\"&ABS(ROUND(100*AW36/AV36-100,1))&\"％増）\",IF(AW36/AV36<1,\"○（\"&ABS(ROUND(100*AW36/AV36-100,1))&\"％減）\",\"\"))))),\"-\")","v":"-（128.9％増）"},{"$f":"IFERROR(IF(AV36=\"-\",\"-\",\"（\"&TEXT(AW36,\"#,###\")&\"-\"&TEXT(AV36,\"#,###\")&\"）/\"&TEXT(AV36,\"#,###\")&\"=\"&TEXT((AW36-AV36)/AV36*100,\"0.0\")&\"%\"),\"-\")","v":"（1,545-675）/675=128.9%"},{"$f":"IFERROR(IF(AY36=\"-\",\"-\",IF(AY36=\"\",\"-\",IF(AY36/AX36=1,\"△\",IF(AY36/AX36>1,\"-（\"&ABS(ROUND(100*AY36/AX36-100,1))&\"％増）\",IF(AY36/AX36<1,\"○（\"&ABS(ROUND(100*AY36/AX36-100,1))&\"％減）\",\"\"))))),\"-\")","v":"-（37.3％増）"},{"$f":"IFERROR(IF(AX36=\"-\",\"-\",\"（\"&TEXT(AY36,\"#,###\")&\"-\"&TEXT(AX36,\"#,###\")&\"）/\"&TEXT(AX36,\"#,###\")&\"=\"&TEXT((AY36-AX36)/AX36*100,\"0.0\")&\"%\"),\"-\")","v":"（1,545-1,125）/1,125=37.3%"},{"$f":"IFERROR(IF(BA36=\"-\",\"-\",IF(BA36=\"\",\"-\",IF(BA36/AZ36=1,\"△\",IF(BA36/AZ36>1,\"-（\"&ABS(ROUND(100*BA36/AZ36-100,1))&\"％増）\",IF(BA36/AZ36<1,\"○（\"&ABS(ROUND(100*BA36/AZ36-100,1))&\"％減）\",\"\"))))),\"-\")","v":"-"},{"$f":"IFERROR(IF(AZ36=\"-\",\"-\",\"（\"&TEXT(BA36,\"#,###\")&\"-\"&TEXT(AZ36,\"#,###\")&\"）/\"&TEXT(AZ36,\"#,###\")&\"=\"&TEXT((BA36-AZ36)/AZ36*100,\"0.0\")&\"%\"),\"-\")","v":"-"},{"$f":"IFERROR(IF(BC36=\"-\",\"-\",IF(BC36=\"\",\"-\",IF(BC36/BB36=1,\"△\",IF(BC36/BB36>1,\"-（\"&ABS(ROUND(100*BC36/BB36-100,1))&\"％増）\",IF(BC36/BB36<1,\"○（\"&ABS(ROUND(100*BC36/BB36-100,1))&\"％減）\",\"\"))))),\"-\")","v":"-"},{"$f":"IFERROR(IF(BB36=\"-\",\"-\",\"（\"&TEXT(BC36,\"#,###\")&\"-\"&TEXT(BB36,\"#,###\")&\"）/\"&TEXT(BB36,\"#,###\")&\"=\"&TEXT((BC36-BB36)/BB36*100,\"0.0\")&\"%\"),\"-\")","v":"-"},{"$f":"IFERROR(IF(BE36=\"-\",\"-\",IF(BE36=\"\",\"-\",IF(BE36/BD36=1,\"△\",IF(BE36/BD36>1,\"-（\"&ABS(ROUND(100*BE36/BD36-100,1))&\"％増）\",IF(BE36/BD36<1,\"○（\"&ABS(ROUND(100*BE36/BD36-100,1))&\"％減）\",\"\"))))),\"-\")","v":"-"},{"$f":"IFERROR(IF(BD36=\"-\",\"-\",\"（\"&TEXT(BE36,\"#,###\")&\"-\"&TEXT(BD36,\"#,###\")&\"）/\"&TEXT(BD36,\"#,###\")&\"=\"&TEXT((BE36-BD36)/BD36*100,\"0.0\")&\"%\"),\"-\")","v":"-"},{"$f":"IFERROR(IF(BG36=\"-\",\"-\",IF(BG36=\"\",\"-\",IF(BG36/BF36=1,\"△\",IF(BG36/BF36>1,\"-（\"&ABS(ROUND(100*BG36/BF36-100,1))&\"％増）\",IF(BG36/BF36<1,\"○（\"&ABS(ROUND(100*BG36/BF36-100,1))&\"％減）\",\"\"))))),\"-\")","v":"-"},{"$f":"IFERROR(IF(BF36=\"-\",\"-\",\"（\"&TEXT(BG36,\"#,###\")&\"-\"&TEXT(BF36,\"#,###\")&\"）/\"&TEXT(BF36,\"#,###\")&\"=\"&TEXT((BG36-BF36)/BF36*100,\"0.0\")&\"%\"),\"-\")","v":"-"},{"$f":"IFERROR(IF(BI36=\"-\",\"-\",IF(BI36=\"\",\"-\",IF(BI36/BH36=1,\"△\",IF(BI36/BH36>1,\"-（\"&ABS(ROUND(100*BI36/BH36-100,1))&\"％増）\",IF(BI36/BH36<1,\"○（\"&ABS(ROUND(100*BI36/BH36-100,1))&\"％減）\",\"\"))))),\"-\")","v":"-（333.9％増）"},{"$f":"IFERROR(IF(BH36=\"-\",\"-\",\"（\"&TEXT(BI36,\"#,###\")&\"-\"&TEXT(BH36,\"#,###\")&\"）/\"&TEXT(BH36,\"#,###\")&\"=\"&TEXT((BI36-BH36)/BH36*100,\"0.0\")&\"%\"),\"-\")","v":"（3,580-825）/825=333.9%"},{"$f":"IFERROR(IF(BK36=\"-\",\"-\",IF(BK36=\"\",\"-\",IF(BK36/BJ36=1,\"△\",IF(BK36/BJ36>1,\"-（\"&ABS(ROUND(100*BK36/BJ36-100,1))&\"％増）\",IF(BK36/BJ36<1,\"○（\"&ABS(ROUND(100*BK36/BJ36-100,1))&\"％減）\",\"\"))))),\"-\")","v":"-（283.8％増）"},{"$f":"IFERROR(IF(BJ36=\"-\",\"-\",\"（\"&TEXT(BK36,\"#,###\")&\"-\"&TEXT(BJ36,\"#,###\")&\"）/\"&TEXT(BJ36,\"#,###\")&\"=\"&TEXT((BK36-BJ36)/BJ36*100,\"0.0\")&\"%\"),\"-\")","v":"（3,800-990）/990=283.8%"},{"$f":"IFERROR(IF(BM36=\"-\",\"-\",IF(BM36=\"\",\"-\",IF(BM36/BL36=1,\"△\",IF(BM36/BL36>1,\"-（\"&ABS(ROUND(100*BM36/BL36-100,1))&\"％増）\",IF(BM36/BL36<1,\"○（\"&ABS(ROUND(100*BM36/BL36-100,1))&\"％減）\",\"\"))))),\"-\")","v":"-（430.4％増）"},{"$f":"IFERROR(IF(BL36=\"-\",\"-\",\"（\"&TEXT(BM36,\"#,###\")&\"-\"&TEXT(BL36,\"#,###\")&\"）/\"&TEXT(BL36,\"#,###\")&\"=\"&TEXT((BM36-BL36)/BL36*100,\"0.0\")&\"%\"),\"-\")","v":"（3,580-675）/675=430.4%"},{"$f":"IFERROR(IF(BO36=\"-\",\"-\",IF(BO36=\"\",\"-\",IF(BO36/BN36=1,\"△\",IF(BO36/BN36>1,\"-（\"&ABS(ROUND(100*BO36/BN36-100,1))&\"％増）\",IF(BO36/BN36<1,\"○（\"&ABS(ROUND(100*BO36/BN36-100,1))&\"％減）\",\"\"))))),\"-\")","v":"-（237.8％増）"},{"$f":"IFERROR(IF(BN36=\"-\",\"-\",\"（\"&TEXT(BO36,\"#,###\")&\"-\"&TEXT(BN36,\"#,###\")&\"）/\"&TEXT(BN36,\"#,###\")&\"=\"&TEXT((BO36-BN36)/BN36*100,\"0.0\")&\"%\"),\"-\")","v":"（3,800-1,125）/1,125=237.8%"},{"$f":"IFERROR(IF(BQ36=\"-\",\"-\",IF(BQ36=\"\",\"-\",IF(BQ36/BP36=1,\"△\",IF(BQ36/BP36>1,\"-（\"&ABS(ROUND(100*BQ36/BP36-100,1))&\"％増）\",IF(BQ36/BP36<1,\"○（\"&ABS(ROUND(100*BQ36/BP36-100,1))&\"％減）\",\"\"))))),\"-\")","v":"-（176.4％増）"},{"$f":"IFERROR(IF(BP36=\"-\",\"-\",\"（\"&TEXT(BQ36,\"#,###\")&\"-\"&TEXT(BP36,\"#,###\")&\"）/\"&TEXT(BP36,\"#,###\")&\"=\"&TEXT((BQ36-BP36)/BP36*100,\"0.0\")&\"%\"),\"-\")","v":"（2,280-825）/825=176.4%"},{"$f":"IFERROR(IF(BS36=\"-\",\"-\",IF(BS36=\"\",\"-\",IF(BS36/BR36=1,\"△\",IF(BS36/BR36>1,\"-（\"&ABS(ROUND(100*BS36/BR36-100,1))&\"％増）\",IF(BS36/BR36<1,\"○（\"&ABS(ROUND(100*BS36/BR36-100,1))&\"％減）\",\"\"))))),\"-\")","v":"-（475.8％増）"},{"$f":"IFERROR(IF(BR36=\"-\",\"-\",\"（\"&TEXT(BS36,\"#,###\")&\"-\"&TEXT(BR36,\"#,###\")&\"）/\"&TEXT(BR36,\"#,###\")&\"=\"&TEXT((BS36-BR36)/BR36*100,\"0.0\")&\"%\"),\"-\")","v":"（5,700-990）/990=475.8%"},{"$f":"IFERROR(IF(BU36=\"-\",\"-\",IF(BU36=\"\",\"-\",IF(BU36/BT36=1,\"△\",IF(BU36/BT36>1,\"-（\"&ABS(ROUND(100*BU36/BT36-100,1))&\"％増）\",IF(BU36/BT36<1,\"○（\"&ABS(ROUND(100*BU36/BT36-100,1))&\"％減）\",\"\"))))),\"-\")","v":"-（237.8％増）"},{"$f":"IFERROR(IF(BT36=\"-\",\"-\",\"（\"&TEXT(BU36,\"#,###\")&\"-\"&TEXT(BT36,\"#,###\")&\"）/\"&TEXT(BT36,\"#,###\")&\"=\"&TEXT((BU36-BT36)/BT36*100,\"0.0\")&\"%\"),\"-\")","v":"（2,280-675）/675=237.8%"},{"$f":"IFERROR(IF(BW36=\"-\",\"-\",IF(BW36=\"\",\"-\",IF(BW36/BV36=1,\"△\",IF(BW36/BV36>1,\"-（\"&ABS(ROUND(100*BW36/BV36-100,1))&\"％増）\",IF(BW36/BV36<1,\"○（\"&ABS(ROUND(100*BW36/BV36-100,1))&\"％減）\",\"\"))))),\"-\")","v":"-（406.7％増）"},{"$f":"IFERROR(IF(BV36=\"-\",\"-\",\"（\"&TEXT(BW36,\"#,###\")&\"-\"&TEXT(BV36,\"#,###\")&\"）/\"&TEXT(BV36,\"#,###\")&\"=\"&TEXT((BW36-BV36)/BV36*100,\"0.0\")&\"%\"),\"-\")","v":"（5,700-1,125）/1,125=406.7%"},{"$f":"IFERROR(IF(BY36=\"-\",\"-\",IF(BY36=\"\",\"-\",IF(BY36/BX36=1,\"△\",IF(BY36/BX36>1,\"-（\"&ABS(ROUND(100*BY36/BX36-100,1))&\"％増）\",IF(BY36/BX36<1,\"○（\"&ABS(ROUND(100*BY36/BX36-100,1))&\"％減）\",\"\"))))),\"-\")","v":"-（536.4％増）"},{"$f":"IFERROR(IF(BX36=\"-\",\"-\",\"（\"&TEXT(BY36,\"#,###\")&\"-\"&TEXT(BX36,\"#,###\")&\"）/\"&TEXT(BX36,\"#,###\")&\"=\"&TEXT((BY36-BX36)/BX36*100,\"0.0\")&\"%\"),\"-\")","v":"（5,250-825）/825=536.4%"},{"$f":"IFERROR(IF(CA36=\"-\",\"-\",IF(CA36=\"\",\"-\",IF(CA36/BZ36=1,\"△\",IF(CA36/BZ36>1,\"-（\"&ABS(ROUND(100*CA36/BZ36-100,1))&\"％増）\",IF(CA36/BZ36<1,\"○（\"&ABS(ROUND(100*CA36/BZ36-100,1))&\"％減）\",\"\"))))),\"-\")","v":"-（1490.9％増）"},{"$f":"IFERROR(IF(BZ36=\"-\",\"-\",\"（\"&TEXT(CA36,\"#,###\")&\"-\"&TEXT(BZ36,\"#,###\")&\"）/\"&TEXT(BZ36,\"#,###\")&\"=\"&TEXT((CA36-BZ36)/BZ36*100,\"0.0\")&\"%\"),\"-\")","v":"（15,750-990）/990=1490.9%"},{"$f":"IFERROR(IF(CC36=\"-\",\"-\",IF(CC36=\"\",\"-\",IF(CC36/CB36=1,\"△\",IF(CC36/CB36>1,\"-（\"&ABS(ROUND(100*CC36/CB36-100,1))&\"％増）\",IF(CC36/CB36<1,\"○（\"&ABS(ROUND(100*CC36/CB36-100,1))&\"％減）\",\"\"))))),\"-\")","v":"-（677.8％増）"},{"$f":"IFERROR(IF(CB36=\"-\",\"-\",\"（\"&TEXT(CC36,\"#,###\")&\"-\"&TEXT(CB36,\"#,###\")&\"）/\"&TEXT(CB36,\"#,###\")&\"=\"&TEXT((CC36-CB36)/CB36*100,\"0.0\")&\"%\"),\"-\")","v":"（5,250-675）/675=677.8%"},{"$f":"IFERROR(IF(CE36=\"-\",\"-\",IF(CE36=\"\",\"-\",IF(CE36/CD36=1,\"△\",IF(CE36/CD36>1,\"-（\"&ABS(ROUND(100*CE36/CD36-100,1))&\"％増）\",IF(CE36/CD36<1,\"○（\"&ABS(ROUND(100*CE36/CD36-100,1))&\"％減）\",\"\"))))),\"-\")","v":"-（1300％増）"},{"$f":"IFERROR(IF(CD36=\"-\",\"-\",\"（\"&TEXT(CE36,\"#,###\")&\"-\"&TEXT(CD36,\"#,###\")&\"）/\"&TEXT(CD36,\"#,###\")&\"=\"&TEXT((CE36-CD36)/CD36*100,\"0.0\")&\"%\"),\"-\")","v":"（15,750-1,125）/1,125=1300.0%"},{"$f":"IFERROR(IF(CG36=\"-\",\"-\",IF(CG36=\"\",\"-\",IF(CG36/CF36=1,\"△\",IF(CG36/CF36>1,\"-（\"&ABS(ROUND(100*CG36/CF36-100,1))&\"％増）\",IF(CG36/CF36<1,\"○（\"&ABS(ROUND(100*CG36/CF36-100,1))&\"％減）\",\"\"))))),\"-\")","v":"-"},{"$f":"IFERROR(IF(CF36=\"-\",\"-\",\"（\"&TEXT(CG36,\"#,###\")&\"-\"&TEXT(CF36,\"#,###\")&\"）/\"&TEXT(CF36,\"#,###\")&\"=\"&TEXT((CG36-CF36)/CF36*100,\"0.0\")&\"%\"),\"-\")","v":"-"},{"$f":"IFERROR(IF(CI36=\"-\",\"-\",IF(CI36=\"\",\"-\",IF(CI36/CH36=1,\"△\",IF(CI36/CH36>1,\"-（\"&ABS(ROUND(100*CI36/CH36-100,1))&\"％増）\",IF(CI36/CH36<1,\"○（\"&ABS(ROUND(100*CI36/CH36-100,1))&\"％減）\",\"\"))))),\"-\")","v":"-"},{"$f":"IFERROR(IF(CH36=\"-\",\"-\",\"（\"&TEXT(CI36,\"#,###\")&\"-\"&TEXT(CH36,\"#,###\")&\"）/\"&TEXT(CH36,\"#,###\")&\"=\"&TEXT((CI36-CH36)/CH36*100,\"0.0\")&\"%\"),\"-\")","v":"-"},{"$f":"IFERROR(IF(CK36=\"-\",\"-\",IF(CK36=\"\",\"-\",IF(CK36/CJ36=1,\"△\",IF(CK36/CJ36>1,\"-（\"&ABS(ROUND(100*CK36/CJ36-100,1))&\"％増）\",IF(CK36/CJ36<1,\"○（\"&ABS(ROUND(100*CK36/CJ36-100,1))&\"％減）\",\"\"))))),\"-\")","v":"-"},{"$f":"IFERROR(IF(CJ36=\"-\",\"-\",\"（\"&TEXT(CK36,\"#,###\")&\"-\"&TEXT(CJ36,\"#,###\")&\"）/\"&TEXT(CJ36,\"#,###\")&\"=\"&TEXT((CK36-CJ36)/CJ36*100,\"0.0\")&\"%\"),\"-\")","v":"-"},{"$f":"IFERROR(IF(CM36=\"-\",\"-\",IF(CM36=\"\",\"-\",IF(CM36/CL36=1,\"△\",IF(CM36/CL36>1,\"-（\"&ABS(ROUND(100*CM36/CL36-100,1))&\"％増）\",IF(CM36/CL36<1,\"○（\"&ABS(ROUND(100*CM36/CL36-100,1))&\"％減）\",\"\"))))),\"-\")","v":"-"},{"$f":"IFERROR(IF(CL36=\"-\",\"-\",\"（\"&TEXT(CM36,\"#,###\")&\"-\"&TEXT(CL36,\"#,###\")&\"）/\"&TEXT(CL36,\"#,###\")&\"=\"&TEXT((CM36-CL36)/CL36*100,\"0.0\")&\"%\"),\"-\")","v":"-"},{"$f":"IFERROR(IF(CO36=\"-\",\"-\",IF(CO36=\"\",\"-\",IF(CO36/CN36=1,\"△\",IF(CO36/CN36>1,\"-（\"&ABS(ROUND(100*CO36/CN36-100,1))&\"％増）\",IF(CO36/CN36<1,\"○（\"&ABS(ROUND(100*CO36/CN36-100,1))&\"％減）\",\"\"))))),\"-\")","v":"○（2.7％減）"},{"$f":"IFERROR(IF(CN36=\"-\",\"-\",\"（\"&TEXT(CO36,\"#,###\")&\"-\"&TEXT(CN36,\"#,###\")&\"）/\"&TEXT(CN36,\"#,###\")&\"=\"&TEXT((CO36-CN36)/CN36*100,\"0.0\")&\"%\"),\"-\")","v":"（1,800-1,850）/1,850=-2.7%"},{"$f":"IFERROR(IF(CQ36=\"-\",\"-\",IF(CQ36=\"\",\"-\",IF(CQ36/CP36=1,\"△\",IF(CQ36/CP36>1,\"-（\"&ABS(ROUND(100*CQ36/CP36-100,1))&\"％増）\",IF(CQ36/CP36<1,\"○（\"&ABS(ROUND(100*CQ36/CP36-100,1))&\"％減）\",\"\"))))),\"-\")","v":"○（2.7％減）"},{"$f":"IFERROR(IF(CP36=\"-\",\"-\",\"（\"&TEXT(CQ36,\"#,###\")&\"-\"&TEXT(CP36,\"#,###\")&\"）/\"&TEXT(CP36,\"#,###\")&\"=\"&TEXT((CQ36-CP36)/CP36*100,\"0.0\")&\"%\"),\"-\")","v":"（1,800-1,850）/1,850=-2.7%"},{"$f":"IFERROR(IF(CS36=\"-\",\"-\",IF(CS36=\"\",\"-\",IF(CS36/CR36=1,\"△\",IF(CS36/CR36>1,\"-（\"&ABS(ROUND(100*CS36/CR36-100,1))&\"％増）\",IF(CS36/CR36<1,\"○（\"&ABS(ROUND(100*CS36/CR36-100,1))&\"％減）\",\"\"))))),\"-\")","v":"-"},{"$f":"IFERROR(IF(CR36=\"-\",\"-\",\"（\"&TEXT(CS36,\"#,###\")&\"-\"&TEXT(CR36,\"#,###\")&\"）/\"&TEXT(CR36,\"#,###\")&\"=\"&TEXT((CS36-CR36)/CR36*100,\"0.0\")&\"%\"),\"-\")","v":"-"},{"$f":"IFERROR(IF(CU36=\"-\",\"-\",IF(CU36=\"\",\"-\",IF(CU36/CT36=1,\"△\",IF(CU36/CT36>1,\"-（\"&ABS(ROUND(100*CU36/CT36-100,1))&\"％増）\",IF(CU36/CT36<1,\"○（\"&ABS(ROUND(100*CU36/CT36-100,1))&\"％減）\",\"\"))))),\"-\")","v":"-"},{"$f":"IFERROR(IF(CT36=\"-\",\"-\",\"（\"&TEXT(CU36,\"#,###\")&\"-\"&TEXT(CT36,\"#,###\")&\"）/\"&TEXT(CT36,\"#,###\")&\"=\"&TEXT((CU36-CT36)/CT36*100,\"0.0\")&\"%\"),\"-\")","v":"-"},{"$f":"IFERROR(IF(CW36=\"-\",\"-\",IF(CW36=\"\",\"-\",IF(CW36/CV36=1,\"△\",IF(CW36/CV36>1,\"-（\"&ABS(ROUND(100*CW36/CV36-100,1))&\"％増）\",IF(CW36/CV36<1,\"○（\"&ABS(ROUND(100*CW36/CV36-100,1))&\"％減）\",\"\"))))),\"-\")","v":"-（172.7％増）"},{"$f":"IFERROR(IF(CV36=\"-\",\"-\",\"（\"&TEXT(CW36,\"#,###\")&\"-\"&TEXT(CV36,\"#,###\")&\"）/\"&TEXT(CV36,\"#,###\")&\"=\"&TEXT((CW36-CV36)/CV36*100,\"0.0\")&\"%\"),\"-\")","v":"（2,250-825）/825=172.7%"},{"$f":"IFERROR(IF(CY36=\"-\",\"-\",IF(CY36=\"\",\"-\",IF(CY36/CX36=1,\"△\",IF(CY36/CX36>1,\"-（\"&ABS(ROUND(100*CY36/CX36-100,1))&\"％増）\",IF(CY36/CX36<1,\"○（\"&ABS(ROUND(100*CY36/CX36-100,1))&\"％減）\",\"\"))))),\"-\")","v":"-（506.1％増）"},{"$f":"IFERROR(IF(CX36=\"-\",\"-\",\"（\"&TEXT(CY36,\"#,###\")&\"-\"&TEXT(CX36,\"#,###\")&\"）/\"&TEXT(CX36,\"#,###\")&\"=\"&TEXT((CY36-CX36)/CX36*100,\"0.0\")&\"%\"),\"-\")","v":"（6,000-990）/990=506.1%"},{"$f":"IFERROR(IF(DA36=\"-\",\"-\",IF(DA36=\"\",\"-\",IF(DA36/CZ36=1,\"△\",IF(DA36/CZ36>1,\"-（\"&ABS(ROUND(100*DA36/CZ36-100,1))&\"％増）\",IF(DA36/CZ36<1,\"○（\"&ABS(ROUND(100*DA36/CZ36-100,1))&\"％減）\",\"\"))))),\"-\")","v":"-（233.3％増）"},{"$f":"IFERROR(IF(CZ36=\"-\",\"-\",\"（\"&TEXT(DA36,\"#,###\")&\"-\"&TEXT(CZ36,\"#,###\")&\"）/\"&TEXT(CZ36,\"#,###\")&\"=\"&TEXT((DA36-CZ36)/CZ36*100,\"0.0\")&\"%\"),\"-\")","v":"（2,250-675）/675=233.3%"},{"$f":"IFERROR(IF(DC36=\"-\",\"-\",IF(DC36=\"\",\"-\",IF(DC36/DB36=1,\"△\",IF(DC36/DB36>1,\"-（\"&ABS(ROUND(100*DC36/DB36-100,1))&\"％増）\",IF(DC36/DB36<1,\"○（\"&ABS(ROUND(100*DC36/DB36-100,1))&\"％減）\",\"\"))))),\"-\")","v":"-（433.3％増）"},{"$f":"IFERROR(IF(DB36=\"-\",\"-\",\"（\"&TEXT(DC36,\"#,###\")&\"-\"&TEXT(DB36,\"#,###\")&\"）/\"&TEXT(DB36,\"#,###\")&\"=\"&TEXT((DC36-DB36)/DB36*100,\"0.0\")&\"%\"),\"-\")","v":"（6,000-1,125）/1,125=433.3%"},{"$f":"IFERROR(IF(DE36=\"-\",\"-\",IF(DE36=\"\",\"-\",IF(DE36/DD36=1,\"△\",IF(DE36/DD36>1,\"-（\"&ABS(ROUND(100*DE36/DD36-100,1))&\"％増）\",IF(DE36/DD36<1,\"○（\"&ABS(ROUND(100*DE36/DD36-100,1))&\"％減）\",\"\"))))),\"-\")","v":"-（143.2％増）"},{"$f":"IFERROR(IF(DD36=\"-\",\"-\",\"（\"&TEXT(DE36,\"#,###\")&\"-\"&TEXT(DD36,\"#,###\")&\"）/\"&TEXT(DD36,\"#,###\")&\"=\"&TEXT((DE36-DD36)/DD36*100,\"0.0\")&\"%\"),\"-\")","v":"（4,500-1,850）/1,850=143.2%"},{"$f":"IFERROR(IF(DG36=\"-\",\"-\",IF(DG36=\"\",\"-\",IF(DG36/DF36=1,\"△\",IF(DG36/DF36>1,\"-（\"&ABS(ROUND(100*DG36/DF36-100,1))&\"％増）\",IF(DG36/DF36<1,\"○（\"&ABS(ROUND(100*DG36/DF36-100,1))&\"％減）\",\"\"))))),\"-\")","v":"-（143.2％増）"},{"$f":"IFERROR(IF(DF36=\"-\",\"-\",\"（\"&TEXT(DG36,\"#,###\")&\"-\"&TEXT(DF36,\"#,###\")&\"）/\"&TEXT(DF36,\"#,###\")&\"=\"&TEXT((DG36-DF36)/DF36*100,\"0.0\")&\"%\"),\"-\")","v":"（4,500-1,850）/1,850=143.2%"},{"$f":"IFERROR(IF(DI36=\"-\",\"-\",IF(DI36=\"\",\"-\",IF(DI36/DH36=1,\"△\",IF(DI36/DH36>1,\"-（\"&ABS(ROUND(100*DI36/DH36-100,1))&\"％増）\",IF(DI36/DH36<1,\"○（\"&ABS(ROUND(100*DI36/DH36-100,1))&\"％減）\",\"\"))))),\"-\")","v":"-（224.3％増）"},{"$f":"IFERROR(IF(DH36=\"-\",\"-\",\"（\"&TEXT(DI36,\"#,###\")&\"-\"&TEXT(DH36,\"#,###\")&\"）/\"&TEXT(DH36,\"#,###\")&\"=\"&TEXT((DI36-DH36)/DH36*100,\"0.0\")&\"%\"),\"-\")","v":"（6,000-1,850）/1,850=224.3%"},{"$f":"IFERROR(IF(DK36=\"-\",\"-\",IF(DK36=\"\",\"-\",IF(DK36/DJ36=1,\"△\",IF(DK36/DJ36>1,\"-（\"&ABS(ROUND(100*DK36/DJ36-100,1))&\"％増）\",IF(DK36/DJ36<1,\"○（\"&ABS(ROUND(100*DK36/DJ36-100,1))&\"％減）\",\"\"))))),\"-\")","v":"-（94.6％増）"},{"$f":"IFERROR(IF(DJ36=\"-\",\"-\",\"（\"&TEXT(DK36,\"#,###\")&\"-\"&TEXT(DJ36,\"#,###\")&\"）/\"&TEXT(DJ36,\"#,###\")&\"=\"&TEXT((DK36-DJ36)/DJ36*100,\"0.0\")&\"%\"),\"-\")","v":"（3,600-1,850）/1,850=94.6%"},{"$f":"IFERROR(IF(DM36=\"-\",\"-\",IF(DM36=\"\",\"-\",IF(DM36/DL36=1,\"△\",IF(DM36/DL36>1,\"-（\"&ABS(ROUND(100*DM36/DL36-100,1))&\"％増）\",IF(DM36/DL36<1,\"○（\"&ABS(ROUND(100*DM36/DL36-100,1))&\"％減）\",\"\"))))),\"-\")","v":"-（27.3％増）"},{"$f":"IFERROR(IF(DL36=\"-\",\"-\",\"（\"&TEXT(DM36,\"#,###\")&\"-\"&TEXT(DL36,\"#,###\")&\"）/\"&TEXT(DL36,\"#,###\")&\"=\"&TEXT((DM36-DL36)/DL36*100,\"0.0\")&\"%\"),\"-\")","v":"（1,050-825）/825=27.3%"},{"$f":"IFERROR(IF(DO36=\"-\",\"-\",IF(DO36=\"\",\"-\",IF(DO36/DN36=1,\"△\",IF(DO36/DN36>1,\"-（\"&ABS(ROUND(100*DO36/DN36-100,1))&\"％増）\",IF(DO36/DN36<1,\"○（\"&ABS(ROUND(100*DO36/DN36-100,1))&\"％減）\",\"\"))))),\"-\")","v":"-（112.1％増）"},{"$f":"IFERROR(IF(DN36=\"-\",\"-\",\"（\"&TEXT(DO36,\"#,###\")&\"-\"&TEXT(DN36,\"#,###\")&\"）/\"&TEXT(DN36,\"#,###\")&\"=\"&TEXT((DO36-DN36)/DN36*100,\"0.0\")&\"%\"),\"-\")","v":"（2,100-990）/990=112.1%"},{"$f":"IFERROR(IF(DQ36=\"-\",\"-\",IF(DQ36=\"\",\"-\",IF(DQ36/DP36=1,\"△\",IF(DQ36/DP36>1,\"-（\"&ABS(ROUND(100*DQ36/DP36-100,1))&\"％増）\",IF(DQ36/DP36<1,\"○（\"&ABS(ROUND(100*DQ36/DP36-100,1))&\"％減）\",\"\"))))),\"-\")","v":"-（55.6％増）"},{"$f":"IFERROR(IF(DP36=\"-\",\"-\",\"（\"&TEXT(DQ36,\"#,###\")&\"-\"&TEXT(DP36,\"#,###\")&\"）/\"&TEXT(DP36,\"#,###\")&\"=\"&TEXT((DQ36-DP36)/DP36*100,\"0.0\")&\"%\"),\"-\")","v":"（1,050-675）/675=55.6%"},{"$f":"IFERROR(IF(DS36=\"-\",\"-\",IF(DS36=\"\",\"-\",IF(DS36/DR36=1,\"△\",IF(DS36/DR36>1,\"-（\"&ABS(ROUND(100*DS36/DR36-100,1))&\"％増）\",IF(DS36/DR36<1,\"○（\"&ABS(ROUND(100*DS36/DR36-100,1))&\"％減）\",\"\"))))),\"-\")","v":"-（86.7％増）"},{"$f":"IFERROR(IF(DR36=\"-\",\"-\",\"（\"&TEXT(DS36,\"#,###\")&\"-\"&TEXT(DR36,\"#,###\")&\"）/\"&TEXT(DR36,\"#,###\")&\"=\"&TEXT((DS36-DR36)/DR36*100,\"0.0\")&\"%\"),\"-\")","v":"（2,100-1,125）/1,125=86.7%"},{"$f":"IFERROR(IF(DU36=\"-\",\"-\",IF(DU36=\"\",\"-\",IF(DU36/DT36=1,\"△\",IF(DU36/DT36>1,\"-（\"&ABS(ROUND(100*DU36/DT36-100,1))&\"％増）\",IF(DU36/DT36<1,\"○（\"&ABS(ROUND(100*DU36/DT36-100,1))&\"％減）\",\"\"))))),\"-\")","v":"-（197.3％増）"},{"$f":"IFERROR(IF(DT36=\"-\",\"-\",\"（\"&TEXT(DU36,\"#,###\")&\"-\"&TEXT(DT36,\"#,###\")&\"）/\"&TEXT(DT36,\"#,###\")&\"=\"&TEXT((DU36-DT36)/DT36*100,\"0.0\")&\"%\"),\"-\")","v":"（5,500-1,850）/1,850=197.3%"},{"$f":"IFERROR(IF(DW36=\"-\",\"-\",IF(DW36=\"\",\"-\",IF(DW36/DV36=1,\"△\",IF(DW36/DV36>1,\"-（\"&ABS(ROUND(100*DW36/DV36-100,1))&\"％増）\",IF(DW36/DV36<1,\"○（\"&ABS(ROUND(100*DW36/DV36-100,1))&\"％減）\",\"\"))))),\"-\")","v":"-（197.3％増）"},{"$f":"IFERROR(IF(DV36=\"-\",\"-\",\"（\"&TEXT(DW36,\"#,###\")&\"-\"&TEXT(DV36,\"#,###\")&\"）/\"&TEXT(DV36,\"#,###\")&\"=\"&TEXT((DW36-DV36)/DV36*100,\"0.0\")&\"%\"),\"-\")","v":"（5,500-1,850）/1,850=197.3%"},{"$f":"IFERROR(IF(DY36=\"-\",\"-\",IF(DY36=\"\",\"-\",IF(DY36/DX36=1,\"△\",IF(DY36/DX36>1,\"-（\"&ABS(ROUND(100*DY36/DX36-100,1))&\"％増）\",IF(DY36/DX36<1,\"○（\"&ABS(ROUND(100*DY36/DX36-100,1))&\"％減）\",\"\"))))),\"-\")","v":"-（440.5％増）"},{"$f":"IFERROR(IF(DX36=\"-\",\"-\",\"（\"&TEXT(DY36,\"#,###\")&\"-\"&TEXT(DX36,\"#,###\")&\"）/\"&TEXT(DX36,\"#,###\")&\"=\"&TEXT((DY36-DX36)/DX36*100,\"0.0\")&\"%\"),\"-\")","v":"（10,000-1,850）/1,850=440.5%"},{"$f":"IFERROR(IF(EA36=\"-\",\"-\",IF(EA36=\"\",\"-\",IF(EA36/DZ36=1,\"△\",IF(EA36/DZ36>1,\"-（\"&ABS(ROUND(100*EA36/DZ36-100,1))&\"％増）\",IF(EA36/DZ36<1,\"○（\"&ABS(ROUND(100*EA36/DZ36-100,1))&\"％減）\",\"\"))))),\"-\")","v":"-（116.2％増）"},{"$f":"IFERROR(IF(DZ36=\"-\",\"-\",\"（\"&TEXT(EA36,\"#,###\")&\"-\"&TEXT(DZ36,\"#,###\")&\"）/\"&TEXT(DZ36,\"#,###\")&\"=\"&TEXT((EA36-DZ36)/DZ36*100,\"0.0\")&\"%\"),\"-\")","v":"（4,000-1,850）/1,850=116.2%"},{"$f":"IFERROR(IF(EC36=\"-\",\"-\",IF(EC36=\"\",\"-\",IF(EC36/EB36=1,\"△\",IF(EC36/EB36>1,\"-（\"&ABS(ROUND(100*EC36/EB36-100,1))&\"％増）\",IF(EC36/EB36<1,\"○（\"&ABS(ROUND(100*EC36/EB36-100,1))&\"％減）\",\"\"))))),\"-\")","v":"-（627.3％増）"},{"$f":"IFERROR(IF(EB36=\"-\",\"-\",\"（\"&TEXT(EC36,\"#,###\")&\"-\"&TEXT(EB36,\"#,###\")&\"）/\"&TEXT(EB36,\"#,###\")&\"=\"&TEXT((EC36-EB36)/EB36*100,\"0.0\")&\"%\"),\"-\")","v":"（6,000-825）/825=627.3%"},{"$f":"IFERROR(IF(EE36=\"-\",\"-\",IF(EE36=\"\",\"-\",IF(EE36/ED36=1,\"△\",IF(EE36/ED36>1,\"-（\"&ABS(ROUND(100*EE36/ED36-100,1))&\"％増）\",IF(EE36/ED36<1,\"○（\"&ABS(ROUND(100*EE36/ED36-100,1))&\"％減）\",\"\"))))),\"-\")","v":"-（809.1％増）"},{"$f":"IFERROR(IF(ED36=\"-\",\"-\",\"（\"&TEXT(EE36,\"#,###\")&\"-\"&TEXT(ED36,\"#,###\")&\"）/\"&TEXT(ED36,\"#,###\")&\"=\"&TEXT((EE36-ED36)/ED36*100,\"0.0\")&\"%\"),\"-\")","v":"（9,000-990）/990=809.1%"},{"$f":"IFERROR(IF(EG36=\"-\",\"-\",IF(EG36=\"\",\"-\",IF(EG36/EF36=1,\"△\",IF(EG36/EF36>1,\"-（\"&ABS(ROUND(100*EG36/EF36-100,1))&\"％増）\",IF(EG36/EF36<1,\"○（\"&ABS(ROUND(100*EG36/EF36-100,1))&\"％減）\",\"\"))))),\"-\")","v":"-（663.6％増）"},{"$f":"IFERROR(IF(EF36=\"-\",\"-\",\"（\"&TEXT(EG36,\"#,###\")&\"-\"&TEXT(EF36,\"#,###\")&\"）/\"&TEXT(EF36,\"#,###\")&\"=\"&TEXT((EG36-EF36)/EF36*100,\"0.0\")&\"%\"),\"-\")","v":"（6,300-825）/825=663.6%"},{"$f":"IFERROR(IF(EI36=\"-\",\"-\",IF(EI36=\"\",\"-\",IF(EI36/EH36=1,\"△\",IF(EI36/EH36>1,\"-（\"&ABS(ROUND(100*EI36/EH36-100,1))&\"％増）\",IF(EI36/EH36<1,\"○（\"&ABS(ROUND(100*EI36/EH36-100,1))&\"％減）\",\"\"))))),\"-\")","v":"-（960.6％増）"},{"$f":"IFERROR(IF(EH36=\"-\",\"-\",\"（\"&TEXT(EI36,\"#,###\")&\"-\"&TEXT(EH36,\"#,###\")&\"）/\"&TEXT(EH36,\"#,###\")&\"=\"&TEXT((EI36-EH36)/EH36*100,\"0.0\")&\"%\"),\"-\")","v":"（10,500-990）/990=960.6%"},{"$f":"IFERROR(IF(EK36=\"-\",\"-\",IF(EK36=\"\",\"-\",IF(EK36/EJ36=1,\"△\",IF(EK36/EJ36>1,\"-（\"&ABS(ROUND(100*EK36/EJ36-100,1))&\"％増）\",IF(EK36/EJ36<1,\"○（\"&ABS(ROUND(100*EK36/EJ36-100,1))&\"％減）\",\"\"))))),\"-\")","v":"-（410.8％増）"},{"$f":"IFERROR(IF(EJ36=\"-\",\"-\",\"（\"&TEXT(EK36,\"#,###\")&\"-\"&TEXT(EJ36,\"#,###\")&\"）/\"&TEXT(EJ36,\"#,###\")&\"=\"&TEXT((EK36-EJ36)/EJ36*100,\"0.0\")&\"%\"),\"-\")","v":"（9,450-1,850）/1,850=410.8%"},{"$f":"IFERROR(IF(EM36=\"-\",\"-\",IF(EM36=\"\",\"-\",IF(EM36/EL36=1,\"△\",IF(EM36/EL36>1,\"-（\"&ABS(ROUND(100*EM36/EL36-100,1))&\"％増）\",IF(EM36/EL36<1,\"○（\"&ABS(ROUND(100*EM36/EL36-100,1))&\"％減）\",\"\"))))),\"-\")","v":"-（263.6％増）"},{"$f":"IFERROR(IF(EL36=\"-\",\"-\",\"（\"&TEXT(EM36,\"#,###\")&\"-\"&TEXT(EL36,\"#,###\")&\"）/\"&TEXT(EL36,\"#,###\")&\"=\"&TEXT((EM36-EL36)/EL36*100,\"0.0\")&\"%\"),\"-\")","v":"（3,000-825）/825=263.6%"},{"$f":"IFERROR(IF(EO36=\"-\",\"-\",IF(EO36=\"\",\"-\",IF(EO36/EN36=1,\"△\",IF(EO36/EN36>1,\"-（\"&ABS(ROUND(100*EO36/EN36-100,1))&\"％増）\",IF(EO36/EN36<1,\"○（\"&ABS(ROUND(100*EO36/EN36-100,1))&\"％減）\",\"\"))))),\"-\")","v":"-（506.1％増）"},{"$f":"IFERROR(IF(EN36=\"-\",\"-\",\"（\"&TEXT(EO36,\"#,###\")&\"-\"&TEXT(EN36,\"#,###\")&\"）/\"&TEXT(EN36,\"#,###\")&\"=\"&TEXT((EO36-EN36)/EN36*100,\"0.0\")&\"%\"),\"-\")","v":"（6,000-990）/990=506.1%"},{"$f":"IFERROR(IF(EQ36=\"-\",\"-\",IF(EQ36=\"\",\"-\",IF(EQ36/EP36=1,\"△\",IF(EQ36/EP36>1,\"-（\"&ABS(ROUND(100*EQ36/EP36-100,1))&\"％増）\",IF(EQ36/EP36<1,\"○（\"&ABS(ROUND(100*EQ36/EP36-100,1))&\"％減）\",\"\"))))),\"-\")","v":"-（1112.1％増）"},{"$f":"IFERROR(IF(EP36=\"-\",\"-\",\"（\"&TEXT(EQ36,\"#,###\")&\"-\"&TEXT(EP36,\"#,###\")&\"）/\"&TEXT(EP36,\"#,###\")&\"=\"&TEXT((EQ36-EP36)/EP36*100,\"0.0\")&\"%\"),\"-\")","v":"（10,000-825）/825=1112.1%"},{"$f":"IFERROR(IF(ES36=\"-\",\"-\",IF(ES36=\"\",\"-\",IF(ES36/ER36=1,\"△\",IF(ES36/ER36>1,\"-（\"&ABS(ROUND(100*ES36/ER36-100,1))&\"％増）\",IF(ES36/ER36<1,\"○（\"&ABS(ROUND(100*ES36/ER36-100,1))&\"％減）\",\"\"))))),\"-\")","v":"-（2829.3％増）"},{"$f":"IFERROR(IF(ER36=\"-\",\"-\",\"（\"&TEXT(ES36,\"#,###\")&\"-\"&TEXT(ER36,\"#,###\")&\"）/\"&TEXT(ER36,\"#,###\")&\"=\"&TEXT((ES36-ER36)/ER36*100,\"0.0\")&\"%\"),\"-\")","v":"（29,000-990）/990=2829.3%"},{"$f":"IFERROR(IF(EU36=\"-\",\"-\",IF(EU36=\"\",\"-\",IF(EU36/ET36=1,\"△\",IF(EU36/ET36>1,\"-（\"&ABS(ROUND(100*EU36/ET36-100,1))&\"％増）\",IF(EU36/ET36<1,\"○（\"&ABS(ROUND(100*EU36/ET36-100,1))&\"％減）\",\"\"))))),\"-\")","v":"-（683.8％増）"},{"$f":"IFERROR(IF(ET36=\"-\",\"-\",\"（\"&TEXT(EU36,\"#,###\")&\"-\"&TEXT(ET36,\"#,###\")&\"）/\"&TEXT(ET36,\"#,###\")&\"=\"&TEXT((EU36-ET36)/ET36*100,\"0.0\")&\"%\"),\"-\")","v":"（14,500-1,850）/1,850=683.8%"},{"$f":"IFERROR(IF(EW36=\"-\",\"-\",IF(EW36=\"\",\"-\",IF(EW36/EV36=1,\"△\",IF(EW36/EV36>1,\"-（\"&ABS(ROUND(100*EW36/EV36-100,1))&\"％増）\",IF(EW36/EV36<1,\"○（\"&ABS(ROUND(100*EW36/EV36-100,1))&\"％減）\",\"\"))))),\"-\")","v":"-（1381.5％増）"},{"$f":"IFERROR(IF(EV36=\"-\",\"-\",\"（\"&TEXT(EW36,\"#,###\")&\"-\"&TEXT(EV36,\"#,###\")&\"）/\"&TEXT(EV36,\"#,###\")&\"=\"&TEXT((EW36-EV36)/EV36*100,\"0.0\")&\"%\"),\"-\")","v":"（10,000-675）/675=1381.5%"},{"$f":"IFERROR(IF(EY36=\"-\",\"-\",IF(EY36=\"\",\"-\",IF(EY36/EX36=1,\"△\",IF(EY36/EX36>1,\"-（\"&ABS(ROUND(100*EY36/EX36-100,1))&\"％増）\",IF(EY36/EX36<1,\"○（\"&ABS(ROUND(100*EY36/EX36-100,1))&\"％減）\",\"\"))))),\"-\")","v":"-（2477.8％増）"},{"$f":"IFERROR(IF(EX36=\"-\",\"-\",\"（\"&TEXT(EY36,\"#,###\")&\"-\"&TEXT(EX36,\"#,###\")&\"）/\"&TEXT(EX36,\"#,###\")&\"=\"&TEXT((EY36-EX36)/EX36*100,\"0.0\")&\"%\"),\"-\")","v":"（29,000-1,125）/1,125=2477.8%"},{"$f":"IFERROR(IF(FA36=\"-\",\"-\",IF(FA36=\"\",\"-\",IF(FA36/EZ36=1,\"△\",IF(FA36/EZ36>1,\"-（\"&ABS(ROUND(100*FA36/EZ36-100,1))&\"％増）\",IF(FA36/EZ36<1,\"○（\"&ABS(ROUND(100*FA36/EZ36-100,1))&\"％減）\",\"\"))))),\"-\")","v":"-（249.1％増）"},{"$f":"IFERROR(IF(EZ36=\"-\",\"-\",\"（\"&TEXT(FA36,\"#,###\")&\"-\"&TEXT(EZ36,\"#,###\")&\"）/\"&TEXT(EZ36,\"#,###\")&\"=\"&TEXT((FA36-EZ36)/EZ36*100,\"0.0\")&\"%\"),\"-\")","v":"（2,880-825）/825=249.1%"},{"$f":"IFERROR(IF(FC36=\"-\",\"-\",IF(FC36=\"\",\"-\",IF(FC36/FB36=1,\"△\",IF(FC36/FB36>1,\"-（\"&ABS(ROUND(100*FC36/FB36-100,1))&\"％増）\",IF(FC36/FB36<1,\"○（\"&ABS(ROUND(100*FC36/FB36-100,1))&\"％減）\",\"\"))))),\"-\")","v":"-（287.9％増）"},{"$f":"IFERROR(IF(FB36=\"-\",\"-\",\"（\"&TEXT(FC36,\"#,###\")&\"-\"&TEXT(FB36,\"#,###\")&\"）/\"&TEXT(FB36,\"#,###\")&\"=\"&TEXT((FC36-FB36)/FB36*100,\"0.0\")&\"%\"),\"-\")","v":"（3,840-990）/990=287.9%"},{"$f":"IFERROR(IF(FE36=\"-\",\"-\",IF(FE36=\"\",\"-\",IF(FE36/FD36=1,\"△\",IF(FE36/FD36>1,\"-（\"&ABS(ROUND(100*FE36/FD36-100,1))&\"％増）\",IF(FE36/FD36<1,\"○（\"&ABS(ROUND(100*FE36/FD36-100,1))&\"％減）\",\"\"))))),\"-\")","v":"-（326.7％増）"},{"$f":"IFERROR(IF(FD36=\"-\",\"-\",\"（\"&TEXT(FE36,\"#,###\")&\"-\"&TEXT(FD36,\"#,###\")&\"）/\"&TEXT(FD36,\"#,###\")&\"=\"&TEXT((FE36-FD36)/FD36*100,\"0.0\")&\"%\"),\"-\")","v":"（2,880-675）/675=326.7%"},{"$f":"IFERROR(IF(FG36=\"-\",\"-\",IF(FG36=\"\",\"-\",IF(FG36/FF36=1,\"△\",IF(FG36/FF36>1,\"-（\"&ABS(ROUND(100*FG36/FF36-100,1))&\"％増）\",IF(FG36/FF36<1,\"○（\"&ABS(ROUND(100*FG36/FF36-100,1))&\"％減）\",\"\"))))),\"-\")","v":"-（241.3％増）"},{"$f":"IFERROR(IF(FF36=\"-\",\"-\",\"（\"&TEXT(FG36,\"#,###\")&\"-\"&TEXT(FF36,\"#,###\")&\"）/\"&TEXT(FF36,\"#,###\")&\"=\"&TEXT((FG36-FF36)/FF36*100,\"0.0\")&\"%\"),\"-\")","v":"（3,840-1,125）/1,125=241.3%"},"／","／","／","／","／","／","／","／","／","／","／","／","／","／","／","／","／","／","／","／","／","／","／","／","／","／","／","／","／","／"]
[null,null,null,null,"工程",{"$f":"IFERROR(IF(G37=\"-\",\"-\",IF(G37=\"\",\"-\",IF(G37/F37=1,\"△\",IF(G37/F37>1,\"-（\"&ABS(ROUND(100*G37/F37-100,1))&\"％増）\",IF(G37/F37<1,\"○（\"&ABS(ROUND(100*G37/F37-100,1))&\"％減）\",\"\"))))),\"-\")","v":"○（37.2％減）"},{"$f":"IFERROR(IF(F37=\"-\",\"-\",\"（\"&TEXT(G37,\"##0.000\")&\"-\"&TEXT(F37,\"##0.000\")&\"）/\"&TEXT(F37,\"##0.000\")&\"=\"&TEXT((G37-F37)/F37*100,\"##0.0\")&\"%\"),\"-\")","v":"（0.208-0.332）/0.332=-37.2%"},{"$f":"IFERROR(IF(I37=\"-\",\"-\",IF(I37=\"\",\"-\",IF(I37/H37=1,\"△\",IF(I37/H37>1,\"-（\"&ABS(ROUND(100*I37/H37-100,1))&\"％増）\",IF(I37/H37<1,\"○（\"&ABS(ROUND(100*I37/H37-100,1))&\"％減）\",\"\"))))),\"-\")","v":"○（37.2％減）"},{"$f":"IFERROR(IF(H37=\"-\",\"-\",\"（\"&TEXT(I37,\"##0.000\")&\"-\"&TEXT(H37,\"##0.000\")&\"）/\"&TEXT(H37,\"##0.000\")&\"=\"&TEXT((I37-H37)/H37*100,\"##0.0\")&\"%\"),\"-\")","v":"（0.208-0.332）/0.332=-37.2%"},{"$f":"IFERROR(IF(K37=\"-\",\"-\",IF(K37=\"\",\"-\",IF(K37/J37=1,\"△\",IF(K37/J37>1,\"-（\"&ABS(ROUND(100*K37/J37-100,1))&\"％増）\",IF(K37/J37<1,\"○（\"&ABS(ROUND(100*K37/J37-100,1))&\"％減）\",\"\"))))),\"-\")","v":"○（43.2％減）"},{"$f":"IFERROR(IF(J37=\"-\",\"-\",\"（\"&TEXT(K37,\"##0.000\")&\"-\"&TEXT(J37,\"##0.000\")&\"）/\"&TEXT(J37,\"##0.000\")&\"=\"&TEXT((K37-J37)/J37*100,\"##0.0\")&\"%\"),\"-\")","v":"（0.189-0.332）/0.332=-43.2%"},{"$f":"IFERROR(IF(M37=\"-\",\"-\",IF(M37=\"\",\"-\",IF(M37/L37=1,\"△\",IF(M37/L37>1,\"-（\"&ABS(ROUND(100*M37/L37-100,1))&\"％増）\",IF(M37/L37<1,\"○（\"&ABS(ROUND(100*M37/L37-100,1))&\"％減）\",\"\"))))),\"-\")","v":"○（49.8％減）"},{"$f":"IFERROR(IF(L37=\"-\",\"-\",\"（\"&TEXT(M37,\"##0.000\")&\"-\"&TEXT(L37,\"##0.000\")&\"）/\"&TEXT(L37,\"##0.000\")&\"=\"&TEXT((M37-L37)/L37*100,\"##0.0\")&\"%\"),\"-\")","v":"（0.167-0.332）/0.332=-49.8%"},{"$f":"IFERROR(IF(O37=\"-\",\"-\",IF(O37=\"\",\"-\",IF(O37/N37=1,\"△\",IF(O37/N37>1,\"-（\"&ABS(ROUND(100*O37/N37-100,1))&\"％増）\",IF(O37/N37<1,\"○（\"&ABS(ROUND(100*O37/N37-100,1))&\"％減）\",\"\"))))),\"-\")","v":"○（43.2％減）"},{"$f":"IFERROR(IF(N37=\"-\",\"-\",\"（\"&TEXT(O37,\"##0.000\")&\"-\"&TEXT(N37,\"##0.000\")&\"）/\"&TEXT(N37,\"##0.000\")&\"=\"&TEXT((O37-N37)/N37*100,\"##0.0\")&\"%\"),\"-\")","v":"（0.189-0.332）/0.332=-43.2%"},{"$f":"IFERROR(IF(Q37=\"-\",\"-\",IF(Q37=\"\",\"-\",IF(Q37/P37=1,\"△\",IF(Q37/P37>1,\"-（\"&ABS(ROUND(100*Q37/P37-100,1))&\"％増）\",IF(Q37/P37<1,\"○（\"&ABS(ROUND(100*Q37/P37-100,1))&\"％減）\",\"\"))))),\"-\")","v":"△"},{"$f":"IFERROR(IF(P37=\"-\",\"-\",\"（\"&TEXT(Q37,\"##0.000\")&\"-\"&TEXT(P37,\"##0.000\")&\"）/\"&TEXT(P37,\"##0.000\")&\"=\"&TEXT((Q37-P37)/P37*100,\"##0.0\")&\"%\"),\"-\")","v":"（0.332-0.332）/0.332=0.0%"},{"$f":"IFERROR(IF(S37=\"-\",\"-\",IF(S37=\"\",\"-\",IF(S37/R37=1,\"△\",IF(S37/R37>1,\"-（\"&ABS(ROUND(100*S37/R37-100,1))&\"％増）\",IF(S37/R37<1,\"○（\"&ABS(ROUND(100*S37/R37-100,1))&\"％減）\",\"\"))))),\"-\")","v":"-（100.8％増）"},{"$f":"IFERROR(IF(R37=\"-\",\"-\",\"（\"&TEXT(S37,\"##0.000\")&\"-\"&TEXT(R37,\"##0.000\")&\"）/\"&TEXT(R37,\"##0.000\")&\"=\"&TEXT((S37-R37)/R37*100,\"##0.0\")&\"%\"),\"-\")","v":"（0.667-0.332）/0.332=100.8%"},{"$f":"IFERROR(IF(U37=\"-\",\"-\",IF(U37=\"\",\"-\",IF(U37/T37=1,\"△\",IF(U37/T37>1,\"-（\"&ABS(ROUND(100*U37/T37-100,1))&\"％増）\",IF(U37/T37<1,\"○（\"&ABS(ROUND(100*U37/T37-100,1))&\"％減）\",\"\"))))),\"-\")","v":"○（30.3％減）"},{"$f":"IFERROR(IF(T37=\"-\",\"-\",\"（\"&TEXT(U37,\"##0.000\")&\"-\"&TEXT(T37,\"##0.000\")&\"）/\"&TEXT(T37,\"##0.000\")&\"=\"&TEXT((U37-T37)/T37*100,\"##0.0\")&\"%\"),\"-\")","v":"（0.231-0.332）/0.332=-30.3%"},{"$f":"IFERROR(IF(W37=\"-\",\"-\",IF(W37=\"\",\"-\",IF(W37/V37=1,\"△\",IF(W37/V37>1,\"-（\"&ABS(ROUND(100*W37/V37-100,1))&\"％増）\",IF(W37/V37<1,\"○（\"&ABS(ROUND(100*W37/V37-100,1))&\"％減）\",\"\"))))),\"-\")","v":"○（30.3％減）"},{"$f":"IFERROR(IF(V37=\"-\",\"-\",\"（\"&TEXT(W37,\"##0.000\")&\"-\"&TEXT(V37,\"##0.000\")&\"）/\"&TEXT(V37,\"##0.000\")&\"=\"&TEXT((W37-V37)/V37*100,\"##0.0\")&\"%\"),\"-\")","v":"（0.231-0.332）/0.332=-30.3%"},{"$f":"IFERROR(IF(Y37=\"-\",\"-\",IF(Y37=\"\",\"-\",IF(Y37/X37=1,\"△\",IF(Y37/X37>1,\"-（\"&ABS(ROUND(100*Y37/X37-100,1))&\"％増）\",IF(Y37/X37<1,\"○（\"&ABS(ROUND(100*Y37/X37-100,1))&\"％減）\",\"\"))))),\"-\")","v":"○（57.8％減）"},{"$f":"IFERROR(IF(X37=\"-\",\"-\",\"（\"&TEXT(Y37,\"##0.000\")&\"-\"&TEXT(X37,\"##0.000\")&\"）/\"&TEXT(X37,\"##0.000\")&\"=\"&TEXT((Y37-X37)/X37*100,\"##0.0\")&\"%\"),\"-\")","v":"（0.140-0.332）/0.332=-57.8%"},{"$f":"IFERROR(IF(AA37=\"-\",\"-\",IF(AA37=\"\",\"-\",IF(AA37/Z37=1,\"△\",IF(AA37/Z37>1,\"-（\"&ABS(ROUND(100*AA37/Z37-100,1))&\"％増）\",IF(AA37/Z37<1,\"○（\"&ABS(ROUND(100*AA37/Z37-100,1))&\"％減）\",\"\"))))),\"-\")","v":"○（57.8％減）"},{"$f":"IFERROR(IF(Z37=\"-\",\"-\",\"（\"&TEXT(AA37,\"##0.000\")&\"-\"&TEXT(Z37,\"##0.000\")&\"）/\"&TEXT(Z37,\"##0.000\")&\"=\"&TEXT((AA37-Z37)/Z37*100,\"##0.0\")&\"%\"),\"-\")","v":"（0.140-0.332）/0.332=-57.8%"},"／","／","／","／","-",{"$f":"IFERROR(IF(AF37=\"-\",\"-\",\"（\"&TEXT(AG37,\"##0.000\")&\"-\"&TEXT(AF37,\"##0.000\")&\"）/\"&TEXT(AF37,\"##0.000\")&\"=\"&TEXT((AG37-AF37)/AF37*100,\"##0.0\")&\"%\"),\"-\")","v":"-"},"-",{"$f":"IFERROR(IF(AH37=\"-\",\"-\",\"（\"&TEXT(AI37,\"##0.000\")&\"-\"&TEXT(AH37,\"##0.000\")&\"）/\"&TEXT(AH37,\"##0.000\")&\"=\"&TEXT((AI37-AH37)/AH37*100,\"##0.0\")&\"%\"),\"-\")","v":"-"},"-",{"$f":"IFERROR(IF(AJ37=\"-\",\"-\",\"（\"&TEXT(AK37,\"##0.000\")&\"-\"&TEXT(AJ37,\"##0.000\")&\"）/\"&TEXT(AJ37,\"##0.000\")&\"=\"&TEXT((AK37-AJ37)/AJ37*100,\"##0.0\")&\"%\"),\"-\")","v":"-"},"-",{"$f":"IFERROR(IF(AL37=\"-\",\"-\",\"（\"&TEXT(AM37,\"##0.000\")&\"-\"&TEXT(AL37,\"##0.000\")&\"）/\"&TEXT(AL37,\"##0.000\")&\"=\"&TEXT((AM37-AL37)/AL37*100,\"##0.0\")&\"%\"),\"-\")","v":"-"},"-",{"$f":"IFERROR(IF(AN37=\"-\",\"-\",\"（\"&TEXT(AO37,\"##0.000\")&\"-\"&TEXT(AN37,\"##0.000\")&\"）/\"&TEXT(AN37,\"##0.000\")&\"=\"&TEXT((AO37-AN37)/AN37*100,\"##0.0\")&\"%\"),\"-\")","v":"-"},"-",{"$f":"IFERROR(IF(AP37=\"-\",\"-\",\"（\"&TEXT(AQ37,\"##0.000\")&\"-\"&TEXT(AP37,\"##0.000\")&\"）/\"&TEXT(AP37,\"##0.000\")&\"=\"&TEXT((AQ37-AP37)/AP37*100,\"##0.0\")&\"%\"),\"-\")","v":"-"},"-",{"$f":"IFERROR(IF(AR37=\"-\",\"-\",\"（\"&TEXT(AS37,\"##0.000\")&\"-\"&TEXT(AR37,\"##0.000\")&\"）/\"&TEXT(AR37,\"##0.000\")&\"=\"&TEXT((AS37-AR37)/AR37*100,\"##0.0\")&\"%\"),\"-\")","v":"-"},"-",{"$f":"IFERROR(IF(AT37=\"-\",\"-\",\"（\"&TEXT(AU37,\"##0.000\")&\"-\"&TEXT(AT37,\"##0.000\")&\"）/\"&TEXT(AT37,\"##0.000\")&\"=\"&TEXT((AU37-AT37)/AT37*100,\"##0.0\")&\"%\"),\"-\")","v":"-"},"-",{"$f":"IFERROR(IF(AV37=\"-\",\"-\",\"（\"&TEXT(AW37,\"##0.000\")&\"-\"&TEXT(AV37,\"##0.000\")&\"）/\"&TEXT(AV37,\"##0.000\")&\"=\"&TEXT((AW37-AV37)/AV37*100,\"##0.0\")&\"%\"),\"-\")","v":"-"},"-",{"$f":"IFERROR(IF(AX37=\"-\",\"-\",\"（\"&TEXT(AY37,\"##0.000\")&\"-\"&TEXT(AX37,\"##0.000\")&\"）/\"&TEXT(AX37,\"##0.000\")&\"=\"&TEXT((AY37-AX37)/AX37*100,\"##0.0\")&\"%\"),\"-\")","v":"-"},"-",{"$f":"IFERROR(IF(AZ37=\"-\",\"-\",\"（\"&TEXT(BA37,\"##0.000\")&\"-\"&TEXT(AZ37,\"##0.000\")&\"）/\"&TEXT(AZ37,\"##0.000\")&\"=\"&TEXT((BA37-AZ37)/AZ37*100,\"##0.0\")&\"%\"),\"-\")","v":"-"},"-",{"$f":"IFERROR(IF(BB37=\"-\",\"-\",\"（\"&TEXT(BC37,\"##0.000\")&\"-\"&TEXT(BB37,\"##0.000\")&\"）/\"&TEXT(BB37,\"##0.000\")&\"=\"&TEXT((BC37-BB37)/BB37*100,\"##0.0\")&\"%\"),\"-\")","v":"-"},"-",{"$f":"IFERROR(IF(BD37=\"-\",\"-\",\"（\"&TEXT(BE37,\"##0.000\")&\"-\"&TEXT(BD37,\"##0.000\")&\"）/\"&TEXT(BD37,\"##0.000\")&\"=\"&TEXT((BE37-BD37)/BD37*100,\"##0.0\")&\"%\"),\"-\")","v":"-"},"-",{"$f":"IFERROR(IF(BF37=\"-\",\"-\",\"（\"&TEXT(BG37,\"##0.000\")&\"-\"&TEXT(BF37,\"##0.000\")&\"）/\"&TEXT(BF37,\"##0.000\")&\"=\"&TEXT((BG37-BF37)/BF37*100,\"##0.0\")&\"%\"),\"-\")","v":"-"},"-",{"$f":"IFERROR(IF(BH37=\"-\",\"-\",\"（\"&TEXT(BI37,\"##0.000\")&\"-\"&TEXT(BH37,\"##0.000\")&\"）/\"&TEXT(BH37,\"##0.000\")&\"=\"&TEXT((BI37-BH37)/BH37*100,\"##0.0\")&\"%\"),\"-\")","v":"-"},"-",{"$f":"IFERROR(IF(BJ37=\"-\",\"-\",\"（\"&TEXT(BK37,\"##0.000\")&\"-\"&TEXT(BJ37,\"##0.000\")&\"）/\"&TEXT(BJ37,\"##0.000\")&\"=\"&TEXT((BK37-BJ37)/BJ37*100,\"##0.0\")&\"%\"),\"-\")","v":"-"},"-",{"$f":"IFERROR(IF(BL37=\"-\",\"-\",\"（\"&TEXT(BM37,\"##0.000\")&\"-\"&TEXT(BL37,\"##0.000\")&\"）/\"&TEXT(BL37,\"##0.000\")&\"=\"&TEXT((BM37-BL37)/BL37*100,\"##0.0\")&\"%\"),\"-\")","v":"-"},"-",{"$f":"IFERROR(IF(BN37=\"-\",\"-\",\"（\"&TEXT(BO37,\"##0.000\")&\"-\"&TEXT(BN37,\"##0.000\")&\"）/\"&TEXT(BN37,\"##0.000\")&\"=\"&TEXT((BO37-BN37)/BN37*100,\"##0.0\")&\"%\"),\"-\")","v":"-"},"-",{"$f":"IFERROR(IF(BP37=\"-\",\"-\",\"（\"&TEXT(BQ37,\"##0.000\")&\"-\"&TEXT(BP37,\"##0.000\")&\"）/\"&TEXT(BP37,\"##0.000\")&\"=\"&TEXT((BQ37-BP37)/BP37*100,\"##0.0\")&\"%\"),\"-\")","v":"-"},"-",{"$f":"IFERROR(IF(BR37=\"-\",\"-\",\"（\"&TEXT(BS37,\"##0.000\")&\"-\"&TEXT(BR37,\"##0.000\")&\"）/\"&TEXT(BR37,\"##0.000\")&\"=\"&TEXT((BS37-BR37)/BR37*100,\"##0.0\")&\"%\"),\"-\")","v":"-"},"-",{"$f":"IFERROR(IF(BT37=\"-\",\"-\",\"（\"&TEXT(BU37,\"##0.000\")&\"-\"&TEXT(BT37,\"##0.000\")&\"）/\"&TEXT(BT37,\"##0.000\")&\"=\"&TEXT((BU37-BT37)/BT37*100,\"##0.0\")&\"%\"),\"-\")","v":"-"},"-",{"$f":"IFERROR(IF(BV37=\"-\",\"-\",\"（\"&TEXT(BW37,\"##0.000\")&\"-\"&TEXT(BV37,\"##0.000\")&\"）/\"&TEXT(BV37,\"##0.000\")&\"=\"&TEXT((BW37-BV37)/BV37*100,\"##0.0\")&\"%\"),\"-\")","v":"-"},"-",{"$f":"IFERROR(IF(BX37=\"-\",\"-\",\"（\"&TEXT(BY37,\"##0.000\")&\"-\"&TEXT(BX37,\"##0.000\")&\"）/\"&TEXT(BX37,\"##0.000\")&\"=\"&TEXT((BY37-BX37)/BX37*100,\"##0.0\")&\"%\"),\"-\")","v":"-"},"-",{"$f":"IFERROR(IF(BZ37=\"-\",\"-\",\"（\"&TEXT(CA37,\"##0.000\")&\"-\"&TEXT(BZ37,\"##0.000\")&\"）/\"&TEXT(BZ37,\"##0.000\")&\"=\"&TEXT((CA37-BZ37)/BZ37*100,\"##0.0\")&\"%\"),\"-\")","v":"-"},"-",{"$f":"IFERROR(IF(CB37=\"-\",\"-\",\"（\"&TEXT(CC37,\"##0.000\")&\"-\"&TEXT(CB37,\"##0.000\")&\"）/\"&TEXT(CB37,\"##0.000\")&\"=\"&TEXT((CC37-CB37)/CB37*100,\"##0.0\")&\"%\"),\"-\")","v":"-"},"-",{"$f":"IFERROR(IF(CD37=\"-\",\"-\",\"（\"&TEXT(CE37,\"##0.000\")&\"-\"&TEXT(CD37,\"##0.000\")&\"）/\"&TEXT(CD37,\"##0.000\")&\"=\"&TEXT((CE37-CD37)/CD37*100,\"##0.0\")&\"%\"),\"-\")","v":"-"},"-",{"$f":"IFERROR(IF(CF37=\"-\",\"-\",\"（\"&TEXT(CG37,\"##0.000\")&\"-\"&TEXT(CF37,\"##0.000\")&\"）/\"&TEXT(CF37,\"##0.000\")&\"=\"&TEXT((CG37-CF37)/CF37*100,\"##0.0\")&\"%\"),\"-\")","v":"-"},"-",{"$f":"IFERROR(IF(CH37=\"-\",\"-\",\"（\"&TEXT(CI37,\"##0.000\")&\"-\"&TEXT(CH37,\"##0.000\")&\"）/\"&TEXT(CH37,\"##0.000\")&\"=\"&TEXT((CI37-CH37)/CH37*100,\"##0.0\")&\"%\"),\"-\")","v":"-"},"-",{"$f":"IFERROR(IF(CJ37=\"-\",\"-\",\"（\"&TEXT(CK37,\"##0.000\")&\"-\"&TEXT(CJ37,\"##0.000\")&\"）/\"&TEXT(CJ37,\"##0.000\")&\"=\"&TEXT((CK37-CJ37)/CJ37*100,\"##0.0\")&\"%\"),\"-\")","v":"-"},"-",{"$f":"IFERROR(IF(CL37=\"-\",\"-\",\"（\"&TEXT(CM37,\"##0.000\")&\"-\"&TEXT(CL37,\"##0.000\")&\"）/\"&TEXT(CL37,\"##0.000\")&\"=\"&TEXT((CM37-CL37)/CL37*100,\"##0.0\")&\"%\"),\"-\")","v":"-"},"-",{"$f":"IFERROR(IF(CN37=\"-\",\"-\",\"（\"&TEXT(CO37,\"##0.000\")&\"-\"&TEXT(CN37,\"##0.000\")&\"）/\"&TEXT(CN37,\"##0.000\")&\"=\"&TEXT((CO37-CN37)/CN37*100,\"##0.0\")&\"%\"),\"-\")","v":"-"},"-",{"$f":"IFERROR(IF(CP37=\"-\",\"-\",\"（\"&TEXT(CQ37,\"##0.000\")&\"-\"&TEXT(CP37,\"##0.000\")&\"）/\"&TEXT(CP37,\"##0.000\")&\"=\"&TEXT((CQ37-CP37)/CP37*100,\"##0.0\")&\"%\"),\"-\")","v":"-"},"-",{"$f":"IFERROR(IF(CR37=\"-\",\"-\",\"（\"&TEXT(CS37,\"##0.000\")&\"-\"&TEXT(CR37,\"##0.000\")&\"）/\"&TEXT(CR37,\"##0.000\")&\"=\"&TEXT((CS37-CR37)/CR37*100,\"##0.0\")&\"%\"),\"-\")","v":"-"},"-",{"$f":"IFERROR(IF(CT37=\"-\",\"-\",\"（\"&TEXT(CU37,\"##0.000\")&\"-\"&TEXT(CT37,\"##0.000\")&\"）/\"&TEXT(CT37,\"##0.000\")&\"=\"&TEXT((CU37-CT37)/CT37*100,\"##0.0\")&\"%\"),\"-\")","v":"-"},"-",{"$f":"IFERROR(IF(CV37=\"-\",\"-\",\"（\"&TEXT(CW37,\"##0.000\")&\"-\"&TEXT(CV37,\"##0.000\")&\"）/\"&TEXT(CV37,\"##0.000\")&\"=\"&TEXT((CW37-CV37)/CV37*100,\"##0.0\")&\"%\"),\"-\")","v":"-"},"-",{"$f":"IFERROR(IF(CX37=\"-\",\"-\",\"（\"&TEXT(CY37,\"##0.000\")&\"-\"&TEXT(CX37,\"##0.000\")&\"）/\"&TEXT(CX37,\"##0.000\")&\"=\"&TEXT((CY37-CX37)/CX37*100,\"##0.0\")&\"%\"),\"-\")","v":"-"},"-",{"$f":"IFERROR(IF(CZ37=\"-\",\"-\",\"（\"&TEXT(DA37,\"##0.000\")&\"-\"&TEXT(CZ37,\"##0.000\")&\"）/\"&TEXT(CZ37,\"##0.000\")&\"=\"&TEXT((DA37-CZ37)/CZ37*100,\"##0.0\")&\"%\"),\"-\")","v":"-"},"-",{"$f":"IFERROR(IF(DB37=\"-\",\"-\",\"（\"&TEXT(DC37,\"##0.000\")&\"-\"&TEXT(DB37,\"##0.000\")&\"）/\"&TEXT(DB37,\"##0.000\")&\"=\"&TEXT((DC37-DB37)/DB37*100,\"##0.0\")&\"%\"),\"-\")","v":"-"},"-",{"$f":"IFERROR(IF(DD37=\"-\",\"-\",\"（\"&TEXT(DE37,\"##0.000\")&\"-\"&TEXT(DD37,\"##0.000\")&\"）/\"&TEXT(DD37,\"##0.000\")&\"=\"&TEXT((DE37-DD37)/DD37*100,\"##0.0\")&\"%\"),\"-\")","v":"-"},"-",{"$f":"IFERROR(IF(DF37=\"-\",\"-\",\"（\"&TEXT(DG37,\"##0.000\")&\"-\"&TEXT(DF37,\"##0.000\")&\"）/\"&TEXT(DF37,\"##0.000\")&\"=\"&TEXT((DG37-DF37)/DF37*100,\"##0.0\")&\"%\"),\"-\")","v":"-"},"-",{"$f":"IFERROR(IF(DH37=\"-\",\"-\",\"（\"&TEXT(DI37,\"##0.000\")&\"-\"&TEXT(DH37,\"##0.000\")&\"）/\"&TEXT(DH37,\"##0.000\")&\"=\"&TEXT((DI37-DH37)/DH37*100,\"##0.0\")&\"%\"),\"-\")","v":"-"},"-",{"$f":"IFERROR(IF(DJ37=\"-\",\"-\",\"（\"&TEXT(DK37,\"##0.000\")&\"-\"&TEXT(DJ37,\"##0.000\")&\"）/\"&TEXT(DJ37,\"##0.000\")&\"=\"&TEXT((DK37-DJ37)/DJ37*100,\"##0.0\")&\"%\"),\"-\")","v":"-"},"-",{"$f":"IFERROR(IF(DL37=\"-\",\"-\",\"（\"&TEXT(DM37,\"##0.000\")&\"-\"&TEXT(DL37,\"##0.000\")&\"）/\"&TEXT(DL37,\"##0.000\")&\"=\"&TEXT((DM37-DL37)/DL37*100,\"##0.0\")&\"%\"),\"-\")","v":"-"},"-",{"$f":"IFERROR(IF(DN37=\"-\",\"-\",\"（\"&TEXT(DO37,\"##0.000\")&\"-\"&TEXT(DN37,\"##0.000\")&\"）/\"&TEXT(DN37,\"##0.000\")&\"=\"&TEXT((DO37-DN37)/DN37*100,\"##0.0\")&\"%\"),\"-\")","v":"-"},"-",{"$f":"IFERROR(IF(DP37=\"-\",\"-\",\"（\"&TEXT(DQ37,\"##0.000\")&\"-\"&TEXT(DP37,\"##0.000\")&\"）/\"&TEXT(DP37,\"##0.000\")&\"=\"&TEXT((DQ37-DP37)/DP37*100,\"##0.0\")&\"%\"),\"-\")","v":"-"},"-",{"$f":"IFERROR(IF(DR37=\"-\",\"-\",\"（\"&TEXT(DS37,\"##0.000\")&\"-\"&TEXT(DR37,\"##0.000\")&\"）/\"&TEXT(DR37,\"##0.000\")&\"=\"&TEXT((DS37-DR37)/DR37*100,\"##0.0\")&\"%\"),\"-\")","v":"-"},"-",{"$f":"IFERROR(IF(DT37=\"-\",\"-\",\"（\"&TEXT(DU37,\"##0.000\")&\"-\"&TEXT(DT37,\"##0.000\")&\"）/\"&TEXT(DT37,\"##0.000\")&\"=\"&TEXT((DU37-DT37)/DT37*100,\"##0.0\")&\"%\"),\"-\")","v":"-"},"-",{"$f":"IFERROR(IF(DV37=\"-\",\"-\",\"（\"&TEXT(DW37,\"##0.000\")&\"-\"&TEXT(DV37,\"##0.000\")&\"）/\"&TEXT(DV37,\"##0.000\")&\"=\"&TEXT((DW37-DV37)/DV37*100,\"##0.0\")&\"%\"),\"-\")","v":"-"},"-",{"$f":"IFERROR(IF(DX37=\"-\",\"-\",\"（\"&TEXT(DY37,\"##0.000\")&\"-\"&TEXT(DX37,\"##0.000\")&\"）/\"&TEXT(DX37,\"##0.000\")&\"=\"&TEXT((DY37-DX37)/DX37*100,\"##0.0\")&\"%\"),\"-\")","v":"-"},"-",{"$f":"IFERROR(IF(DZ37=\"-\",\"-\",\"（\"&TEXT(EA37,\"##0.000\")&\"-\"&TEXT(DZ37,\"##0.000\")&\"）/\"&TEXT(DZ37,\"##0.000\")&\"=\"&TEXT((EA37-DZ37)/DZ37*100,\"##0.0\")&\"%\"),\"-\")","v":"-"},"-",{"$f":"IFERROR(IF(EB37=\"-\",\"-\",\"（\"&TEXT(EC37,\"##0.000\")&\"-\"&TEXT(EB37,\"##0.000\")&\"）/\"&TEXT(EB37,\"##0.000\")&\"=\"&TEXT((EC37-EB37)/EB37*100,\"##0.0\")&\"%\"),\"-\")","v":"-"},"-",{"$f":"IFERROR(IF(ED37=\"-\",\"-\",\"（\"&TEXT(EE37,\"##0.000\")&\"-\"&TEXT(ED37,\"##0.000\")&\"）/\"&TEXT(ED37,\"##0.000\")&\"=\"&TEXT((EE37-ED37)/ED37*100,\"##0.0\")&\"%\"),\"-\")","v":"-"},"-",{"$f":"IFERROR(IF(EF37=\"-\",\"-\",\"（\"&TEXT(EG37,\"##0.000\")&\"-\"&TEXT(EF37,\"##0.000\")&\"）/\"&TEXT(EF37,\"##0.000\")&\"=\"&TEXT((EG37-EF37)/EF37*100,\"##0.0\")&\"%\"),\"-\")","v":"-"},"-",{"$f":"IFERROR(IF(EH37=\"-\",\"-\",\"（\"&TEXT(EI37,\"##0.000\")&\"-\"&TEXT(EH37,\"##0.000\")&\"）/\"&TEXT(EH37,\"##0.000\")&\"=\"&TEXT((EI37-EH37)/EH37*100,\"##0.0\")&\"%\"),\"-\")","v":"-"},"-",{"$f":"IFERROR(IF(EJ37=\"-\",\"-\",\"（\"&TEXT(EK37,\"##0.000\")&\"-\"&TEXT(EJ37,\"##0.000\")&\"）/\"&TEXT(EJ37,\"##0.000\")&\"=\"&TEXT((EK37-EJ37)/EJ37*100,\"##0.0\")&\"%\"),\"-\")","v":"-"},"-",{"$f":"IFERROR(IF(EL37=\"-\",\"-\",\"（\"&TEXT(EM37,\"##0.000\")&\"-\"&TEXT(EL37,\"##0.000\")&\"）/\"&TEXT(EL37,\"##0.000\")&\"=\"&TEXT((EM37-EL37)/EL37*100,\"##0.0\")&\"%\"),\"-\")","v":"-"},"-",{"$f":"IFERROR(IF(EN37=\"-\",\"-\",\"（\"&TEXT(EO37,\"##0.000\")&\"-\"&TEXT(EN37,\"##0.000\")&\"）/\"&TEXT(EN37,\"##0.000\")&\"=\"&TEXT((EO37-EN37)/EN37*100,\"##0.0\")&\"%\"),\"-\")","v":"-"},"-",{"$f":"IFERROR(IF(EP37=\"-\",\"-\",\"（\"&TEXT(EQ37,\"##0.000\")&\"-\"&TEXT(EP37,\"##0.000\")&\"）/\"&TEXT(EP37,\"##0.000\")&\"=\"&TEXT((EQ37-EP37)/EP37*100,\"##0.0\")&\"%\"),\"-\")","v":"-"},"-",{"$f":"IFERROR(IF(ER37=\"-\",\"-\",\"（\"&TEXT(ES37,\"##0.000\")&\"-\"&TEXT(ER37,\"##0.000\")&\"）/\"&TEXT(ER37,\"##0.000\")&\"=\"&TEXT((ES37-ER37)/ER37*100,\"##0.0\")&\"%\"),\"-\")","v":"-"},"-",{"$f":"IFERROR(IF(ET37=\"-\",\"-\",\"（\"&TEXT(EU37,\"##0.000\")&\"-\"&TEXT(ET37,\"##0.000\")&\"）/\"&TEXT(ET37,\"##0.000\")&\"=\"&TEXT((EU37-ET37)/ET37*100,\"##0.0\")&\"%\"),\"-\")","v":"-"},"-",{"$f":"IFERROR(IF(EV37=\"-\",\"-\",\"（\"&TEXT(EW37,\"##0.000\")&\"-\"&TEXT(EV37,\"##0.000\")&\"）/\"&TEXT(EV37,\"##0.000\")&\"=\"&TEXT((EW37-EV37)/EV37*100,\"##0.0\")&\"%\"),\"-\")","v":"-"},"-",{"$f":"IFERROR(IF(EX37=\"-\",\"-\",\"（\"&TEXT(EY37,\"##0.000\")&\"-\"&TEXT(EX37,\"##0.000\")&\"）/\"&TEXT(EX37,\"##0.000\")&\"=\"&TEXT((EY37-EX37)/EX37*100,\"##0.0\")&\"%\"),\"-\")","v":"-"},"-",{"$f":"IFERROR(IF(EZ37=\"-\",\"-\",\"（\"&TEXT(FA37,\"##0.000\")&\"-\"&TEXT(EZ37,\"##0.000\")&\"）/\"&TEXT(EZ37,\"##0.000\")&\"=\"&TEXT((FA37-EZ37)/EZ37*100,\"##0.0\")&\"%\"),\"-\")","v":"-"},"-",{"$f":"IFERROR(IF(FB37=\"-\",\"-\",\"（\"&TEXT(FC37,\"##0.000\")&\"-\"&TEXT(FB37,\"##0.000\")&\"）/\"&TEXT(FB37,\"##0.000\")&\"=\"&TEXT((FC37-FB37)/FB37*100,\"##0.0\")&\"%\"),\"-\")","v":"-"},"-",{"$f":"IFERROR(IF(FD37=\"-\",\"-\",\"（\"&TEXT(FE37,\"##0.000\")&\"-\"&TEXT(FD37,\"##0.000\")&\"）/\"&TEXT(FD37,\"##0.000\")&\"=\"&TEXT((FE37-FD37)/FD37*100,\"##0.0\")&\"%\"),\"-\")","v":"-"},"-",{"$f":"IFERROR(IF(FF37=\"-\",\"-\",\"（\"&TEXT(FG37,\"##0.000\")&\"-\"&TEXT(FF37,\"##0.000\")&\"）/\"&TEXT(FF37,\"##0.000\")&\"=\"&TEXT((FG37-FF37)/FF37*100,\"##0.0\")&\"%\"),\"-\")","v":"-"},"／","／","／","／","／","／","／","／","／","／","／","／","／","／","／","／","／","／","／","／","／","／","／","／","／","／","／","／","／","／"]
[null,null,null,null,"品質・出来形","△：従来技術と同程度",null,"△：従来技術と同程度",null,"△：従来技術と同程度",null,"△：従来技術と同程度",null,"△：従来技術と同程度",null,"○：土の含水率変化に対応した配合試験、キャリブレーションによる固化材添加量で改良するため、品質のバラツキが少ない。また、大きな含水率変化にも追従可能である。",null,"○：処理土は粒状を呈し、ハンドリングに優れており、かつ再泥化しない。",null,"△：従来技術と同程度",null,"△：従来技術と同程度",null,"△：従来技術と同程度",null,"△：従来技術と同程度",null,"／",null,"／",null,"△:従来技術と同程度。",null,"△:従来技術と同程度。",null,"△:従来技術と同程度。",null,"△:従来技術と同程度。",null,"△:従来技術と同程度。",null,"△:従来技術と同程度。",null,"○:繰り返し、固化反応をおこすため、改良土の再利用やストック後の再使用が可能。改良土の粒子がそれぞれ粒状化して安定するため再泥化しない。",null,"○:繰り返し、固化反応をおこすため、改良土の再利用やストック後の再使用が可能。改良土の粒子がそれぞれ粒状化して安定するため再泥化しない。",null,"○:改良土の粒子がそれぞれ粒状化して安定するため再泥化しない。",null,"○:改良土の粒子がそれぞれ粒状化して安定するため再泥化しない。",null,"○:改良盛土の再掘削、再盛土等が可能で再泥化しにくい。",null,"○:改良盛土の再掘削、再盛土等が可能で再泥化しにくい。",null,"○:改良盛土の再掘削、再盛土等が可能で再泥化しにくい。",null,"○:改良盛土の再掘削、再盛土等が可能で再泥化しにくい。",null,"○:乾湿繰返しに対する高い耐久性があり、破壊ひずみが大きく、変形係数が小さく、靱性が向上。",null,"○:乾湿繰返しに対する高い耐久性があり、破壊ひずみが大きく、変形係数が小さく、靱性が向上。",null,"○:乾湿繰返しに対する高い耐久性があり、破壊ひずみが大きく、変形係数が小さく、靱性が向上。",null,"○:乾湿繰返しに対する高い耐久性があり、破壊ひずみが大きく、変形係数が小さく、靱性が向上。",null,"○:無機吸水系の土質改良材であり、解きほぐした後でも、再度締固めることで強度が現れる。",null,"○:無機吸水系の土質改良材であり、解きほぐした後でも、再度締固めることで強度が現れる。",null,"○:無機吸水系の土質改良材であり、解きほぐした後でも、再度締固めることで強度が現れる。",null,"○:無機吸水系の土質改良材であり、解きほぐした後でも、再度締固めることで強度が現れる。",null,"○:反応が非常に早く、強度改善と共に粘性も改善される。",null,"○:反応が非常に早く、強度改善と共に粘性も改善される。",null,"○:反応が非常に早く、強度改善と共に粘性も改善される。",null,"○:反応が非常に早く、強度改善と共に粘性も改善される。",null,"△:従来技術と同程度。",null,"△:粒状固化処理によってpH濃度をアルカリ性に上げることが無い。",null,"△:従来技術と同程度。",null,"△:従来技術と同程度。",null,"△:従来技術と同程度。",null,"△:従来技術と同程度。",null,"△:従来技術と同程度。",null,"△:従来技術と同程度。",null,"△:従来技術と同程度。",null,"△:従来技術と同程度。",null,"△:従来技術と同程度。",null,"△:従来技術と同程度。",null,"△:従来技術と同程度。",null,"△:従来技術と同程度。",null,"△:従来技術と同程度。",null,"△:従来技術と同程度。",null,"△:従来技術と同程度。",null,"△:従来技術と同程度。",null,"△:従来技術と同程度。",null,"△:従来技術と同程度。",null,"○:セレンを含む複合汚染土において、従来のセメント系固化材では不溶化が困難である問題に対し、効果的な不溶化が得られる。",null,"○:セレンを含む複合汚染土において、従来のセメント系固化材では不溶化が困難である問題に対し、効果的な不溶化が得られる。",null,"△:従来技術と同程度。",null,"△:従来技術と同程度。",null,"△:従来技術と同程度。",null,"△:従来技術と同程度。",null,"△:従来技術と同程度。",null,"△:従来技術と同程度。",null,"△:従来技術と同程度。",null,"△:従来技術（セメント系固化材）と同程度。",null,"△:従来技術（セメント系固化材）と同程度。",null,"△:従来技術と同程度",null,"△:従来技術と同程度",null,"△:従来技術と同程度",null,"△:従来技術と同程度",null,"△:従来技術と同程度",null,"△:従来技術と同程度。",null,"△:従来技術と同程度。",null,"△:従来技術と同程度。",null,"△:従来技術と同程度。",null,"／",null,"／",null,"／",null,"／",null,"／",null,"／",null,"／",null,"／",null,"／",null,"／",null,"／",null,"／",null,"／",null,"／",null,"／"]
[null,null,null,null,"安全性","△：従来技術と同程度",null,"△：従来技術と同程度",null,"△：従来技術と同程度",null,"△：従来技術と同程度",null,"△：従来技術と同程度",null,"△：従来技術と同程度",null,"△：従来技術（自走式土質改良機）と同程度",null,"△：従来技術と同程度",null,"△：従来技術と同程度",null,"△：従来技術と同程度",null,"△：従来技術と同程度",null,"／",null,"／",null,"△:従来技術と同程度。",null,"△:従来技術と同程度。",null,"○:本材料は発熱が殆ど無い",null,"○:本材料は発熱が殆ど無い",null,"△:従来技術と同程度。",null,"△:従来技術と同程度。",null,"△:従来技術と同程度。",null,"△:従来技術と同程度。",null,"△:従来技術と同程度。",null,"△:従来技術と同程度。",null,"△:従来技術と同程度。",null,"△:従来技術と同程度。",null,"△:従来技術と同程度。",null,"△:従来技術と同程度。",null,"△:従来技術と同程度。",null,"△:従来技術と同程度。",null,"△:従来技術と同程度。",null,"△:従来技術と同程度。",null,"△:従来技術と同程度。",null,"△:従来技術と同程度。",null,"○:材料はセラミックであるため、化学的反応（発熱）はほとんど無い。",null,"○:材料はセラミックであるため、化学的反応（発熱）はほとんど無い。",null,"△:従来技術と同程度。",null,"△:従来技術と同程度。",null,"○:処理に伴う発熱および臭気の発生がない。",null,"○:処理に伴う発熱および臭気の発生がない。",null,"△:従来技術と同程度。",null,"△:従来技術と同程度。",null,"△:従来技術と同程度。",null,"△:従来技術と同程度。",null,"△:従来技術と同程度。",null,"△:従来技術と同程度。",null,"△:従来技術と同程度。",null,"△:従来技術と同程度。",null,"△:従来技術と同程度。",null,"△:従来技術と同程度。",null,"△:従来技術と同程度。",null,"△:従来技術と同程度。",null,"△:従来技術と同程度。",null,"△:従来技術と同程度。",null,"△:従来技術と同程度。",null,"△:従来技術と同程度。",null,"△:従来技術と同程度。",null,"△:従来技術と同程度。",null,"△:従来技術と同程度。",null,"△:従来技術と同程度。",null,"△:従来技術と同程度。",null,"△:従来技術と同程度。",null,"△:従来技術と同程度。",null,"△:従来技術と同程度。",null,"○:水和熱が発生せず、pH値が中性域であるため、安全に作業できる",null,"○:水和熱が発生せず、pH値が中性域であるため、安全に作業できる",null,"○:水和熱が発生せず、pH値が中性域であるため、安全に作業できる。",null,"○:水和熱が発生せず、pH値が中性域であるため、安全に作業できる。",null,"○:水和熱が発生せず、pH値が中性域であるため、安全に作業できる。",null,"△:従来技術（セメント系固化材）と同程度。",null,"△:従来技術（セメント系固化材）と同程度。",null,"○:pHが中性域のため、安全に作業できる",null,"○:pHが中性域のため、安全に作業できる",null,"○:pHが中性域のため、安全に作業できる",null,"○:pHが中性域のため、安全に作業できる",null,"○:pHが中性域のため、安全に作業できる",null,"△:従来技術と同程度。",null,"△:従来技術と同程度。",null,"△:従来技術と同程度。",null,"△:従来技術と同程度。",null,"／",null,"／",null,"／",null,"／",null,"／",null,"／",null,"／",null,"／",null,"／",null,"／",null,"／",null,"／",null,"／",null,"／",null,"／"]
[null,null,null,null,"施工性","-：定置式のプラント方式であるため専有面積が従来技術（自走式土質改良機）より大きい",null,"-：定置式のプラント方式であるため専有面積が従来技術（自走式土質改良機）より大きい",null,"-：定置式のプラント方式であるため専有面積が従来技術（自走式土質改良機）より大きい",null,"-：定置式のプラント方式であるため専有面積が従来技術（自走式土質改良機）より大きい",null,"-：定置式のプラント方式であるため専有面積が従来技術（自走式土質改良機）より大きい",null,"△：従来技術と同程度",null,"－：定置式のプラント方式であるため専有面積が従来技術（自走式土質改良機）より大きい",null,"〇：付着防止装置を装備したことにより、付着物除去作業をプラント稼働しながらできるため優れる。",null,"〇：付着防止装置を装備したことにより、付着物除去作業をプラント稼働しながらできるため優れる。",null,"△：従来技術と同程度",null,"△：従来技術と同程度",null,"／",null,"／",null,"△:従来技術と同程度。",null,"△:従来技術と同程度。",null,"△:従来技術と同程度。",null,"△:従来技術と同程度。",null,"△:従来技術と同程度。",null,"△:従来技術と同程度。",null,"△:従来技術と同程度。",null,"△:従来技術と同程度。",null,"△:従来技術と同程度。",null,"△:従来技術と同程度。",null,"△:従来技術と同程度。",null,"△:従来技術と同程度。",null,"△:従来技術と同程度。",null,"△:従来技術と同程度。",null,"△:従来技術と同程度。",null,"△:従来技術と同程度。",null,"△:従来技術と同程度。",null,"△:従来技術と同程度。",null,"△:従来技術と同程度。",null,"△:従来技術と同程度。",null,"△:従来技術と同程度。",null,"△:従来技術と同程度。",null,"△:従来技術と同程度。",null,"△:従来技術と同程度。",null,"△:従来技術と同程度。",null,"△:従来技術と同程度。",null,"△:従来技術と同程度。",null,"△:硬化までの時聞が短く、汚泥の固化処理工程を続けて行うことができる。",null,"△:従来技術と同程度。",null,"△:従来技術と同程度。",null,"△:従来技術と同程度。",null,"△:従来技術と同程度。",null,"△:従来技術と同程度。",null,"△:従来技術と同程度。",null,"△:従来技術と同程度。",null,"△:従来技術と同程度。",null,"△:従来技術と同程度。",null,"△:従来技術と同程度。",null,"△:従来技術と同程度。",null,"△:従来技術と同程度。",null,"△:従来技術と同程度。",null,"△:従来技術と同程度。",null,"△:従来技術と同程度。",null,"△:従来技術と同程度。",null,"△:従来技術と同程度。",null,"△:従来技術と同程度。",null,"△:従来技術と同程度。",null,"△:従来技術と同程度。",null,"△:従来技術と同程度。",null,"△:従来技術と同程度。",null,"△:従来技術と同程度。",null,"△:従来技術と同程度。",null,"○:ポリマー成分を用いることで改質後pHがほぼ変化せず養生期間も不要となり施工性が向上する。",null,"○:ポリマー成分を用いることで改質後pHがほぼ変化せず養生期間も不要となり施工性が向上する。",null,"○:ポリマー成分を用いることで改質後pHがほぼ変化せず養生期間も不要となり施工性が向上する。",null,"○:早期に運搬可能な状態になるため。",null,"○:早期に運搬可能な状態になるため。",null,"〇:早期に改質できるため、養生せずにすぐに改良土を搬出可能",null,"〇:早期に改質できるため、養生せずにすぐに改良土を搬出可能",null,"〇:早期に改質できるため、養生せずにすぐに改良土を搬出可能",null,"〇:早期に改質できるため、養生せずにすぐに改良土を搬出可能",null,"〇:早期に改質できるため、養生せずにすぐに改良土を搬出可能",null,"〇:吸水性能と固化性能を併せ持っており、低添加でも高含水泥土や軟弱土の改良が可能。",null,"〇:吸水性能と固化性能を併せ持っており、低添加でも高含水泥土や軟弱土の改良が可能。",null,"〇:吸水性能と固化性能を併せ持っており、低添加でも高含水泥土や軟弱土の改良が可能。",null,"〇:吸水性能と固化性能を併せ持っており、低添加でも高含水泥土や軟弱土の改良が可能。",null,"／",null,"／",null,"／",null,"／",null,"／",null,"／",null,"／",null,"／",null,"／",null,"／",null,"／",null,"／",null,"／",null,"／",null,"／"]
[null,null,null,null,"環境","△：従来技術と同程度",null,"△：従来技術と同程度",null,"△：従来技術と同程度",null,"△：従来技術と同程度",null,"△：従来技術と同程度",null,"△：従来技術と同程度",null,"○：要求品質に対して柔軟な対応が可能であり、六価クロム対応型の固化材、中性および弱アルカリ性の固化材を選定可能である。",null,"△：従来技術と同程度",null,"△：従来技術と同程度",null,"△：従来技術と同程度",null,"△：従来技術と同程度",null,"／",null,"／",null,"○:六価クロム等の重金属類の溶出はない。",null,"○:六価クロム等の重金属類の溶出はない。",null,"△:従来技術と同程度。",null,"△:従来技術と同程度。",null,"○:六価クロム等の有害物質に対する安全性は確保されている。粒状材料であるため、粉塵飛散は抑制される。",null,"○:粒状材料であるため、粉塵飛散は抑制される。",null,"○:セメント不含有のため、六価クロム溶出試験に該当しない。",null,"○:セメント不含有のため、六価クロム溶出試験に該当しない。",null,"△:従来技術と同程度。",null,"△:従来技術と同程度。",null,"○:六価クロムについては、改良土からは異常数値は出ない（環境基準値以下）。",null,"○:六価クロムについては、改良土からは異常数値は出ない（環境基準値以下）。",null,"△:従来技術と同程度。",null,"△:従来技術と同程度。",null,"△:従来技術と同程度。",null,"△:従来技術と同程度。",null,"△:従来技術と同程度。",null,"△:従来技術と同程度。",null,"○:六価クロム等の濃度は「土壌の汚染に係わる環境基準について」を満たしている。",null,"○:六価クロム等の濃度は「土壌の汚染に係わる環境基準について」を満たしている。",null,"△:従来技術と同程度。",null,"△:従来技術と同程度。",null,"○:改良材のｐＨは中性。改良材には特定有害物質を含まない。",null,"○:改良材のｐＨは中性。改良材には特定有害物質を含まない。",null,"○:改良材のｐＨは中性。",null,"○:改良材のｐＨは中性。",null,"○:非セメン卜系の中性固化材（石膏系）のため、六価クロムに関する悪影響がない。",null,"○:非セメン卜系の中性固化材（石膏系）のため、六価クロムに関する悪影響がない。",null,"○:非セメン卜系の中性固化材である。",null,"○:非セメン卜系の中性固化材である。",null,"〇:改良土のｐHは中性である。",null,"〇:改良土のｐHは中性である。",null,"〇:改良土のｐHは中性～弱アルカリ性となる。",null,"〇:改良土のｐHは中性～弱アルカリ性となる。",null,"〇:改良土のｐHは中性～弱アルカリ性で調整可能。",null,"〇:改良土のｐHは中性～弱アルカリ性で調整可能。",null,"〇:改良土のｐHは中性～弱アルカリ性で調整可能。",null,"〇:改良土のｐHは中性～弱アルカリ性で調整可能。",null,"〇:改良土のｐHは中性～弱アルカリ性で調整可能。",null,"〇:改良土のｐHは中性～弱アルカリ性で調整可能。",null,"○:改良土のｐHは中性～弱アルカリ性となる（ｐH9程度）。",null,"○:改良土のｐHは中性～弱アルカリ性となる（ｐH9程度）。",null,"〇:石灰系であるため、六価クロムの溶出はなく、中性域（pH5.0～pH9.0）であるため、ｐHに影響を与えない。",null,"〇:石灰系であるため、六価クロムの溶出はなく、中性域（pH5.0～pH9.0）であるため、ｐHに影響を与えない。",null,"〇:改良土のpHを中性域（pH5.0～pH9.0）に保つ。",null,"〇:改良土のpHを中性域（pH5.0～pH9.0）に保つ。",null,"○:改良土のｐＨは弱アルカリである。",null,"○:改良土のｐＨは弱アルカリである。",null,"○:改良土のpHは中性である。",null,"○:改良土のpHは中性である。",null,"○:改良材のｐHは中性。改良材には特定有害物質を含まない。",null,"○:改良材のｐHは中性。改良材には特定有害物質を含まない。",null,"○:有害物質を一切含んでない。",null,"○:有害物質を一切含んでない。",null,"○:有害物質を一切含んでない。",null,"△:従来技術（セメント系固化材）と同程度。",null,"△:従来技術（セメント系固化材）と同程度。",null,"○:pHが環境溶出基準値（5.8～8.6）に納まる材料であるため",null,"○:pHが環境溶出基準値（5.8～8.6）に納まる材料であるため",null,"○:pHが環境溶出基準値（5.8～8.6）に納まる材料であるため",null,"○:pHが環境溶出基準値（5.8～8.6）に納まる材料であるため",null,"○:pHが環境溶出基準値（5.8～8.6）に納まる材料であるため",null,"△:従来技術と同程度。",null,"△:従来技術と同程度。",null,"△:従来技術と同程度。",null,"△:従来技術と同程度。",null,"／",null,"／",null,"／",null,"／",null,"／",null,"／",null,"／",null,"／",null,"／",null,"／",null,"／",null,"／",null,"／",null,"／",null,"／"]
[null,"⑰","九州のフィールドへの適応性","過去3ヶ年の活用件数","国土交通省","25件（九州で12件）：",null,"25件（九州で12件）：",null,"25件（九州で12件）：",null,"25件（九州で12件）：",null,"25件（九州で12件）：",null,"25件（九州で12件）：",null,"25件（九州で12件）：",null,"0件（九州で0件）：",null,"0件（九州で0件）：",null,"11件（九州で0件）：",null,"11件（九州で0件）：",null,"／",null,"／",null,"2件（九州で0件）",null,"2件（九州で0件）",null,"2件（九州で0件）",null,"2件（九州で0件）",null,"3件（九州で0件）",null,"3件（九州で0件）",null,"20件（九州で0件）",null,"20件（九州で0件）",null,"20件（九州で0件）",null,"20件（九州で0件）",null,"5件（九州で0件）",null,"5件（九州で0件）",null,"5件（九州で0件）",null,"5件（九州で0件）",null,"15件（九州で0件）",null,"15件（九州で0件）",null,"15件（九州で0件）",null,"15件（九州で0件）",null,"7件（九州で1件）",null,"7件（九州で1件）",null,"7件（九州で1件）",null,"7件（九州で1件）",null,"0件（九州で0件）",null,"0件（九州で0件）",null,"0件（九州で0件）",null,"0件（九州で0件）",null,"0件（九州で0件）",null,"0件（九州で0件）",null,"0件（九州で0件）",null,"0件（九州で0件）",null,"0件（九州で0件）",null,"0件（九州で0件）",null,"0件（九州で0件）",null,"0件（九州で0件）",null,"0件（九州で0件）",null,"0件（九州で0件）",null,"0件（九州で0件）",null,"0件（九州で0件）",null,"0件（九州で0件）",null,"0件（九州で0件）",null,"0件（九州で0件）",null,"0件（九州で0件）",null,"0件（九州で0件）",null,"0件（九州で0件）",null,"0件（九州で0件）",null,"0件（九州で0件）",null,"0件（九州で0件）",null,"0件（九州で0件）",null,"0件（九州で0件）",null,"0件（九州で0件）",null,"0件（九州で0件）",null,"0件（九州で0件）",null,"0件（九州で0件）",null,"0件（九州で0件）",null,"0件（九州で0件）",null,"0件（九州で0件）",null,"0件（九州で0件）",null,"0件（九州で0件）",null,"0件（九州で0件）",null,"0件（九州で0件）",null,"0件（九州で0件）",null,"0件（九州で0件）",null,"0件（九州で0件）",null,"0件（九州で0件）",null,"0件（九州で0件）",null,"0件（九州で0件）",null,"／",null,"／",null,"／",null,"／",null,"／",null,"／",null,"／",null,"／",null,"／",null,"／",null,"／",null,"／",null,"／",null,"／",null,"／"]
[null,null,null,null,"地方自治体","0件（九州で0件）",null,"0件（九州で0件）",null,"1件（九州で0件）",null,"1件（九州で0件）",null,"1件（九州で0件）",null,"330件（九州で0件）",null,"7件（九州で1件）",null,"0件（九州で0件）",null,"0件（九州で0件）",null,"34件（九州で0件）",null,"34件（九州で0件）",null,"／",null,"／",null,"193件（九州で2件）",null,"193件（九州で2件）",null,"193件（九州で2件）",null,"193件（九州で2件）",null,"32件（九州で0件）",null,"32件（九州で0件）",null,"300件（九州で0件）",null,"300件（九州で0件）",null,"300件（九州で0件）",null,"300件（九州で0件）",null,"未回答",null,"未回答",null,"未回答",null,"未回答",null,"430件（九州で8件）",null,"430件（九州で8件）",null,"430件（九州で8件）",null,"430件（九州で8件）",null,"94件（九州で0件）",null,"94件（九州で0件）",null,"94件（九州で0件）",null,"94件（九州で0件）",null,"5件（九州で0件）",null,"5件（九州で0件）",null,"5件（九州で0件）",null,"5件（九州で0件）",null,"未回答",null,"未回答",null,"未回答",null,"未回答",null,"0件（九州で0件）",null,"0件（九州で0件）",null,"未回答",null,"未回答",null,"50件（九州で件）",null,"50件（九州で件）",null,"50件（九州で件）",null,"50件（九州で件）",null,"50件（九州で件）",null,"50件（九州で件）",null,"0件（九州で0件）",null,"0件（九州で0件）",null,"600件（九州で５件）",null,"600件（九州で５件）",null,"600件（九州で５件）",null,"600件（九州で５件）",null,"2件（九州で1件）",null,"2件（九州で1件）",null,"-",null,"-",null,"0件（九州で0件）",null,"0件（九州で0件）",null,"1件（九州で0件）",null,"1件（九州で0件）",null,"1件（九州で0件）",null,"0件（九州で0件）",null,"0件（九州で0件）",null,"1件（九州で0件）",null,"1件（九州で0件）",null,"1件（九州で0件）",null,"1件（九州で0件）",null,"1件（九州で0件）",null,"5件（九州で0件）",null,"5件（九州で0件）",null,"5件（九州で0件）",null,"5件（九州で0件）",null,"／",null,"／",null,"／",null,"／",null,"／",null,"／",null,"／",null,"／",null,"／",null,"／",null,"／",null,"／",null,"／",null,"／",null,"／"]
[null,null,null,null,"その他","0件（九州で0件）",null,"0件（九州で0件）",null,"0件（九州で0件）",null,"0件（九州で0件）",null,"0件（九州で0件）",null,"20件（九州で0件）",null,"3件（九州で0件）",null,"0件（九州で0件）",null,"0件（九州で0件）",null,"0件（九州で0件）",null,"0件（九州で0件）",null,"／",null,"／",null,"111件（九州で8件）",null,"111件（九州で8件）",null,"111件（九州で8件）",null,"111件（九州で8件）",null,"26件（九州で0件）",null,"26件（九州で0件）",null,"65件（九州で0件）",null,"65件（九州で0件）",null,"65件（九州で0件）",null,"65件（九州で0件）",null,"未回答",null,"未回答",null,"未回答",null,"未回答",null,"52件（九州で0件）",null,"52件（九州で0件）",null,"52件（九州で0件）",null,"52件（九州で0件）",null,"80件（九州で2件）",null,"80件（九州で2件）",null,"80件（九州で2件）",null,"80件（九州で2件）",null,"3件（九州で2件）",null,"3件（九州で2件）",null,"3件（九州で2件）",null,"3件（九州で2件）",null,"未回答",null,"未回答",null,"未回答",null,"未回答",null,"0件（九州で0件）",null,"0件（九州で0件）",null,"未回答",null,"未回答",null,"100件（九州で件）",null,"100件（九州で件）",null,"100件（九州で件）",null,"100件（九州で件）",null,"100件（九州で件）",null,"100件（九州で件）",null,"0件（九州で0件）",null,"0件（九州で0件）",null,"1100件（九州で5件）",null,"1100件（九州で5件）",null,"1100件（九州で5件）",null,"1100件（九州で5件）",null,"13件（九州で0件）",null,"13件（九州で0件）",null,"-",null,"-",null,"2件（九州で0件）",null,"2件（九州で0件）",null,"12件（九州で10件）",null,"12件（九州で10件）",null,"12件（九州で10件）",null,"0件（九州で0件）",null,"0件（九州で0件）",null,"9件（九州で0件）",null,"9件（九州で0件）",null,"9件（九州で0件）",null,"9件（九州で0件）",null,"9件（九州で0件）",null,"2件（九州で0件）",null,"2件（九州で0件）",null,"2件（九州で0件）",null,"2件（九州で0件）",null,"／",null,"／",null,"／",null,"／",null,"／",null,"／",null,"／",null,"／",null,"／",null,"／",null,"／",null,"／",null,"／",null,"／",null,"／"]
[null,"⑱",null,"九州管内での活用市町村（直轄工事活用分のみ）",null,"-",null,"-",null,"飯塚市、直方市、久留米市、大刀洗町、朝倉市、鳥栖市、相良村、球磨村",null,"飯塚市、直方市、久留米市、大刀洗町、朝倉市、鳥栖市、相良村、球磨村",null,"飯塚市、直方市、久留米市、大刀洗町、朝倉市、鳥栖市、相良村、球磨村",null,"-",null,"大分県豊後高田市",null,"-",null,"-",null,"-",null,"-",null,"／",null,"／",null,"熊本県熊本市、宮崎県日南市",null,"熊本県熊本市、宮崎県日南市",null,"熊本県熊本市、宮崎県日南市",null,"熊本県熊本市、宮崎県日南市",null,"大分県中津市、熊本県八代市",null,"大分県中津市、熊本県八代市",null,"-",null,"-",null,"-",null,"-",null,"未回答",null,"未回答",null,"未回答",null,"未回答",null,"福岡県みやこ町、大分県佐伯市、佐賀県小城市、鹿児島県鹿児島市",null,"福岡県みやこ町、大分県佐伯市、佐賀県小城市、鹿児島県鹿児島市",null,"福岡県みやこ町、大分県佐伯市、佐賀県小城市、鹿児島県鹿児島市",null,"福岡県みやこ町、大分県佐伯市、佐賀県小城市、鹿児島県鹿児島市",null,"大分県(芦屋、湯布院)、佐賀県(杵島郡、神埼市)、宮崎県(延岡市)、長崎県(島原市)、鹿児島県(南さつま市、薩摩郡)、熊本県(八代市)",null,"大分県(芦屋、湯布院)、佐賀県(杵島郡、神埼市)、宮崎県(延岡市)、長崎県(島原市)、鹿児島県(南さつま市、薩摩郡)、熊本県(八代市)",null,"大分県(芦屋、湯布院)、佐賀県(杵島郡、神埼市)、宮崎県(延岡市)、長崎県(島原市)、鹿児島県(南さつま市、薩摩郡)、熊本県(八代市)",null,"大分県(芦屋、湯布院)、佐賀県(杵島郡、神埼市)、宮崎県(延岡市)、長崎県(島原市)、鹿児島県(南さつま市、薩摩郡)、熊本県(八代市)",null,"-",null,"-",null,"-",null,"-",null,"未回答",null,"未回答",null,"未回答",null,"未回答",null,"-",null,"-",null,"未回答",null,"未回答",null,"-",null,"-",null,"-",null,"-",null,"-",null,"-",null,"-",null,"-",null,"-",null,"-",null,"-",null,"-",null,"宮崎県",null,"宮崎県",null,"-",null,"-",null,"-",null,"-",null,"-",null,"-",null,"-",null,"-",null,"-",null,"-",null,"-",null,"-",null,"-",null,"-",null,"-",null,"-",null,"-",null,"-",null,"／",null,"／",null,"／",null,"／",null,"／",null,"／",null,"／",null,"／",null,"／",null,"／",null,"／",null,"／",null,"／",null,"／",null,"／"]
[null,null,null,"改良長、土質条件における九州地方整備局管内での施工実績",null,"有",null,"有",null,"有",null,"有",null,"有",null,"無",null,"有",null,"無",null,"無",null,"無",null,"無",null,"／",null,"／",null,"有",null,"有",null,"有",null,"有",null,"有",null,"有",null,"無",null,"無",null,"無",null,"無",null,"未回答",null,"未回答",null,"未回答",null,"未回答",null,"無",null,"無",null,"有",null,"有",null,"無",null,"無",null,"-",null,"-",null,"有",null,"無",null,"有",null,"無",null,"未回答",null,"未回答",null,"未回答",null,"未回答",null,"無",null,"無",null,"未回答",null,"未回答",null,"無",null,"無",null,"無",null,"無",null,"無",null,"無",null,"無",null,"無",null,"有",null,"有",null,"有",null,"有",null,"無",null,"無",null,"無",null,"無",null,"無",null,"無",null,"無",null,"無",null,"無",null,"無",null,"無",null,"無",null,"無",null,"無",null,"無",null,"無",null,"無",null,"無",null,"無",null,"無",null,"／",null,"／",null,"／",null,"／",null,"／",null,"／",null,"／",null,"／",null,"／",null,"／",null,"／",null,"／",null,"／",null,"／",null,"／"]
[null,null,null,"九州の特殊土壌の施工実績例","シラス","-",null,"-",null,"-",null,"-",null,"-",null,"-",null,"-",null,"-",null,"-",null,"-",null,"-",null,"／",null,"／",null,"-",null,"-",null,"-",null,"-",null,"-",null,"-",null,"-",null,"-",null,"-",null,"-",null,"未回答",null,"未回答",null,"未回答",null,"未回答",null,"-",null,"-",null,"-",null,"-",null,"-",null,"-",null,"-",null,"-",null,"-",null,"-",null,"-",null,"-",null,"未回答",null,"未回答",null,"未回答",null,"未回答",null,"-",null,"-",null,"未回答",null,"未回答",null,"-",null,"-",null,"-",null,"-",null,"-",null,"-",null,"-",null,"-",null,"-",null,"-",null,"-",null,"-",null,"-",null,"-",null,"-",null,"-",null,"-",null,"-",null,"-",null,"-",null,"-",null,"-",null,"-",null,"-",null,"-",null,"-",null,"-",null,"-",null,"-",null,"-",null,"-",null,"-",null,"／",null,"／",null,"／",null,"／",null,"／",null,"／",null,"／",null,"／",null,"／",null,"／",null,"／",null,"／",null,"／",null,"／",null,"／"]
[null,null,null,null,"有明粘土","-",null,"-",null,"-",null,"-",null,"-",null,"-",null,"-",null,"-",null,"-",null,"-",null,"-",null,"／",null,"／",null,"-",null,"-",null,"-",null,"-",null,"-",null,"-",null,"-",null,"-",null,"-",null,"-",null,"未回答",null,"未回答",null,"未回答",null,"未回答",null,"-",null,"-",null,"-",null,"-",null,"-",null,"-",null,"-",null,"-",null,"-",null,"-",null,"-",null,"-",null,"未回答",null,"未回答",null,"未回答",null,"未回答",null,"-",null,"-",null,"未回答",null,"未回答",null,"-",null,"-",null,"-",null,"-",null,"-",null,"-",null,"-",null,"-",null,"-",null,"-",null,"-",null,"-",null,"-",null,"-",null,"-",null,"-",null,"-",null,"-",null,"-",null,"-",null,"-",null,"-",null,"-",null,"-",null,"-",null,"-",null,"-",null,"-",null,"-",null,"-",null,"-",null,"-",null,"／",null,"／",null,"／",null,"／",null,"／",null,"／",null,"／",null,"／",null,"／",null,"／",null,"／",null,"／",null,"／",null,"／",null,"／"]
[null,null,null,null,"黒ボク・赤ボク等","-",null,"-",null,"-",null,"-",null,"-",null,"-",null,"-",null,"-",null,"-",null,"-",null,"-",null,"／",null,"／",null,"-",null,"-",null,"-",null,"-",null,"-",null,"-",null,"-",null,"-",null,"-",null,"-",null,"未回答",null,"未回答",null,"未回答",null,"未回答",null,"-",null,"-",null,"-",null,"-",null,"1件（熊本県合志市）",null,"1件（熊本県合志市）",null,"1件（熊本県合志市）",null,"1件（熊本県合志市）",null,"-",null,"-",null,"-",null,"-",null,"未回答",null,"未回答",null,"未回答",null,"未回答",null,"-",null,"-",null,"未回答",null,"未回答",null,"10件",null,"10件",null,"10件",null,"10件",null,"10件",null,"10件",null,"-",null,"-",null,"30件",null,"30件",null,"30件",null,"30件",null,"-",null,"-",null,"-",null,"-",null,"-",null,"-",null,"-",null,"-",null,"-",null,"-",null,"-",null,"-",null,"-",null,"-",null,"-",null,"-",null,"-",null,"-",null,"-",null,"-",null,"／",null,"／",null,"／",null,"／",null,"／",null,"／",null,"／",null,"／",null,"／",null,"／",null,"／",null,"／",null,"／",null,"／",null,"／"]
[null,null,null,null,"そうら層（泥炭）","-",null,"-",null,"-",null,"-",null,"-",null,"-",null,"-",null,"-",null,"-",null,"-",null,"-",null,"／",null,"／",null,"-",null,"-",null,"-",null,"-",null,"-",null,"-",null,"-",null,"-",null,"-",null,"-",null,"未回答",null,"未回答",null,"未回答",null,"未回答",null,"-",null,"-",null,"-",null,"-",null,"-",null,"-",null,"-",null,"-",null,"2件（北九州市）",null,"2件（北九州市）",null,"2件（北九州市）",null,"2件（北九州市）",null,"未回答",null,"未回答",null,"未回答",null,"未回答",null,"-",null,"-",null,"未回答",null,"未回答",null,"-",null,"-",null,"-",null,"-",null,"-",null,"-",null,"-",null,"-",null,"-",null,"-",null,"-",null,"-",null,"-",null,"-",null,"-",null,"-",null,"-",null,"-",null,"-",null,"-",null,"-",null,"-",null,"-",null,"-",null,"-",null,"-",null,"-",null,"-",null,"-",null,"-",null,"-",null,"-",null,"／",null,"／",null,"／",null,"／",null,"／",null,"／",null,"／",null,"／",null,"／",null,"／",null,"／",null,"／",null,"／",null,"／",null,"／"]
[null,null,null,null,"その他（島原焼土等）","-",null,"-",null,"-",null,"-",null,"-",null,"-",null,"-",null,"-",null,"-",null,"-",null,"-",null,"／",null,"／",null,"-",null,"-",null,"-",null,"-",null,"-",null,"-",null,"-",null,"-",null,"-",null,"-",null,"未回答",null,"未回答",null,"未回答",null,"未回答",null,"-",null,"-",null,"-",null,"-",null,"-",null,"-",null,"-",null,"-",null,"-",null,"-",null,"-",null,"-",null,"未回答",null,"未回答",null,"未回答",null,"未回答",null,"-",null,"-",null,"未回答",null,"未回答",null,"-",null,"-",null,"-",null,"-",null,"-",null,"-",null,"-",null,"-",null,"-",null,"-",null,"-",null,"-",null,"-",null,"-",null,"-",null,"-",null,"-",null,"-",null,"-",null,"-",null,"-",null,"-",null,"-",null,"-",null,"-",null,"-",null,"-",null,"-",null,"-",null,"-",null,"-",null,"-",null,"／",null,"／",null,"／",null,"／",null,"／",null,"／",null,"／",null,"／",null,"／",null,"／",null,"／",null,"／",null,"／",null,"／",null,"／"]
[null,"⑲","特許等","特許",null,"第3554829号「土質材料の製造装置」、第3389202号「土質材料製造装置」、第3643587号「土質材料の製造方法」等",null,"第3554829号「土質材料の製造装置」、第3389202号「土質材料製造装置」、第3643587号「土質材料の製造方法」等",null,"-",null,"-",null,"-",null,"第4902596号「土地改良材の添加量決定方法」",null,"第3725120号「建設汚泥の改質プラント及び改質処理」 特許使用料：900円/㎥",null,"第3554829号「土質材料の製造装置」、第3389202号「土質材料製造装置」、第3643587号「土質材料の製造方法」等",null,"第3554829号「土質材料の製造装置」、第3389202号「土質材料製造装置」、第3643587号「土質材料の製造方法」等",null,"-",null,"-",null,"／",null,"／",null,"-",null,"-",null,"-",null,"-",null,"第5014961号「泥土改質材料および改質方法」、第5318013号「浚渫土の改質方法」、第5400680号「人工浅場または干潟」",null,"第5014961号「泥土改質材料および改質方法」、第5318013号「浚渫土の改質方法」、第5400680号「人工浅場または干潟」",null,"-",null,"-",null,"-",null,"-",null,"-",null,"-",null,"-",null,"-",null,"第3756728号、第3799024号、第3828737号、第3927552号、第4884785号",null,"第3756728号、第3799024号、第3828737号、第3927552号、第4884785号",null,"第3756728号、第3799024号、第3828737号、第3927552号、第4884785号",null,"第3756728号、第3799024号、第3828737号、第3927552号、第4884785号",null,"第4594606号「土質改質材およびこれを用いた土質改質方法」",null,"第4594606号「土質改質材およびこれを用いた土質改質方法」",null,"第4594606号「土質改質材およびこれを用いた土質改質方法」",null,"第4594606号「土質改質材およびこれを用いた土質改質方法」",null,"-",null,"-",null,"-",null,"-",null,"-",null,"-",null,"-",null,"-",null,"-",null,"-",null,"第6315165号「多孔質焼結体に鉄系凝集剤等を含浸させた有害金属吸着材の製造及びその使用方法」",null,"第6315165号「多孔質焼結体に鉄系凝集剤等を含浸させた有害金属吸着材の製造及びその使用方法」",null,"-",null,"-",null,"-",null,"-",null,"-",null,"-",null,"-",null,"-",null,"-",null,"-",null,"-",null,"-",null,"-",null,"-",null,"特許第6818286号「泥土や土砂に含まれるフッ素及び／又はヒ素の不溶化方法」",null,"特許第6818286号「泥土や土砂に含まれるフッ素及び／又はヒ素の不溶化方法」",null,"-",null,"-",null,"特開2024-19747「土壌改質剤」",null,"特開2024-19747「土壌改質剤」",null,"特開2024-19747「土壌改質剤」",null,"実用新案登録第3243864号「袋体入り土壌改質材」",null,"実用新案登録第3243864号「袋体入り土壌改質材」",null,"特許第7277405号「中性固化材及び土の処理方法」",null,"特許第7277405号「中性固化材及び土の処理方法」",null,"特許第7277405号「中性固化材及び土の処理方法」",null,"特許第7277405号「中性固化材及び土の処理方法」",null,"特許第7277405号「中性固化材及び土の処理方法」",null,"-",null,"-",null,"-",null,"-",null,"／",null,"／",null,"／",null,"／",null,"／",null,"／",null,"／",null,"／",null,"／",null,"／",null,"／",null,"／",null,"／",null,"／",null,"／"]
[null,null,null,"建設技術審査証明",null,"-",null,"-",null,"-",null,"-",null,"-",null,"-",null,"（社）日本建設機械化協会　建審証第0702号（平成24年10月18日）",null,"第1007号　2015/5/22 （公社）日本材料学会",null,"第1007号　2015/5/22 （公社）日本材料学会",null,"-",null,"-",null,"／",null,"／",null,"-",null,"-",null,"-",null,"-",null,"-",null,"-",null,"-",null,"-",null,"-",null,"-",null,"-",null,"-",null,"-",null,"-",null,"（財）先端建設技術センター技審証第2203号",null,"（財）先端建設技術センター技審証第2203号",null,"（財）先端建設技術センター技審証第2203号",null,"（財）先端建設技術センター技審証第2203号",null,"-",null,"-",null,"-",null,"-",null,"-",null,"-",null,"-",null,"-",null,"-",null,"-",null,"-",null,"-",null,"-",null,"-",null,"-",null,"-",null,"-",null,"-",null,"-",null,"-",null,"-",null,"-",null,"-",null,"-",null,"-",null,"-",null,"-",null,"-",null,"-",null,"-",null,"-",null,"-",null,"-",null,"-",null,"-",null,"-",null,"-",null,"-",null,"-",null,"-",null,"-",null,"-",null,"-",null,"-",null,"-",null,"-",null,"-",null,"-",null,"／",null,"／",null,"／",null,"／",null,"／",null,"／",null,"／",null,"／",null,"／",null,"／",null,"／",null,"／",null,"／",null,"／",null,"／"]
[null,"⑳","生産供給体制（機械保有台数等）",null,null,"TM1500　3台【茨城県つくば市】",null,"TM1500　3台【茨城県つくば市】",null,"標準機\n九州 2台（福岡県宮若市 1台、熊本県球磨村 1台）",null,"標準機\n九州 2台（福岡県宮若市 1台、熊本県球磨村 1台）",null,"標準機\n九州 2台（福岡県宮若市 1台、熊本県球磨村 1台）",null,"新潟県内14台\n新潟県および新潟県の隣接県",null,"離島を除く九州全域\n機械保有台数　10台",null,"TMSP1500：1台\nTMSP1800：4台",null,"TMSP1500：1台\nTMSP1800：4台",null,"全国エリア対応可能\nスタビライザ処理厚1.2ｍ対応機　九州内（福岡　4台）、九州外（岐阜、埼玉　24台）",null,"全国エリア対応可能\nスタビライザ処理厚1.2ｍ対応機　九州内（福岡　4台）、九州外（岐阜、埼玉　24台）",null,"／",null,"／",null,"西日本向けワトルの製造を行っていた愛媛県の施設が廃止されたことに伴い、現在は千葉工場からの出荷となっている。その結果、製品単価が上昇している。",null,"西日本向けワトルの製造を行っていた愛媛県の施設が廃止されたことに伴い、現在は千葉工場からの出荷となっている。その結果、製品単価が上昇している。",null,"西日本向けワトルの製造を行っていた愛媛県の施設が廃止されたことに伴い、現在は千葉工場からの出荷となっている。その結果、製品単価が上昇している。",null,"西日本向けワトルの製造を行っていた愛媛県の施設が廃止されたことに伴い、現在は千葉工場からの出荷となっている。その結果、製品単価が上昇している。",null,"・基本的には日本全国をカバー。陸上での供給については製鉄所周辺であるが、海送の場合には地域は限定されない。\n・製鉄所の立地場所：室蘭、鹿島、君津、千葉、川崎、名古屋、和歌山、加古川、広畑、福山、倉敷、北九州、大分",null,"・基本的には日本全国をカバー。陸上での供給については製鉄所周辺であるが、海送の場合には地域は限定されない。\n・製鉄所の立地場所：室蘭、鹿島、君津、千葉、川崎、名古屋、和歌山、加古川、広畑、福山、倉敷、北九州、大分",null,"岐阜県大垣市",null,"岐阜県大垣市",null,"岐阜県大垣市",null,"岐阜県大垣市",null,"未回答",null,"未回答",null,"未回答",null,"未回答",null,"沖縄を除く日本全国で技術提供可能。ボンファイバーは栃木県、埼玉県の製造工場から出荷し九州各地の施工現場へ納入。\n運搬は10ｔ車（平ボディ）にて40個（1個250kg）積みが条件。生産工程の都合上、工期が決定したら事前の確認が必要。",null,"沖縄を除く日本全国で技術提供可能。ボンファイバーは栃木県、埼玉県の製造工場から出荷し九州各地の施工現場へ納入。\n運搬は10ｔ車（平ボディ）にて40個（1個250kg）積みが条件。生産工程の都合上、工期が決定したら事前の確認が必要。",null,"沖縄を除く日本全国で技術提供可能。ボンファイバーは栃木県、埼玉県の製造工場から出荷し九州各地の施工現場へ納入。\n運搬は10ｔ車（平ボディ）にて40個（1個250kg）積みが条件。生産工程の都合上、工期が決定したら事前の確認が必要。",null,"沖縄を除く日本全国で技術提供可能。ボンファイバーは栃木県、埼玉県の製造工場から出荷し九州各地の施工現場へ納入。\n運搬は10ｔ車（平ボディ）にて40個（1個250kg）積みが条件。生産工程の都合上、工期が決定したら事前の確認が必要。",null,"静岡県内製造工場→富士市内倉庫→施工現場",null,"静岡県内製造工場→富士市内倉庫→施工現場",null,"静岡県内製造工場→富士市内倉庫→施工現場",null,"静岡県内製造工場→富士市内倉庫→施工現場",null,"供給可能地域：全国（工場所在地：関東地方）",null,"供給可能地域：全国（工場所在地：関東地方）",null,"供給可能地域：全国（工場所在地：関東地方）",null,"供給可能地域：全国（工場所在地：関東地方）",null,"未回答",null,"未回答",null,"未回答",null,"未回答",null,"島根県内製造工場→全国の施工現場",null,"島根県内製造工場→全国の施工現場",null,"未回答",null,"未回答",null,"月間３００ｔ～５００ｔ以上",null,"月間３００ｔ～５００ｔ以上",null,"月間３００ｔ～５００ｔ以上",null,"月間３００ｔ～５００ｔ以上",null,"月間３００ｔ～５００ｔ以上",null,"月間３００ｔ～５００ｔ以上",null,"島根県内製造工場→全国の施工現場",null,"島根県内製造工場→全国の施工現場",null,"月間５００ｔ～１０００ｔ以上",null,"月間５００ｔ～１０００ｔ以上",null,"月間５００ｔ～１０００ｔ以上",null,"月間５００ｔ～１０００ｔ以上",null,"製造拠点：山口県美祢市、千葉県市原市\n供給可能地域：全国",null,"製造拠点：山口県美祢市、千葉県市原市\n供給可能地域：全国",null,"-",null,"-",null,"千葉県内製造工場　→　（福岡市内倉庫）　→　施工現場\n技術提供が可能な地域→今のところ検討しておりません。機械の保有台数→",null,"千葉県内製造工場　→　（福岡市内倉庫）　→　施工現場\n技術提供が可能な地域→今のところ検討しておりません。機械の保有台数→",null,"茨城県内製造工場　→　施工現場（全国供給可能）",null,"茨城県内製造工場　→　施工現場（全国供給可能）",null,"茨城県内製造工場　→　施工現場（全国供給可能）",null,"茨城、および千葉県内製造工場　→（九州管内の倉庫）→　施工現場",null,"茨城、および千葉県内製造工場　→（九州管内の倉庫）→　施工現場",null,"全国可（製造工場：山口県美祢市、千葉県市原市）",null,"全国可（製造工場：山口県美祢市、千葉県市原市）",null,"全国可（製造工場：山口県美祢市、千葉県市原市）",null,"全国可（製造工場：山口県美祢市、千葉県市原市）",null,"全国可（製造工場：山口県美祢市、千葉県市原市）",null,"-",null,"-",null,"-",null,"-",null,"／",null,"／",null,"／",null,"／",null,"／",null,"／",null,"／",null,"／",null,"／",null,"／",null,"／",null,"／",null,"／",null,"／",null,"／"]
[null,"㉑","備考",null,null,"本施工仕様では、改良対象土と良質土との2種類の土砂を混合した場合の、概算施工費、施工日数を示しているが、本技術では最大3種類の土砂の混合、又は2種類の土砂と、加えて固化材の混合が可能である。",null,"本施工仕様では、改良対象土と良質土との2種類の土砂に、固化材を添加し混合した場合の、概算施工費、施工日数を示しているが、本技術では最大3種類の土砂の混合、又は2種類の土砂と、加えて固化材の混合が可能である。",null,"本施工仕様では、改良対象土に固化材を添加し混合した場合の、概算施工費、施工日数を示しているが、本技術では最大3種類の土砂と、加えて固化材の混合が可能である。",null,"本施工仕様では、改良対象土と良質土との2種類の土砂を混合した場合の、概算施工費、施工日数を示しているが、本技術では最大3種類の土砂と、加えて固化材の混合が可能である。",null,"本施工仕様では、改良対象土と良質土との2種類の土砂に、固化材を添加し混合した場合の、概算施工費、施工日数を示しているが、本技術では最大3種類の土砂と、加えて固化材の混合が可能である。",null,"                                                             -",null,"固化材については、会員企業の材料メーカーが10社以上あり、地域性や要求品質に応じて選定する。",null,"作業空間：機械設置ヤード面積700㎡以上、ストックヤード等面積4000㎡以上",null,"作業空間：機械設置ヤード面積700㎡以上、ストックヤード等面積4000㎡以上",null,"作業空間：機械設置ヤード面積28.1m2以上、ストックヤード等面積925m2以上",null,"作業空間：機械設置ヤード面積28.1m2以上、ストックヤード等面積925m2以上",null,"／",null,"／",null,"・改良材単価は福岡県単価である。",null,"・改良材単価は福岡県単価である。",null,"・改良材単価は福岡県単価である。",null,"・改良材単価は福岡県単価である。",null,"                                                             -",null,"                                                             -",null,"・改良材単価は名古屋地区単価である。\n・本工法比較表の記載内容は、主に「SEリバース(LX)」についてである。",null,"・改良材単価は名古屋地区単価である。\n・本工法比較表の記載内容は、主に「SEリバース(LX)」についてである。",null,"・改良材単価は名古屋地区単価である。\n・本工法比較表の記載内容は、主に「SEリバース(LX)」についてである。",null,"・改良材単価は名古屋地区単価である。\n・本工法比較表の記載内容は、主に「SEリバース(LX)」についてである。",null,"・材料単価には運搬費は含まれていない。",null,"・材料単価には運搬費は含まれていない。",null,"・材料単価には運搬費は含まれていない。",null,"・材料単価には運搬費は含まれていない。",null,"・固化材（セメント系固化材、一般軟弱土用）、ボンファイバーの単価は福岡単価である。",null,"・固化材（セメント系固化材、一般軟弱土用）、ボンファイバーの単価は福岡単価である。",null,"・固化材（セメント系固化材、一般軟弱土用）、ボンファイバーの単価は福岡単価である。",null,"・固化材（セメント系固化材、一般軟弱土用）、ボンファイバーの単価は福岡単価である。",null,"・改良材単価は福岡県単価である。",null,"・改良材単価は福岡県単価である。",null,"・改良材単価は福岡県単価である。",null,"・改良材単価は福岡県単価である。",null,"・改良材単価には運搬費は含まれていない。\n・本工法比較表の記載内容は、主に「通常型」の場合である。",null,"・改良材単価には運搬費は含まれていない。\n・本工法比較表の記載内容は、主に「通常型」の場合である。",null,"・改良材単価には運搬費は含まれていない。\n・本工法比較表の記載内容は、主に「通常型」の場合である。",null,"・改良材単価には運搬費は含まれていない。\n・本工法比較表の記載内容は、主に「通常型」の場合である。",null,"・材料単価は現場所在により変動するため、現場ごとに積算が必要となる。\n・改良材単価には運搬費は含まれていない。",null,"・材料単価は現場所在により変動するため、現場ごとに積算が必要となる。\n・改良材単価には運搬費は含まれていない。",null,"・材料単価は現場所在により変動するため、現場ごとに積算が必要となる。\n・改良材単価には運搬費は含まれていない。",null,"・材料単価は現場所在により変動するため、現場ごとに積算が必要となる。\n・改良材単価には運搬費は含まれていない。",null,"-",null,"-",null,"・改良材単価には運搬費は含まれていない。",null,"・改良材単価には運搬費は含まれていない。",null,"・改良材単価は福岡県単価である。※運賃は別途。",null,"・改良材単価は福岡県単価である。※運賃は別途。",null,"・改良材単価は福岡県単価である。※運賃は別途。",null,"・改良材単価は福岡県単価である。※運賃は別途。",null,"・改良材単価は福岡県単価である。※運賃は別途。",null,"・改良材単価は福岡県単価である。※運賃は別途。",null,"材料単価には、運搬費は含まれていない。",null,"材料単価には、運搬費は含まれていない。",null,"-",null,"-",null,"-",null,"-",null,"-",null,"-",null,"-",null,"-",null,"改良材単価は福岡県単価である。",null,"改良材単価は福岡県単価である。",null,"-",null,"-",null,"-",null,"-",null,"-",null,"-",null,"-",null,"-",null,"-",null,"-",null,"-",null,"-",null,"-",null,"-",null,"／",null,"／",null,"／",null,"／",null,"／",null,"／",null,"／",null,"／",null,"／",null,"／",null,"／",null,"／",null,"／",null,"／",null,"／"]
["発注者ニーズへの適応性","㉒","従来技術との比較評価","判定の凡例 \n  ○：従来技術より優れる\n  △：従来技術と同程度\n  －：上記以外","騒音・振動の低減","△：従来技術と同程度。",null,"△：従来技術と同程度。",null,"△：従来技術と同程度。",null,"△：従来技術と同程度。",null,"△：従来技術と同程度。",null,"△：従来技術と同程度。",null,"△：従来技術と同程度。",null,"△：従来技術と同程度。",null,"△：従来技術と同程度。",null,"△：従来技術と同程度。",null,"△：従来技術と同程度。",null,"／",null,"／",null,"-",null,"-",null,"-",null,"-",null,"-",null,"-",null,"-",null,"-",null,"-",null,"-",null,"-",null,"-",null,"-",null,"-",null,"-",null,"-",null,"-",null,"-",null,"-",null,"-",null,"-",null,"-",null,"-",null,"-",null,"-",null,"-",null,"-",null,"-",null,"-",null,"-",null,"-",null,"-",null,"-",null,"-",null,"-",null,"-",null,"-",null,"-",null,"-",null,"-",null,"-",null,"-",null,"-",null,"-",null,"-",null,"-",null,"-",null,"-",null,"-",null,"-",null,"-",null,"-",null,"-",null,"-",null,"-",null,"-",null,"-",null,"-",null,"-",null,"-",null,"-",null,"-",null,"-",null,"-",null,"-",null,"-",null,"／",null,"／",null,"／",null,"／",null,"／",null,"／",null,"／",null,"／",null,"／",null,"／",null,"／",null,"／",null,"／",null,"／",null,"／"]
[null,"㉓",null,null,"粉塵等の飛散防止","○：ベルトコンベア、回転式破砕混合装置ともにカバーがされており、また添加材サイロの構造上、粉塵発生量が少ない。",null,"○：ベルトコンベア、回転式破砕混合装置ともにカバーがされており、また添加材サイロの構造上、粉塵発生量が少ない。",null,"△：従来技術と同程度。",null,"△：従来技術と同程度。",null,"△：従来技術と同程度。",null,"△：従来技術と同程度。",null,"○：サイロからの投入においてはほとんど粉じんの発生はなく、ユニット型においては集塵機を備えており、大幅に抑制されている。",null,"○：ベルトコンベア、混合機ともにカバーされており粉塵発生量が少ない。",null,"○：ベルトコンベア、混合機ともにカバーされており粉塵発生量が少ない。",null,"△：従来技術と同程度。",null,"△：従来技術と同程度。",null,"／",null,"／",null,"△：従来技術と同程度。",null,"△：従来技術と同程度。",null,"△：従来技術と同程度。",null,"△：従来技術と同程度。",null,"○：粒状材料であるため、粉塵飛散は抑制される。",null,"○：粒状材料であるため、粉塵飛散は抑制される。",null,"○：発塵抑制型を選定可能。",null,"○：発塵抑制型を選定可能。",null,"○：発塵抑制型を選定可能。",null,"○：発塵抑制型を選定可能。",null,"△：従来技術と同程度。",null,"△：従来技術と同程度。",null,"△：従来技術と同程度。",null,"△：従来技術と同程度。",null,"△：従来技術と同程度。",null,"△：従来技術と同程度。",null,"△：従来技術と同程度。",null,"△：従来技術と同程度。",null,"△：従来技術と同程度。",null,"△：従来技術と同程度。",null,"△：従来技術と同程度。",null,"△：従来技術と同程度。",null,"△：従来技術と同程度。",null,"△：従来技術と同程度。",null,"△：従来技術と同程度。",null,"△：従来技術と同程度。",null,"△：従来技術と同程度。",null,"△：従来技術と同程度。",null,"△：従来技術と同程度。",null,"△：従来技術と同程度。",null,"○：粉塵は、ほとんど発生しないため優れている。",null,"○：粉塵は、ほとんど発生しないため優れている。",null,"△：従来技術と同程度。",null,"△：従来技術と同程度。",null,"△：従来技術と同程度。",null,"△：従来技術と同程度。",null,"△：従来技術と同程度。",null,"△：従来技術と同程度。",null,"△：従来技術と同程度。",null,"△：従来技術と同程度。",null,"△：従来技術と同程度。",null,"△：従来技術と同程度。",null,"△：従来技術と同程度。",null,"△：従来技術と同程度。",null,"△：従来技術と同程度。",null,"△：従来技術と同程度。",null,"△：従来技術と同程度。",null,"△：従来技術と同程度。",null,"○：スラリー状であり、粉塵の発生が低減される。",null,"○：スラリー状であり、粉塵の発生が低減される。",null,"○：高分子と鉱物粒子等（粒度などを調整)を主体とした土質改良材であり、防塵性を有する。",null,"○：高分子と鉱物粒子等（粒度などを調整)を主体とした土質改良材であり、防塵性を有する。",null,"△：従来品と同程度。",null,"△：従来品と同程度。",null,"△：従来品と同程度。",null,"△:従来技術と同程度。",null,"△:従来技術と同程度。",null,"△:従来技術と同程度。",null,"△:従来技術と同程度。",null,"△:従来技術と同程度。",null,"△:従来技術と同程度。",null,"△:従来技術と同程度。",null,"△:従来技術と同程度",null,"△:従来技術と同程度",null,"△:従来技術と同程度",null,"△:従来技術と同程度",null,"／",null,"／",null,"／",null,"／",null,"／",null,"／",null,"／",null,"／",null,"／",null,"／",null,"／",null,"／",null,"／",null,"／",null,"／"]
[null,"㉔",null,null,"省人化・省力化","△：従来技術と同程度。",null,"△：従来技術と同程度。",null,"△：従来技術と同程度。",null,"△：従来技術と同程度。",null,"△：従来技術と同程度。",null,"△：従来技術と同程度。",null,"△：従来技術と同程度。",null,"△：従来技術と同程度。",null,"△：従来技術と同程度。",null,"○：GNSS施工管理システムを搭載しており、オペレータはシステム画面にて施工位置を確認することが可能。また、施工管理記録のデータ化により、施工完了後に帳票の出力が可能。",null,"○：GNSS施工管理システムを搭載しており、オペレータはシステム画面にて施工位置を確認することが可能。また、施工管理記録のデータ化により、施工完了後に帳票の出力が可能。",null,"／",null,"／",null,"-",null,"-",null,"-",null,"-",null,"-",null,"-",null,"-",null,"-",null,"-",null,"-",null,"-",null,"-",null,"-",null,"-",null,"-",null,"-",null,"-",null,"-",null,"-",null,"-",null,"-",null,"-",null,"-",null,"-",null,"-",null,"-",null,"-",null,"-",null,"-",null,"-",null,"-",null,"-",null,"-",null,"-",null,"-",null,"-",null,"-",null,"-",null,"-",null,"-",null,"-",null,"-",null,"-",null,"-",null,"-",null,"-",null,"-",null,"-",null,"-",null,"-",null,"-",null,"-",null,"-",null,"-",null,"-",null,"-",null,"-",null,"-",null,"-",null,"-",null,"-",null,"-",null,"-",null,"-",null,"-",null,"-",null,"／",null,"／",null,"／",null,"／",null,"／",null,"／",null,"／",null,"／",null,"／",null,"／",null,"／",null,"／",null,"／",null,"／",null,"／"]
[null,"㉕",null,null,"早期強度発現性\n（即効性）","-",null,"-",null,"-",null,"-",null,"-",null,"-",null,"-",null,"-",null,"-",null,"-",null,"-",null,"-",null,"-",null,"○：即時に強度を発揮し、養生により更に強度が増加する。",null,"○：即時に強度を発揮し、養生により更に強度が増加する。",null,"△：従来技術と同程度。",null,"△：従来技術と同程度。",null,"△：従来技術と同程度。",null,"△：従来技術と同程度。",null,"○：処理直後からの強度発現により、改良後すぐに転圧が可能",null,"○：処理直後からの強度発現により、改良後すぐに転圧が可能",null,"△：従来技術と同程度。",null,"△：従来技術と同程度。",null,"△：従来技術と同程度。",null,"△：従来技術と同程度。",null,"△：従来技術と同程度。",null,"△：従来技術と同程度。",null,"○：ボンファイバーの吸水作用により、改良直後の取り扱い性に優れ、改良直後に仮置き可能となる。",null,"○：ボンファイバーの吸水作用により、改良直後の取り扱い性に優れ、改良直後に仮置き可能となる。",null,"○：ボンファイバーの吸水作用により、改良直後の取り扱い性に優れ、改良直後に仮置き可能となる。",null,"○：ボンファイバーの吸水作用により、改良直後の取り扱い性に優れ、改良直後に仮置き可能となる。",null,"○：吸水性に優れていることから、浚渫や掘削で発生した軟泥土に混合するだけで瞬時改良が可能。",null,"○：吸水性に優れていることから、浚渫や掘削で発生した軟泥土に混合するだけで瞬時改良が可能。",null,"△：従来技術と同程度。",null,"△：従来技術と同程度。",null,"○：撹拌時間30秒から60秒ほどで処理が完了し、養生時間は不要。",null,"○：撹拌時間30秒から60秒ほどで処理が完了し、養生時間は不要。",null,"○：撹拌時間30秒から60秒ほどで処理が完了し、養生時間は不要。",null,"○：撹拌時間30秒から60秒ほどで処理が完了し、養生時間は不要。",null,"○：硬化までの時聞は2時間程度と短く、汚泥の固化処理工程を続けて行うことができる。",null,"○：硬化までの時聞は2時間程度と短く、汚泥の固化処理工程を続けて行うことができる。",null,"○：硬化までの時聞は2時間程度と短く、汚泥の固化処理工程を続けて行うことができる。",null,"○：硬化までの時聞は2時間程度と短く、汚泥の固化処理工程を続けて行うことができる。",null,"○：養生は、1日以下である。",null,"○：養生は、1日以下である。",null,"○：養生は、1日～3日程度。",null,"○：養生は、1日～3日程度。",null,"○：養生期間は、１日程度。",null,"○：養生期間は、１日程度。",null,"○：養生期間は、１日程度。",null,"○：養生期間は、１日程度。",null,"○：養生期間は、１日程度。",null,"○：養生期間は、１日程度。",null,"○：改良後の初期強度が早期に得られるため、養生期間の短縮（1日～7日）が可能。",null,"○：改良後の初期強度が早期に得られるため、養生期間の短縮（1日～7日）が可能。",null,"○：養生は、1日以下である。",null,"○：養生は、1日以下である。",null,"○：養生は、1日以下である。",null,"○：養生は、1日以下である。",null,"○：養生期間は、3日程度。",null,"○：養生期間は、3日程度。",null,"-：自硬性を有していないため比較対象外",null,"-：自硬性を有していないため比較対象外",null,"-：自硬性を有していないため比較対象外",null,"-：自硬性を有していないため比較対象外",null,"○：高分子による即効性が高く、自硬性を有するため、締め固めることで固化も可能である。",null,"○：高分子による即効性が高く、自硬性を有するため、締め固めることで固化も可能である。",null,"○：高分子による即効性が高く、自硬性を有するため、締め固めることで固化も可能である。",null,"○:泥土の粒状固化処理が早期にできるため優れる。",null,"○:泥土の粒状固化処理が早期にできるため優れる。",null,"○:固化材混合後、土壌を早期に改質できるため優れる。",null,"○:固化材混合後、土壌を早期に改質できるため優れる。",null,"○:固化材混合後、土壌を早期に改質できるため優れる。",null,"○:固化材混合後、土壌を早期に改質できるため優れる。",null,"○:固化材混合後、土壌を早期に改質できるため優れる。",null,"○:ハーデン単体に対し質量比1：1の水を加えたところ、即座に100％の吸水が確認された。吸水による性状変更と同時に固化反応による強度増加が実現できる。",null,"○:ハーデン単体に対し質量比1：1の水を加えたところ、即座に100％の吸水が確認された。吸水による性状変更と同時に固化反応による強度増加が実現できる。",null,"○:ハーデン単体に対し質量比1：1の水を加えたところ、即座に100％の吸水が確認された。吸水による性状変更と同時に固化反応による強度増加が実現できる。",null,"○:ハーデン単体に対し質量比1：1の水を加えたところ、即座に100％の吸水が確認された。吸水による性状変更と同時に固化反応による強度増加が実現できる。",null,"／",null,"／",null,"／",null,"／",null,"／",null,"／",null,"／",null,"／",null,"／",null,"／",null,"／",null,"／",null,"／",null,"／",null,"／"]
[null,"㉖",null,null,"改良材由来の六価クロム等の溶出防止","-",null,"-",null,"-",null,"-",null,"-",null,"-",null,"-",null,"-",null,"-",null,"-",null,"-",null,"-",null,"-",null,"○：六価クロム等の重金属類の溶出は無い。",null,"○：六価クロム等の重金属類の溶出は無い。",null,"△：従来技術と同程度。",null,"△：従来技術と同程度。",null,"○：六価クロム等の有害物質に対する安全性は確保されている。",null,"△：従来技術と同程度。",null,"○：セメント不含有のため、六価クロム溶出試験に該当しない。",null,"○：セメント不含有のため、六価クロム溶出試験に該当しない。",null,"△：従来技術と同程度。",null,"△：従来技術と同程度。",null,"○：六価クロムについては、改良土からは異常数値は出ない（環境基準値以下）。",null,"○：六価クロムについては、改良土からは異常数値は出ない（環境基準値以下）。",null,"△：従来技術と同程度。",null,"△：従来技術と同程度。",null,"△：従来技術と同程度。",null,"△：従来技術と同程度。",null,"△：従来技術と同程度。",null,"△：従来技術と同程度。",null,"△：従来技術と同程度。",null,"△：従来技術と同程度。",null,"△：従来技術と同程度。",null,"△：従来技術と同程度。",null,"○：改良材には特定有害物質を含まない。",null,"○：改良材には特定有害物質を含まない。",null,"△：従来技術と同程度。",null,"△：従来技術と同程度。",null,"○：非セメン卜系の石膏系固化材のため、六価クロムに関する悪影響がない。",null,"○：非セメン卜系の石膏系固化材のため、六価クロムに関する悪影響がない。",null,"△：従来技術と同程度。",null,"△：従来技術と同程度。",null,"△：従来技術と同程度。",null,"△：従来技術と同程度。",null,"△：従来技術と同程度。",null,"△：従来技術と同程度。",null,"△：従来技術と同程度。",null,"△：従来技術と同程度。",null,"△：従来技術と同程度。",null,"△：従来技術と同程度。",null,"△：従来技術と同程度。",null,"△：従来技術と同程度。",null,"△：従来技術と同程度。",null,"△：従来技術と同程度。",null,"○：石灰系固化材であり、六価クロムを含まない。",null,"○：石灰系固化材であり、六価クロムを含まない。",null,"△：従来技術と同程度。",null,"△：従来技術と同程度。",null,"○：六価クロム等の重金属類の溶出は無い。",null,"○：六価クロム等の重金属類の溶出は無い。",null,"△：従来技術（セメント系固化材（六価クロム対応型））と同程度。",null,"△：従来技術（セメント系固化材（六価クロム対応型））と同程度。",null,"○：高分子と鉱物粒子等（粒度などを調整)を主体とした土質改良材であり、六価クロムを含まない。",null,"○：高分子と鉱物粒子等（粒度などを調整)を主体とした土質改良材であり、六価クロムを含まない。",null,"○：六価クロムを含まない。",null,"○：六価クロムを含まない。",null,"○：六価クロムを含まない。",null,"○:六価クロムを溶出しない。",null,"○:六価クロムを溶出しない。",null,"○:六価クロムの溶出無しのため優れる。",null,"○:六価クロムの溶出無しのため優れる。",null,"○:六価クロムの溶出無しのため優れる。",null,"○:六価クロムの溶出無しのため優れる。",null,"○:六価クロムの溶出無しのため優れる。",null,"○:製品単体で環境基準の基準値以下",null,"○:製品単体で環境基準の基準値以下",null,"○:製品単体で環境基準の基準値以下",null,"○:製品単体で環境基準の基準値以下",null,"／",null,"／",null,"／",null,"／",null,"／",null,"／",null,"／",null,"／",null,"／",null,"／",null,"／",null,"／",null,"／",null,"／",null,"／"]
[null,"㉗",null,null,"中性域での処理\n（固化材自体が中性）","-",null,"-",null,"-",null,"-",null,"-",null,"-",null,"-",null,"-",null,"-",null,"-",null,"-",null,"-",null,"-",null,"△：従来技術と同程度。",null,"△：従来技術と同程度。",null,"△：従来技術と同程度。",null,"△：従来技術と同程度。",null,"△：従来技術と同程度。",null,"△：従来技術と同程度。",null,"△：従来技術と同程度。",null,"△：従来技術と同程度。",null,"△：従来技術と同程度。",null,"△：従来技術と同程度。",null,"△：従来技術と同程度。",null,"△：従来技術と同程度。",null,"△：従来技術と同程度。",null,"△：従来技術と同程度。",null,"△：従来技術と同程度。",null,"△：従来技術と同程度。",null,"△：従来技術と同程度。",null,"△：従来技術と同程度。",null,"△：従来技術と同程度。",null,"△：従来技術と同程度。",null,"△：従来技術と同程度。",null,"△：従来技術と同程度。",null,"○：改良材のｐＨは中性（pH7.5）。",null,"○：改良材のｐＨは中性（pH7.5）。",null,"○：改良材のｐＨは中性（pH7.5）。",null,"○：改良材のｐＨは中性（pH7.5）。",null,"○：非セメン卜系の中性固化材（pH6.0～8.5）である。",null,"○：非セメン卜系の中性固化材（pH6.0～8.5）である。",null,"○：非セメン卜系の中性固化材（pH6.0～8.5）である。",null,"○：非セメン卜系の中性固化材（pH6.0～8.5）である。",null,"○：改良土のｐHは、中性である。",null,"○：改良土のｐHは、中性である。",null,"○：ｐHは中性域から低アルカリ性のため、周辺環境への影響はない。",null,"○：ｐHは中性域から低アルカリ性のため、周辺環境への影響はない。",null,"○：改良土のｐHは中性～弱アルカリ性で調整可能である（改良土に応じて製品のタイプを選定できる）。",null,"○：改良土のｐHは中性～弱アルカリ性で調整可能である（改良土に応じて製品のタイプを選定できる）。",null,"○：改良土のｐHは中性～弱アルカリ性で調整可能である（改良土に応じて製品のタイプを選定できる）。",null,"○：改良土のｐHは中性～弱アルカリ性で調整可能である（改良土に応じて製品のタイプを選定できる）。",null,"○：改良土のｐHは中性～弱アルカリ性で調整可能である（改良土に応じて製品のタイプを選定できる）。",null,"○：改良土のｐHは中性～弱アルカリ性で調整可能である（改良土に応じて製品のタイプを選定できる）。",null,"○：ｐHは、中性域から低アルカリ性のため、周辺環境への影響はない。",null,"○：ｐHは、中性域から低アルカリ性のため、周辺環境への影響はない。",null,"○：改良土のpHは、低アルカリから中性となる。",null,"○：改良土のpHは、低アルカリから中性となる。",null,"○：改良土のpHは、低アルカリから中性となる。",null,"○：改良土のpHは、低アルカリから中性となる。",null,"○：改良土のｐHは弱アルカリ（ｐＨ11以下）である。",null,"○：改良土のｐHは弱アルカリ（ｐＨ11以下）である。",null,"○：TP-Sは酸性を示すが、添加量が少なく土砂の緩衝作用により中性域にて処理が可能となる。",null,"○：TP-Sは酸性を示すが、添加量が少なく土砂の緩衝作用により中性域にて処理が可能となる。",null,"○：改良材のｐHは中性。",null,"○：改良材のｐHは中性。",null,"○：改質剤自体のpHが中性であるため、対象土のｐHに支配される。",null,"○：改質剤自体のpHが中性であるため、対象土のｐHに支配される。",null,"○：改質剤自体のpHが中性であるため、対象土のｐHに支配される。",null,"○:中性域での処理が可能め。",null,"○:中性域での処理が可能め。",null,"○:改良後の土壌pHが環境溶出基準値（5.8～8.6）に納まるため優れる。",null,"○:改良後の土壌pHが環境溶出基準値（5.8～8.6）に納まるため優れる。",null,"○:改良後の土壌pHが環境溶出基準値（5.8～8.6）に納まるため優れる。",null,"○:改良後の土壌pHが環境溶出基準値（5.8～8.6）に納まるため優れる。",null,"○:改良後の土壌pHが環境溶出基準値（5.8～8.6）に納まるため優れる。",null,"○:改良直後は中性域ではないが比較的早期に低減する",null,"○:改良直後は中性域ではないが比較的早期に低減する",null,"○:改良直後は中性域ではないが比較的早期に低減する",null,"○:改良直後は中性域ではないが比較的早期に低減する",null,"／",null,"／",null,"／",null,"／",null,"／",null,"／",null,"／",null,"／",null,"／",null,"／",null,"／",null,"／",null,"／",null,"／",null,"／"]
["㉘",null,"総括",null,null,"・本工法は、鋼製の円筒内で高速回転するフレキシブルなチェーンの打撃力で、地盤材料の解きほぐしと添加材料との均質な混合を同時に行うことができる地盤改良技術である。粒径200mmの軟岩から自然含水比138%の高含水比粘性土まで対応 している。また、振動ふるいを併設すると建設発生土に混入しているゴミや木根などの不純物を分別除去する事が可能（補完情報より）。\n\n・所見：破砕・混合を同時に行うため、効率的に改良土の製造ができる。また、振動ふるい機の併用により、瓦礫等の分別が同時に行える（評価情報より）。\n・留意事項：プラントの操作・維持管理について安全性確保のために習熟が必要である（評価情報より）。\n\n・留意事項：施工費用の比較において、従来技術は固化材を用いた土質改良（化学的改良）であるのに対して、本施工仕様では良質土との混合による物理的改良である点に注意すること。\n・留意事項：良質土の土質及び使用量は、配合設計試験等により設計すること。また良質土が購入となる場合は、別途考慮すること。",null,"・本工法は、鋼製の円筒内で高速回転するフレキシブルなチェーンの打撃力で、地盤材料の解きほぐしと添加材料との均質な混合を同時に行うことができる地盤改良技術である。粒径200mmの軟岩から自然含水比138%の高含水比粘性土まで対応 している。また、振動ふるいを併設すると建設発生土に混入しているゴミや木根などの不純物を分別除去する事が可能（補完情報より）。\n\n・所見：破砕・混合を同時に行うため、効率的に改良土の製造ができる。また、振動ふるい機の併用により、瓦礫等の分別が同時に行える（評価情報より）。\n・留意事項：プラントの操作・維持管理について安全性確保のために習熟が必要である（評価情報より）。\n\n・留意事項：施工費用の比較において、従来技術は固化材を用いた土質改良（化学的改良）であるのに対して、本施工仕様では化学的改良と、良質土との混合による物理的改良との併用である点に注意すること。\n・留意事項：良質土の土質及び使用量、固化材の種類及び添加量は、配合設計試験等により設計すること。また本工法比較表での施工費には固化材、良質土の費用は含まれていないので、別途考慮すること。",null,"・そのままでは利用することのできない低品質な建設発生土に対し、基本的に、異なる土質性状の建設発生土を組み合わせ撹拌混合する技術である。混合処理することにより「粒度改善」と「強度改善」され良質な材料に改良される。また添加材の同時投入も可能であり、低コストで利用用途に応じた要求品質の材料に改良することができる〔物理的処理・化学的処理の双方が可能〕（補完情報より）。\n\n・本システム運転前に混合用土の事前土質試験及び事前配合試験を実施すること（NETIS情報より）。\n\n・留意事項：規格外の転石などの撤去作業が必要である（評価情報より）。\n\n・留意事項：固化材の種類及び添加量は、配合設計試験等により設計すること。また、本工法比較表での施工費には固化材の費用は含まれていないので、別途考慮すること。",null,"・そのままでは利用することのできない低品質な建設発生土に対し、基本的に、異なる土質性状の建設発生土を組み合わせ撹拌混合する技術である。混合処理することにより「粒度改善」と「強度改善」され良質な材料に改良される。また添加材の同時投入も可能であり、低コストで利用用途に応じた要求品質の材料に改良することができる〔物理的処理・化学的処理の双方が可能〕（補完情報より）。\n\n・本システム運転前に混合用土の事前土質試験及び事前配合試験を実施すること（NETIS情報より）。\n\n・留意事項：規格外の転石などの撤去作業が必要である（評価情報より）。\n\n・留意事項：施工費用の比較において、従来技術は固化材を用いた土質改良（化学的改良）であるのに対して、本施工仕様では良質土との混合による物理的改良である点に注意すること。\n・留意事項：良質土の土質及び使用量は、配合設計試験等により設計すること。また良質土が購入となる場合は、別途考慮すること。",null,"・そのままでは利用することのできない低品質な建設発生土に対し、基本的に、異なる土質性状の建設発生土を組み合わせ撹拌混合する技術である。混合処理することにより「粒度改善」と「強度改善」され良質な材料に改良される。また添加材の同時投入も可能であり、低コストで利用用途に応じた要求品質の材料に改良することができる〔物理的処理・化学的処理の双方が可能〕（補完情報より）。\n\n・本システム運転前に混合用土の事前土質試験及び事前配合試験を実施すること（NETIS情報より）。\n\n・留意事項：規格外の転石などの撤去作業が必要である（評価情報より）。\n\n・留意事項：施工費用の比較において、従来技術は固化材を用いた土質改良（化学的改良）であるのに対して、本施工仕様では化学的改良と、良質土との混合による物理的改良との併用である点に注意すること。\n・留意事項：良質土の土質及び使用量、固化材の種類及び添加量は、配合設計試験等により設計すること。また本工法比較表での施工費には固化材、良質土の費用は含まれていないので、別途考慮すること。",null,"・事前調査による現場条件の把握、現場条件と配合設計、自走式土質改良機による固化材混合、改良土を用いた土工事の施工管理を一貫して行う技術。日毎の土の含水率変化に対応した添加量で改良するため、品質のバラツキが少ない。また、大きな含水率変化にも追従可能である（補完情報より）。\n\n・本技術は品質管理手法を軸とする技術であるため、施工に当たっては新潟県土質改良事業協同組合が発行するESR工法技術講習修了証を有する技術者を配置する必要がある（NETIS情報より）。\n・本技術で主に用いられている自走式土質改良機は、土木工事標準積算基準書の「自走式土質改良工」における自走式土質改良機（20t級）に適合する（補完情報より）。\n\n・留意事項：固化材の種類及び添加量は、配合設計試験等により設計すること。また、本工法比較表での施工費には固化材の費用は含まれていないので、別途考慮すること。",null,"・安定処理技術に位置付けられるイーキューブシステム®は、高分子凝集剤と固化材を泥土の流動程度に応じて添加し、約30秒程度の攪拌・混合を連続的に処理することにより、粒状の地盤材料を生成するものであり、泥土を要求品質に応じた地盤材料に改良して路体・路床材、埋戻し材や堤体材料等として再利用することができる技術である（補完情報より）。\n・また、性状の異なる多種多様な泥土に対しても、利活用の目的に応じた品質の処理土（第2～4種処理土相当）の生成が可能であり、処理土の用途範囲が広く限定されない（補完情報より）。\n\n・所見：降雨時にも施工が可能で、常に安定した改良土の生成が可能であり、施工性は良好（評価情報より）。\n・留意事項：改良土の品質確保において、泥土の均質化、異物の分級作業が重要である（評価情報より）。\n・固化材は要求品質（強度発現性、六価クロム溶出対策、中性域での処理等）に対して柔軟な対応が可能であり、30種類以上（セメント系、石灰系、石膏系等）の中から、泥土性状、供給体制等を鑑みて選定する（補完情報より）。\n\n・留意事項：固化材の種類及び添加量は、配合設計試験等により設計すること。また、本工法比較表での施工費には固化材の費用は含まれていないので、別途考慮すること。",null,"本工法は、混合機構をロータリハンマ（衝撃混合）からチェーンの打撃で破砕と混合を同時に行う機構に変えたことで、最大粒径200mmまでの軟岩の破砕・粒度調整と固結粘性土の解砕が可能である。混合室内に建設発生土の付着防止装置を装備したことにより、付着物除去作業をプラント稼働しながらできるため、省力化による施工性の向上が図れる。また、混合仕様を1ホッパーの1材仕様から2材仕様の土砂ホッパーとベルコンを1系統追加できる設備にした（NETIS情報・補完情報より）。\n\n留意事項：\n・当技術を導入する際には、改良土の目標品質、建設発生土の土質性状、想定配合などの検討、施工予想時期、施工規模などの調整が必要となる（補完情報より）。\n・施工機械の保有台数（全国1台）が少ないため、活用における機械の調達に留意すること（WGからのコメント）。\n・岩塊やレキが多い場合は、騒音対策（防音パネル）を考えることが必要（補完情報より）。",null,"本工法は、混合機構をロータリハンマ（衝撃混合）からチェーンの打撃で破砕と混合を同時に行う機構に変えたことで、最大粒径200mmまでの軟岩の破砕・粒度調整と固結粘性土の解砕が可能である。混合室内に建設発生土の付着防止装置を装備したことにより、付着物除去作業をプラント稼働しながらできるため、省力化による施工性の向上が図れる。また、混合仕様を1ホッパーの1材仕様から2材仕様の土砂ホッパーとベルコンを1系統追加できる設備にした（NETIS情報・補完情報より）。\n\n留意事項：\n・当技術を導入する際には、改良土の目標品質、建設発生土の土質性状、想定配合などの検討、施工予想時期、施工規模などの調整が必要となる（補完情報より）。\n・施工機械の保有台数（全国1台）が少ないため、活用における機械の調達に留意すること（WGからのコメント）。\n・岩塊やレキが多い場合は、騒音対策（防音パネル）を考えることが必要（補完情報より）。",null,"・スタビライザにGNSS施工管理システムを搭載しているため、オペレータによるシステム画面での施工位置の確認と、リアルタイムな混合状況（一次混合・二次混合）の把握が可能であり、施工管理記録のデータ化により施工完了後の帳票出力も可能（NETIS情報より）。\n\n留意事項：GNSS信号を受信できる環境が必要（NETIS情報より）。\n留意事項：建設発生土の土質、改良深度、施工範囲等を確認し、品質規格を満足させるために混合する土砂の選定とその配合比率等を十分検討する（NETIS情報より）。",null,"・スタビライザにGNSS施工管理システムを搭載しているため、オペレータによるシステム画面での施工位置の確認と、リアルタイムな混合状況（一次混合・二次混合）の把握が可能であり、施工管理記録のデータ化により施工完了後の帳票出力も可能（NETIS情報より）。\n\n留意事項：GNSS信号を受信できる環境が必要（NETIS情報より）。\n留意事項：建設発生土の土質、改良深度、施工範囲等を確認し、品質規格を満足させるために混合する土砂の選定とその配合比率等を十分検討する（NETIS情報より）。",null,"補完調査未回答で、WGでの検討は未実施",null,"補完調査、WGでの検討は未実施",null,"・吸水性泥土改質材「ワトル」は、吸水性の高いペーパースラッジ焼却灰（PS灰）を主原料とした泥土改質材である（補完情報より）。\n　①即時に改質可能（吸水効果、団粒化）。\n　②養生により強度が増加する（補助材による水和反応）。\n　③吸水改質であるためフミン酸等を含む有機質土の改質が可能。\n　④改質土はのpHは混合当初の10～11から徐々に低下し、10日程度で8.5以下の中性域となる。\n　⑤腐臭泥土の臭気低減効果がある。\n・改良材の原料にリサイクル材が活用されているため、廃棄物の削減に伴う環境負荷低減効果が期待できる（WGからのコメント）。\n・留意事項：産業廃棄物等のリサイクル材料を原料とした改良材については、現場条件等によっては含有される重金属類等の溶出の可能性があるので、使用環境、溶出試験結果等に留意すること（WGからのコメント）。\n・留意事項：改良材の添加量は、施工方法（施工機械）の精度を考慮の上、配合設計等により設計すること。また、本工法比較表は材料費のみであるため、施工費（労務、機械運転費等）については、別途加算すること。",null,"・吸水性泥土改質材「ワトル」は、吸水性の高いペーパースラッジ焼却灰（PS灰）を主原料とした泥土改質材である（補完情報より）。\n　①即時に改質可能（吸水効果、団粒化）。\n　②養生により強度が増加する（補助材による水和反応）。\n　③吸水改質であるためフミン酸等を含む有機質土の改質が可能。\n　④改質土はのpHは混合当初の10～11から徐々に低下し、10日程度で8.5以下の中性域となる。\n　⑤腐臭泥土の臭気低減効果がある。\n・改良材の原料にリサイクル材が活用されているため、廃棄物の削減に伴う環境負荷低減効果が期待できる（WGからのコメント）。\n・留意事項：産業廃棄物等のリサイクル材料を原料とした改良材については、現場条件等によっては含有される重金属類等の溶出の可能性があるので、使用環境、溶出試験結果等に留意すること（WGからのコメント）。\n・留意事項：改良材の添加量は、施工方法（施工機械）の精度を考慮の上、配合設計等により設計すること。また、本工法比較表は材料費のみであるため、施工費（労務、機械運転費等）については、別途加算すること。",null,"・吸水性泥土改質材「ワトル」は、吸水性の高いペーパースラッジ焼却灰（PS灰）を主原料とした泥土改質材である（補完情報より）。\n　①即時に改質可能（吸水効果、団粒化）。\n　②養生により強度が増加する（補助材による水和反応）。\n　③吸水改質であるためフミン酸等を含む有機質土の改質が可能。\n　④改質土はのpHは混合当初の10～11から徐々に低下し、10日程度で8.5以下の中性域となる。\n　⑤腐臭泥土の臭気低減効果がある。\n・改良材の原料にリサイクル材が活用されているため、廃棄物の削減に伴う環境負荷低減効果が期待できる（WGからのコメント）。\n・留意事項：産業廃棄物等のリサイクル材料を原料とした改良材については、現場条件等によっては含有される重金属類等の溶出の可能性があるので、使用環境、溶出試験結果等に留意すること（WGからのコメント）。\n・留意事項：改良材の添加量は、施工方法（施工機械）の精度を考慮の上、配合設計等により設計すること。また、本工法比較表は材料費のみであるため、施工費（労務、機械運転費等）については、別途加算すること。",null,"・吸水性泥土改質材「ワトル」は、吸水性の高いペーパースラッジ焼却灰（PS灰）を主原料とした泥土改質材である（補完情報より）。\n　①即時に改質可能（吸水効果、団粒化）。\n　②養生により強度が増加する（補助材による水和反応）。\n　③吸水改質であるためフミン酸等を含む有機質土の改質が可能。\n　④改質土はのpHは混合当初の10～11から徐々に低下し、10日程度で8.5以下の中性域となる。\n　⑤腐臭泥土の臭気低減効果がある。\n・改良材の原料にリサイクル材が活用されているため、廃棄物の削減に伴う環境負荷低減効果が期待できる（WGからのコメント）。\n・留意事項：産業廃棄物等のリサイクル材料を原料とした改良材については、現場条件等によっては含有される重金属類等の溶出の可能性があるので、使用環境、溶出試験結果等に留意すること（WGからのコメント）。\n・留意事項：改良材の添加量は、施工方法（施工機械）の精度を考慮の上、配合設計等により設計すること。また、本工法比較表は材料費のみであるため、施工費（労務、機械運転費等）については、別途加算すること。",null,"・軟弱な浚渫土にカルシア改質材を混合することで、強度の発現、水中投入時の濁り抑制、リンや硫化物の溶出抑制といった特長を持つ（補完情報より）。\n\n・固化特性を活用し、堤防材や盛土材といった付帯設備造成材料としても活用可能である（NETIS情報より）。\n・カルシア改質土は、海水中において長期的な劣化は少ないことがわかっているが、気中で表層材として用いる場合は、乾燥による劣化に注意を要する（NETIS情報より）。\n\n・改良材の原料にリサイクル材が活用されているため、廃棄物の削減に伴う環境負荷低減効果が期待できる（WGからのコメント）。\n・留意事項：産業廃棄物等のリサイクル材料を原料とした改良材については、現場条件等によっては含有される重金属類等の溶出の可能性があるので、使用環境、溶出試験結果等に留意すること（WGからのコメント）。\n\n・留意事項：改良材の添加量は、施工方法（施工機械）の精度を考慮の上、配合設計等により設計すること。また、本工法比較表は材料費のみであるため、施工費（労務、機械運転費等）については、別途加算すること。",null,"・軟弱な浚渫土にカルシア改質材を混合することで、強度の発現、水中投入時の濁り抑制、リンや硫化物の溶出抑制といった特長を持つ（補完情報より）。\n\n・固化特性を活用し、堤防材や盛土材といった付帯設備造成材料としても活用可能である（NETIS情報より）。\n・カルシア改質土は、海水中において長期的な劣化は少ないことがわかっているが、気中で表層材として用いる場合は、乾燥による劣化に注意を要する（NETIS情報より）。\n\n・改良材の原料にリサイクル材が活用されているため、廃棄物の削減に伴う環境負荷低減効果が期待できる（WGからのコメント）。\n・留意事項：産業廃棄物等のリサイクル材料を原料とした改良材については、現場条件等によっては含有される重金属類等の溶出の可能性があるので、使用環境、溶出試験結果等に留意すること（WGからのコメント）。\n\n・留意事項：改良材の添加量は、施工方法（施工機械）の精度を考慮の上、配合設計等により設計すること。また、本工法比較表は材料費のみであるため、施工費（労務、機械運転費等）については、別途加算すること。",null,"・処理直後からの強度発現により、改良後すぐに転圧が可能であり、かつ構成成分中の石灰・石膏により、有機を含む酸性土壌においてもポゾラン反応・エトリンガイド生成反応を促進し、長期的な改良効果を発揮する。石灰の水和反応による発熱で強度発現が促進されるため、冬季など低気温時にも改良可能。繰り返し、固化反応をおこすため、改良土の再利用やストック後の再使用が可能（補完情報より）。\n・所見：セメント系材料を含有していないため、六価クロム溶出の恐れがない（評価情報より）。\n\n・留意事項：複数の製品仕様（SEリバース(L)、(LX)、(LS)、(LN)、(LH)）を有するため活用にあたっては各現場毎の用途について開発者に問い合わせを行うものとする。\n　・SEリバース(L)：汎用型。　・SEリバース(LX)：発塵抑制型。　・SEリバース(LS)：高含水泥土用高強度型。\n　・SEリバース(LN)：中性移行型。　・SEリバース(LH)：低含水用防塵型。\n・留意事項：石膏を原料とした固化材については、フッ素の溶出に注意する必要がある（WGからのコメント）。\n・留意事項：固化材の添加量は、施工方法（施工機械）の精度を考慮の上、配合設計等により設計すること。また、本工法比較表は材料費のみであるため、施工費（労務、機械運転費等）については、別途加算すること。",null,"・処理直後からの強度発現により、改良後すぐに転圧が可能であり、かつ構成成分中の石灰・石膏により、有機を含む酸性土壌においてもポゾラン反応・エトリンガイド生成反応を促進し、長期的な改良効果を発揮する。石灰の水和反応による発熱で強度発現が促進されるため、冬季など低気温時にも改良可能。繰り返し、固化反応をおこすため、改良土の再利用やストック後の再使用が可能（補完情報より）。\n・所見：セメント系材料を含有していないため、六価クロム溶出の恐れがない（評価情報より）。\n\n・留意事項：複数の製品仕様（SEリバース(L)、(LX)、(LS)、(LN)、(LH)）を有するため活用にあたっては各現場毎の用途について開発者に問い合わせを行うものとする。\n　・SEリバース(L)：汎用型。　・SEリバース(LX)：発塵抑制型。　・SEリバース(LS)：高含水泥土用高強度型。\n　・SEリバース(LN)：中性移行型。　・SEリバース(LH)：低含水用防塵型。\n・留意事項：石膏を原料とした固化材については、フッ素の溶出に注意する必要がある（WGからのコメント）。\n・留意事項：固化材の添加量は、施工方法（施工機械）の精度を考慮の上、配合設計等により設計すること。また、本工法比較表は材料費のみであるため、施工費（労務、機械運転費等）については、別途加算すること。",null,"・処理直後からの強度発現により、改良後すぐに転圧が可能であり、かつ構成成分中の石灰・石膏により、有機を含む酸性土壌においてもポゾラン反応・エトリンガイド生成反応を促進し、長期的な改良効果を発揮する。石灰の水和反応による発熱で強度発現が促進されるため、冬季など低気温時にも改良可能。繰り返し、固化反応をおこすため、改良土の再利用やストック後の再使用が可能（補完情報より）。\n・所見：セメント系材料を含有していないため、六価クロム溶出の恐れがない（評価情報より）。\n\n・留意事項：複数の製品仕様（SEリバース(L)、(LX)、(LS)、(LN)、(LH)）を有するため活用にあたっては各現場毎の用途について開発者に問い合わせを行うものとする。\n　・SEリバース(L)：汎用型。　・SEリバース(LX)：発塵抑制型。　・SEリバース(LS)：高含水泥土用高強度型。\n　・SEリバース(LN)：中性移行型。　・SEリバース(LH)：低含水用防塵型。\n・留意事項：石膏を原料とした固化材については、フッ素の溶出に注意する必要がある（WGからのコメント）。\n・留意事項：固化材の添加量は、施工方法（施工機械）の精度を考慮の上、配合設計等により設計すること。また、本工法比較表は材料費のみであるため、施工費（労務、機械運転費等）については、別途加算すること。",null,"・処理直後からの強度発現により、改良後すぐに転圧が可能であり、かつ構成成分中の石灰・石膏により、有機を含む酸性土壌においてもポゾラン反応・エトリンガイド生成反応を促進し、長期的な改良効果を発揮する。石灰の水和反応による発熱で強度発現が促進されるため、冬季など低気温時にも改良可能。繰り返し、固化反応をおこすため、改良土の再利用やストック後の再使用が可能（補完情報より）。\n・所見：セメント系材料を含有していないため、六価クロム溶出の恐れがない（評価情報より）。\n\n・留意事項：複数の製品仕様（SEリバース(L)、(LX)、(LS)、(LN)、(LH)）を有するため活用にあたっては各現場毎の用途について開発者に問い合わせを行うものとする。\n　・SEリバース(L)：汎用型。　・SEリバース(LX)：発塵抑制型。　・SEリバース(LS)：高含水泥土用高強度型。\n　・SEリバース(LN)：中性移行型。　・SEリバース(LH)：低含水用防塵型。\n・留意事項：石膏を原料とした固化材については、フッ素の溶出に注意する必要がある（WGからのコメント）。\n・留意事項：固化材の添加量は、施工方法（施工機械）の精度を考慮の上、配合設計等により設計すること。また、本工法比較表は材料費のみであるため、施工費（労務、機械運転費等）については、別途加算すること。",null,"・製品自体が土壌環境基準値（28項目）を遵守した安全な改良材であり、処理土は早期（4週～6週）にｐＨ９以下となり、覆土の必要が無く改良土に直接緑化が可能（補完情報より）。\n・泥土中に含まれる自然由来重金属等も、材料特性の効果も相まって不溶出化（軽減化）を実現する（補完情報より）。\n\n・所見：第３種～第２種建設発生土以上に改良でき、改良土は再掘削が可能となる（評価情報より）。\n\n・改良材の原料にリサイクル材が活用されているため、廃棄物の削減に伴う環境負荷低減効果が期待できる（WGからのコメント）。\n・留意事項：産業廃棄物等のリサイクル材料を原料とした改良材については、現場条件等によっては含有される重金属類等の溶出の可能性があるので、使用環境、溶出試験結果等に留意すること（WGからのコメント）。\n\n・留意事項：改良材の添加量は、施工方法（施工機械）を考慮の上、配合設計等により設計すること。また、本工法比較表は材料費のみであるため、施工費（労務、機械運転費等）については、別途加算すること。",null,"・製品自体が土壌環境基準値（28項目）を遵守した安全な改良材であり、処理土は早期（4週～6週）にｐＨ９以下となり、覆土の必要が無く改良土に直接緑化が可能（補完情報より）。\n・泥土中に含まれる自然由来重金属等も、材料特性の効果も相まって不溶出化（軽減化）を実現する（補完情報より）。\n\n・所見：第３種～第２種建設発生土以上に改良でき、改良土は再掘削が可能となる（評価情報より）。\n\n・改良材の原料にリサイクル材が活用されているため、廃棄物の削減に伴う環境負荷低減効果が期待できる（WGからのコメント）。\n・留意事項：産業廃棄物等のリサイクル材料を原料とした改良材については、現場条件等によっては含有される重金属類等の溶出の可能性があるので、使用環境、溶出試験結果等に留意すること（WGからのコメント）。\n\n・留意事項：改良材の添加量は、施工方法（施工機械）を考慮の上、配合設計等により設計すること。また、本工法比較表は材料費のみであるため、施工費（労務、機械運転費等）については、別途加算すること。",null,"・製品自体が土壌環境基準値（28項目）を遵守した安全な改良材であり、処理土は早期（4週～6週）にｐＨ９以下となり、覆土の必要が無く改良土に直接緑化が可能（補完情報より）。\n・泥土中に含まれる自然由来重金属等も、材料特性の効果も相まって不溶出化（軽減化）を実現する（補完情報より）。\n\n・所見：第３種～第２種建設発生土以上に改良でき、改良土は再掘削が可能となる（評価情報より）。\n\n・改良材の原料にリサイクル材が活用されているため、廃棄物の削減に伴う環境負荷低減効果が期待できる（WGからのコメント）。\n・留意事項：産業廃棄物等のリサイクル材料を原料とした改良材については、現場条件等によっては含有される重金属類等の溶出の可能性があるので、使用環境、溶出試験結果等に留意すること（WGからのコメント）。\n\n・留意事項：改良材の添加量は、施工方法（施工機械）を考慮の上、配合設計等により設計すること。また、本工法比較表は材料費のみであるため、施工費（労務、機械運転費等）については、別途加算すること。",null,"・製品自体が土壌環境基準値（28項目）を遵守した安全な改良材であり、処理土は早期（4週～6週）にｐＨ９以下となり、覆土の必要が無く改良土に直接緑化が可能（補完情報より）。\n・泥土中に含まれる自然由来重金属等も、材料特性の効果も相まって不溶出化（軽減化）を実現する（補完情報より）。\n\n・所見：第３種～第２種建設発生土以上に改良でき、改良土は再掘削が可能となる（評価情報より）。\n\n・改良材の原料にリサイクル材が活用されているため、廃棄物の削減に伴う環境負荷低減効果が期待できる（WGからのコメント）。\n・留意事項：産業廃棄物等のリサイクル材料を原料とした改良材については、現場条件等によっては含有される重金属類等の溶出の可能性があるので、使用環境、溶出試験結果等に留意すること（WGからのコメント）。\n\n・留意事項：改良材の添加量は、施工方法（施工機械）を考慮の上、配合設計等により設計すること。また、本工法比較表は材料費のみであるため、施工費（労務、機械運転費等）については、別途加算すること。",null,"・ボンテラン改良土は乾湿繰返しを受けても劣化せず、高い耐久性を有する。また一軸圧縮試験における、破壊ひずみが大きく、変形係数が小さく、靱性の向上が図れる。初期材齢（養生24時間）で、普通ダンプトラックのトラフィカビリティーを確保できるコーン指数（1200kN/m2）に近い強度を有することが確認されている（補完情報より）。\n・ボンテラン改良土中のボンファイバーは pH7.0付近では微生物の影響により分解してまうが、pH9.5以上の高アルカリ環境では分解しない（補完情報より）。\n・所見：古紙を利用し、建設汚泥を再利用するため廃棄物を抑制できる（評価情報より）。\n・留意事項：粉砕古紙から粉塵が発生する場合があるので、飛散防止処置が必要（評価情報より）。\n\n・改良材の原料にリサイクル材が活用されているため、廃棄物の削減に伴う環境負荷低減効果が期待できる（WGからのコメント）。\n・留意事項：産業廃棄物等のリサイクル材料を原料とした改良材については、現場条件等によっては含有される重金属類等の溶出の可能性があるので、使用環境、溶出試験結果等に留意すること（WGからのコメント）。\n・留意事項：改良材の添加量は、施工方法（施工機械）の精度を考慮の上、配合設計等により設計すること。また、本工法比較表は材料費のみであるため、施工費（労務、機械運転費等）については、別途加算すること。",null,"・ボンテラン改良土は乾湿繰返しを受けても劣化せず、高い耐久性を有する。また一軸圧縮試験における、破壊ひずみが大きく、変形係数が小さく、靱性の向上が図れる。初期材齢（養生24時間）で、普通ダンプトラックのトラフィカビリティーを確保できるコーン指数（1200kN/m2）に近い強度を有することが確認されている（補完情報より）。\n・ボンテラン改良土中のボンファイバーは pH7.0付近では微生物の影響により分解してまうが、pH9.5以上の高アルカリ環境では分解しない（補完情報より）。\n・所見：古紙を利用し、建設汚泥を再利用するため廃棄物を抑制できる（評価情報より）。\n・留意事項：粉砕古紙から粉塵が発生する場合があるので、飛散防止処置が必要（評価情報より）。\n\n・改良材の原料にリサイクル材が活用されているため、廃棄物の削減に伴う環境負荷低減効果が期待できる（WGからのコメント）。\n・留意事項：産業廃棄物等のリサイクル材料を原料とした改良材については、現場条件等によっては含有される重金属類等の溶出の可能性があるので、使用環境、溶出試験結果等に留意すること（WGからのコメント）。\n・留意事項：改良材の添加量は、施工方法（施工機械）の精度を考慮の上、配合設計等により設計すること。また、本工法比較表は材料費のみであるため、施工費（労務、機械運転費等）については、別途加算すること。",null,"・ボンテラン改良土は乾湿繰返しを受けても劣化せず、高い耐久性を有する。また一軸圧縮試験における、破壊ひずみが大きく、変形係数が小さく、靱性の向上が図れる。初期材齢（養生24時間）で、普通ダンプトラックのトラフィカビリティーを確保できるコーン指数（1200kN/m2）に近い強度を有することが確認されている（補完情報より）。\n・ボンテラン改良土中のボンファイバーは pH7.0付近では微生物の影響により分解してまうが、pH9.5以上の高アルカリ環境では分解しない（補完情報より）。\n・所見：古紙を利用し、建設汚泥を再利用するため廃棄物を抑制できる（評価情報より）。\n・留意事項：粉砕古紙から粉塵が発生する場合があるので、飛散防止処置が必要（評価情報より）。\n\n・改良材の原料にリサイクル材が活用されているため、廃棄物の削減に伴う環境負荷低減効果が期待できる（WGからのコメント）。\n・留意事項：産業廃棄物等のリサイクル材料を原料とした改良材については、現場条件等によっては含有される重金属類等の溶出の可能性があるので、使用環境、溶出試験結果等に留意すること（WGからのコメント）。\n・留意事項：改良材の添加量は、施工方法（施工機械）の精度を考慮の上、配合設計等により設計すること。また、本工法比較表は材料費のみであるため、施工費（労務、機械運転費等）については、別途加算すること。",null,"・ボンテラン改良土は乾湿繰返しを受けても劣化せず、高い耐久性を有する。また一軸圧縮試験における、破壊ひずみが大きく、変形係数が小さく、靱性の向上が図れる。初期材齢（養生24時間）で、普通ダンプトラックのトラフィカビリティーを確保できるコーン指数（1200kN/m2）に近い強度を有することが確認されている（補完情報より）。\n・ボンテラン改良土中のボンファイバーは pH7.0付近では微生物の影響により分解してまうが、pH9.5以上の高アルカリ環境では分解しない（補完情報より）。\n・所見：古紙を利用し、建設汚泥を再利用するため廃棄物を抑制できる（評価情報より）。\n・留意事項：粉砕古紙から粉塵が発生する場合があるので、飛散防止処置が必要（評価情報より）。\n\n・改良材の原料にリサイクル材が活用されているため、廃棄物の削減に伴う環境負荷低減効果が期待できる（WGからのコメント）。\n・留意事項：産業廃棄物等のリサイクル材料を原料とした改良材については、現場条件等によっては含有される重金属類等の溶出の可能性があるので、使用環境、溶出試験結果等に留意すること（WGからのコメント）。\n・留意事項：改良材の添加量は、施工方法（施工機械）の精度を考慮の上、配合設計等により設計すること。また、本工法比較表は材料費のみであるため、施工費（労務、機械運転費等）については、別途加算すること。",null,"・FTマッドキラーは、再生紙の製造工程で発生するペーパースラッジ灰を基材とした、多孔質で吸水性に優れた土質改良材である（補完情報より）。\n　①材料は無機多孔質で吸水効果を主体とする物理的な改良であり、養生時間なし(瞬時に改良可能)。 　②粘性土、砂質土、腐植土、改良土等すべての土質に対応可能。 　③セメント系、石灰系固化材と比べて材料のpHが低く、周辺環境への影響が少ない。 　④処理土は、再掘削してもくり返し利用可能であり、処理土に対して、追添加が可能で強度増加が図れる。　⑤改良は、バックホウや自走式改良機等の汎用機が適用可能。\n・留意事項：固化材の添加量によっては改良土のpHが高くなる場合がある為、pHの確認が必要。また、改良土のpHが高い場合には、利用の際「建設汚泥再生マニュアル」に基づく対策が必要（評価情報より）。\n・改良材の原料にリサイクル材が活用されているため、廃棄物の削減に伴う環境負荷低減効果が期待できる（WGからのコメント）。\n・留意事項：産業廃棄物等のリサイクル材料を原料とした改良材については、現場条件等によっては含有される重金属類等の溶出の可能性があるので、使用環境、溶出試験結果等に留意すること（WGからのコメント）。\n・留意事項：固化材の添加量は、施工方法（施工機械）の精度を考慮の上、配合設計等により設計すること。また、本工法比較表は材料費のみであるため、施工費（労務、機械運転費等）については、別途加算すること。",null,"・FTマッドキラーは、再生紙の製造工程で発生するペーパースラッジ灰を基材とした、多孔質で吸水性に優れた土質改良材である（補完情報より）。\n　①材料は無機多孔質で吸水効果を主体とする物理的な改良であり、養生時間なし(瞬時に改良可能)。 　②粘性土、砂質土、腐植土、改良土等すべての土質に対応可能。 　③セメント系、石灰系固化材と比べて材料のpHが低く、周辺環境への影響が少ない。 　④処理土は、再掘削してもくり返し利用可能であり、処理土に対して、追添加が可能で強度増加が図れる。　⑤改良は、バックホウや自走式改良機等の汎用機が適用可能。\n・留意事項：固化材の添加量によっては改良土のpHが高くなる場合がある為、pHの確認が必要。また、改良土のpHが高い場合には、利用の際「建設汚泥再生マニュアル」に基づく対策が必要（評価情報より）。\n・改良材の原料にリサイクル材が活用されているため、廃棄物の削減に伴う環境負荷低減効果が期待できる（WGからのコメント）。\n・留意事項：産業廃棄物等のリサイクル材料を原料とした改良材については、現場条件等によっては含有される重金属類等の溶出の可能性があるので、使用環境、溶出試験結果等に留意すること（WGからのコメント）。\n・留意事項：固化材の添加量は、施工方法（施工機械）の精度を考慮の上、配合設計等により設計すること。また、本工法比較表は材料費のみであるため、施工費（労務、機械運転費等）については、別途加算すること。",null,"・FTマッドキラーは、再生紙の製造工程で発生するペーパースラッジ灰を基材とした、多孔質で吸水性に優れた土質改良材である（補完情報より）。\n　①材料は無機多孔質で吸水効果を主体とする物理的な改良であり、養生時間なし(瞬時に改良可能)。 　②粘性土、砂質土、腐植土、改良土等すべての土質に対応可能。 　③セメント系、石灰系固化材と比べて材料のpHが低く、周辺環境への影響が少ない。 　④処理土は、再掘削してもくり返し利用可能であり、処理土に対して、追添加が可能で強度増加が図れる。　⑤改良は、バックホウや自走式改良機等の汎用機が適用可能。\n・留意事項：固化材の添加量によっては改良土のpHが高くなる場合がある為、pHの確認が必要。また、改良土のpHが高い場合には、利用の際「建設汚泥再生マニュアル」に基づく対策が必要（評価情報より）。\n・改良材の原料にリサイクル材が活用されているため、廃棄物の削減に伴う環境負荷低減効果が期待できる（WGからのコメント）。\n・留意事項：産業廃棄物等のリサイクル材料を原料とした改良材については、現場条件等によっては含有される重金属類等の溶出の可能性があるので、使用環境、溶出試験結果等に留意すること（WGからのコメント）。\n・留意事項：固化材の添加量は、施工方法（施工機械）の精度を考慮の上、配合設計等により設計すること。また、本工法比較表は材料費のみであるため、施工費（労務、機械運転費等）については、別途加算すること。",null,"・FTマッドキラーは、再生紙の製造工程で発生するペーパースラッジ灰を基材とした、多孔質で吸水性に優れた土質改良材である（補完情報より）。\n　①材料は無機多孔質で吸水効果を主体とする物理的な改良であり、養生時間なし(瞬時に改良可能)。 　②粘性土、砂質土、腐植土、改良土等すべての土質に対応可能。 　③セメント系、石灰系固化材と比べて材料のpHが低く、周辺環境への影響が少ない。 　④処理土は、再掘削してもくり返し利用可能であり、処理土に対して、追添加が可能で強度増加が図れる。　⑤改良は、バックホウや自走式改良機等の汎用機が適用可能。\n・留意事項：固化材の添加量によっては改良土のpHが高くなる場合がある為、pHの確認が必要。また、改良土のpHが高い場合には、利用の際「建設汚泥再生マニュアル」に基づく対策が必要（評価情報より）。\n・改良材の原料にリサイクル材が活用されているため、廃棄物の削減に伴う環境負荷低減効果が期待できる（WGからのコメント）。\n・留意事項：産業廃棄物等のリサイクル材料を原料とした改良材については、現場条件等によっては含有される重金属類等の溶出の可能性があるので、使用環境、溶出試験結果等に留意すること（WGからのコメント）。\n・留意事項：固化材の添加量は、施工方法（施工機械）の精度を考慮の上、配合設計等により設計すること。また、本工法比較表は材料費のみであるため、施工費（労務、機械運転費等）については、別途加算すること。",null,"・サラサクリーンは、粘性の高い土壌を短時間でさらさらの砂状に改質できる中性の土質改良材であり、土質改良後の土壌は瞬時にコーン指数400～800kN/m2程度に地盤強度を改善し、その強度を維持することが可能。放射性物質の除染作業における、中間貯蔵施設の受入分別施設における除去土壌の改質や、土砂災害等に伴う災害廃棄物の分別作業などに適用することで、可燃物や廃棄物と土壌の分別精度を向上させるとともに、分別作業を迅速化できる（補完情報より）。\n\n・留意事項：複数の製品仕様（通常型、速効型、強度発現型）が1技術としてNETISに登録されているため活用にあたっては各現場毎の用途について開発者に問い合わせを行うものとする（NETIS情報より）。\n・留意事項：添加量15kg/m3程度での実績はある（補完情報より）。\n・留意事項：改良材の添加量は、施工方法（施工機械）の精度を考慮の上、配合設計等により設計すること。また、本工法比較表は材料費のみであるため、施工費（労務、機械運転費等）については、別途加算すること。",null,"・サラサクリーンは、粘性の高い土壌を短時間でさらさらの砂状に改質できる中性の土質改良材であり、土質改良後の土壌は瞬時にコーン指数400～800kN/m2程度に地盤強度を改善し、その強度を維持することが可能。放射性物質の除染作業における、中間貯蔵施設の受入分別施設における除去土壌の改質や、土砂災害等に伴う災害廃棄物の分別作業などに適用することで、可燃物や廃棄物と土壌の分別精度を向上させるとともに、分別作業を迅速化できる（補完情報より）。\n\n・留意事項：複数の製品仕様（通常型、速効型、強度発現型）が1技術としてNETISに登録されているため活用にあたっては各現場毎の用途について開発者に問い合わせを行うものとする（NETIS情報より）。\n\n・留意事項：改良材の添加量は、施工方法（施工機械）の精度を考慮の上、配合設計等により設計すること。また、本工法比較表は材料費のみであるため、施工費（労務、機械運転費等）については、別途加算すること。",null,"・サラサクリーンは、粘性の高い土壌を短時間でさらさらの砂状に改質できる中性の土質改良材であり、土質改良後の土壌は瞬時にコーン指数400～800kN/m2程度に地盤強度を改善し、その強度を維持することが可能。放射性物質の除染作業における、中間貯蔵施設の受入分別施設における除去土壌の改質や、土砂災害等に伴う災害廃棄物の分別作業などに適用することで、可燃物や廃棄物と土壌の分別精度を向上させるとともに、分別作業を迅速化できる（補完情報より）。\n\n・留意事項：複数の製品仕様（通常型、速効型、強度発現型）が1技術としてNETISに登録されているため活用にあたっては各現場毎の用途について開発者に問い合わせを行うものとする（NETIS情報より）。\n・留意事項：添加量15kg/m3程度での実績はある（補完情報より）。\n・留意事項：改良材の添加量は、施工方法（施工機械）の精度を考慮の上、配合設計等により設計すること。また、本工法比較表は材料費のみであるため、施工費（労務、機械運転費等）については、別途加算すること。",null,"・サラサクリーンは、粘性の高い土壌を短時間でさらさらの砂状に改質できる中性の土質改良材であり、土質改良後の土壌は瞬時にコーン指数400～800kN/m2程度に地盤強度を改善し、その強度を維持することが可能。放射性物質の除染作業における、中間貯蔵施設の受入分別施設における除去土壌の改質や、土砂災害等に伴う災害廃棄物の分別作業などに適用することで、可燃物や廃棄物と土壌の分別精度を向上させるとともに、分別作業を迅速化できる（補完情報より）。\n\n・留意事項：複数の製品仕様（通常型、速効型、強度発現型）が1技術としてNETISに登録されているため活用にあたっては各現場毎の用途について開発者に問い合わせを行うものとする（NETIS情報より）。\n\n・留意事項：改良材の添加量は、施工方法（施工機械）の精度を考慮の上、配合設計等により設計すること。また、本工法比較表は材料費のみであるため、施工費（労務、機械運転費等）については、別途加算すること。",null,"・セーフティーソイルは石膏を原料に製品化された非セメント系中性固化材であるため、粒状固化処理によって従来のセメン卜・石灰による固化乾燥処理に対しpH濃度をアルカリ性に上げることなく、現泥のpHが変化しないので植生を阻害することなく、環境・自然に無害で土壌環境基準に適合しリサイクルに適した土壌として再資源化される（補完情報より）。\n\n・改良材の原料にリサイクル材料が活用されているため、廃棄物の削減に伴う環境負荷低減効果が期待できる（WGからのコメント）。\n・留意事項：産業廃棄物等のリサイクル材料を原料とした改良材については、現場条件等によっては含有される重金属類等の溶出の可能性があるので、使用環境、溶出試験結果等に留意すること（WGからのコメント）。\n\n・留意事項：改良材の添加量は、施工方法（施工機械）の精度を考慮の上、配合設計等により設計すること。また、本工法比較表は材料費のみであるため、施工費（労務、機械運転費等）については、別途加算すること。",null,"・セーフティーソイルは石膏を原料に製品化された非セメント系中性固化材であるため、粒状固化処理によって従来のセメン卜・石灰による固化乾燥処理に対しpH濃度をアルカリ性に上げることなく、現泥のpHが変化しないので植生を阻害することなく、環境・自然に無害で土壌環境基準に適合しリサイクルに適した土壌として再資源化される（補完情報より）。\n\n・改良材の原料にリサイクル材料が活用されているため、廃棄物の削減に伴う環境負荷低減効果が期待できる（WGからのコメント）。\n・留意事項：産業廃棄物等のリサイクル材料を原料とした改良材については、現場条件等によっては含有される重金属類等の溶出の可能性があるので、使用環境、溶出試験結果等に留意すること（WGからのコメント）。\n\n・留意事項：改良材の添加量は、施工方法（施工機械）の精度を考慮の上、配合設計等により設計すること。また、本工法比較表は材料費のみであるため、施工費（労務、機械運転費等）については、別途加算すること。",null,"・セーフティーソイルは石膏を原料に製品化された非セメント系中性固化材であるため、粒状固化処理によって従来のセメン卜・石灰による固化乾燥処理に対しpH濃度をアルカリ性に上げることなく、現泥のpHが変化しないので植生を阻害することなく、環境・自然に無害で土壌環境基準に適合しリサイクルに適した土壌として再資源化される（補完情報より）。\n\n・改良材の原料にリサイクル材料が活用されているため、廃棄物の削減に伴う環境負荷低減効果が期待できる（WGからのコメント）。\n・留意事項：産業廃棄物等のリサイクル材料を原料とした改良材については、現場条件等によっては含有される重金属類等の溶出の可能性があるので、使用環境、溶出試験結果等に留意すること（WGからのコメント）。\n\n・留意事項：改良材の添加量は、施工方法（施工機械）の精度を考慮の上、配合設計等により設計すること。また、本工法比較表は材料費のみであるため、施工費（労務、機械運転費等）については、別途加算すること。",null,"・セーフティーソイルは石膏を原料に製品化された非セメント系中性固化材であるため、粒状固化処理によって従来のセメン卜・石灰による固化乾燥処理に対しpH濃度をアルカリ性に上げることなく、現泥のpHが変化しないので植生を阻害することなく、環境・自然に無害で土壌環境基準に適合しリサイクルに適した土壌として再資源化される（補完情報より）。\n\n・改良材の原料にリサイクル材料が活用されているため、廃棄物の削減に伴う環境負荷低減効果が期待できる（WGからのコメント）。\n・留意事項：産業廃棄物等のリサイクル材料を原料とした改良材については、現場条件等によっては含有される重金属類等の溶出の可能性があるので、使用環境、溶出試験結果等に留意すること（WGからのコメント）。\n\n・留意事項：改良材の添加量は、施工方法（施工機械）の精度を考慮の上、配合設計等により設計すること。また、本工法比較表は材料費のみであるため、施工費（労務、機械運転費等）については、別途加算すること。",null,"・建設工事で発生する土壌に含まれる自然由来の重金属及び現場より流出される泥水処理水に含まれる重金属類を吸着浄化できる材料である。吸着資材（「メタルグリッドA」）と土砂（吸着層母材）を混合して吸着層の材料とする（補完情報より）。\n\n・留意事項：自走式土質改良機で母材と吸着剤を混合する場合、配合設計で30㎏/ｍ³を下回る場合は30㎏/ｍ³とする。また、本工法比較表は材料費のみであるため、施工費（労務、機械運転費等）については、別途加算すること。\n・留意事項：施工後の維持管理において、2～3年/回など定期的に吸着後の排水を測定して、数値が排水基準に不適合になる前に取り替えを行うこと。\n\n・留意事項：⑫固化材添加量は、吸着層を対象とした添加量である。約10,000㎥の汚染土壌の処理にあたって、30ｃｍの吸着層による処理を想定した場合、処理対象土全体に対する添加量は、2.1ｋｇ/㎥程度（1,575円/㎥程度）となる。",null,"・建設工事で発生する土壌に含まれる自然由来の重金属及び現場より流出される泥水処理水に含まれる重金属類を吸着浄化できる材料である。吸着資材（「メタルグリッドA」）と土砂（吸着層母材）を混合して吸着層の材料とする（補完情報より）。\n\n・留意事項：自走式土質改良機で母材と吸着剤を混合する場合、配合設計で30㎏/ｍ³を下回る場合は30㎏/ｍ³とする。また、本工法比較表は材料費のみであるため、施工費（労務、機械運転費等）については、別途加算すること。\n・留意事項：施工後の維持管理において、2～3年/回など定期的に吸着後の排水を測定して、数値が排水基準に不適合になる前に取り替えを行うこと。",null,"・汚泥(脱水ケーキ)とカルシウム系薬剤をセラミック加工させた材料で重金属類を吸着し、不溶化させる機能がある。耐水性も高く水中での使用も可能である。重金属による汚染土壌に対し、本材料を混合撹拌するだけで不溶化対策が可能となる（NETIS情報より）。\n\n留意事項：「不溶化盛土工法」及び「不溶化埋戻し工法」では、汚染土壌と不溶化材の均一な混合が必要である（NETIS情報より）。\n留意事項：汚染土壌を用いてポーラミックスの吸着性能を室内試験で確認し、必要な添加量を調査する（NETIS情報より）。",null,"・汚泥(脱水ケーキ)とカルシウム系薬剤をセラミック加工させた材料で重金属類を吸着し、不溶化させる機能がある。耐水性も高く水中での使用も可能である。重金属による汚染土壌に対し、本材料を混合撹拌するだけで不溶化対策が可能となる（NETIS情報より）。\n\n留意事項：「不溶化盛土工法」及び「不溶化埋戻し工法」では、汚染土壌と不溶化材の均一な混合が必要である（NETIS情報より）。\n留意事項：汚染土壌を用いてポーラミックスの吸着性能を室内試験で確認し、必要な添加量を調査する（NETIS情報より）。",null,"・重金属の不溶化効果を持ちながら土木材料として有効利用するための強度改善、塑性改質効果を発揮する不溶化改質材である（補完情報より）。\n・改良対象土のｐHに応じて3種類の製造（中性：(K)、酸性土：(S)又は(K）、アルカリ土：(L)）を使い分ける（NETIS情報より）。\n\n留意事項：ズリなど粒形の大きな土質の場合は、破砕やふるい、加水などの前処理が必要である（補完情報より）。\n留意事項：施工時の土の含水比が設計時と比べて大きく変動している場合は、再度配合試験を行い要求品質に対する配合量を調査することが必要である（NETIS情報より）。",null,"・重金属の不溶化効果を持ちながら土木材料として有効利用するための強度改善、塑性改質効果を発揮する不溶化改質材である（補完情報より）。\n・改良対象土のｐHに応じて3種類の製造（中性：(K)、酸性土：(S)又は(K）、アルカリ土：(L)）を使い分ける（NETIS情報より）。\n\n留意事項：ズリなど粒形の大きな土質の場合は、破砕やふるい、加水などの前処理が必要である（補完情報より）。\n留意事項：施工時の土の含水比が設計時と比べて大きく変動している場合は、再度配合試験を行い要求品質に対する配合量を調査することが必要である（NETIS情報より）。",null,"・重金属の不溶化効果を持ちながら土木材料として有効利用するための強度改善、塑性改質効果を発揮する不溶化改質材である（補完情報より）。\n・改良対象土のｐHに応じて3種類の製造（中性：(K)、酸性土：(S)又は(K）、アルカリ土：(L)）を使い分ける（NETIS情報より）。\n\n留意事項：ズリなど粒形の大きな土質の場合は、破砕やふるい、加水などの前処理が必要である（補完情報より）。\n留意事項：施工時の土の含水比が設計時と比べて大きく変動している場合は、再度配合試験を行い要求品質に対する配合量を調査することが必要である（NETIS情報より）。",null,"・重金属の不溶化効果を持ちながら土木材料として有効利用するための強度改善、塑性改質効果を発揮する不溶化改質材である（補完情報より）。\n・改良対象土のｐHに応じて3種類の製造（中性：(K)、酸性土：(S)又は(K）、アルカリ土：(L)）を使い分ける（NETIS情報より）。\n\n留意事項：ズリなど粒形の大きな土質の場合は、破砕やふるい、加水などの前処理が必要である（補完情報より）。\n留意事項：施工時の土の含水比が設計時と比べて大きく変動している場合は、再度配合試験を行い要求品質に対する配合量を調査することが必要である（NETIS情報より）。",null,"・重金属の不溶化効果を持ちながら土木材料として有効利用するための強度改善、塑性改質効果を発揮する不溶化改質材である（補完情報より）。\n・改良対象土のｐHに応じて3種類の製造（中性：(K)、酸性土：(S)又は(K）、アルカリ土：(L)）を使い分ける（NETIS情報より）。\n\n留意事項：ズリなど粒形の大きな土質の場合は、破砕やふるい、加水などの前処理が必要である（補完情報より）。\n留意事項：施工時の土の含水比が設計時と比べて大きく変動している場合は、再度配合試験を行い要求品質に対する配合量を調査することが必要である（NETIS情報より）。",null,"・重金属の不溶化効果を持ちながら土木材料として有効利用するための強度改善、塑性改質効果を発揮する不溶化改質材である（補完情報より）。\n・改良対象土のｐHに応じて3種類の製造（中性：(K)、酸性土：(S)又は(K）、アルカリ土：(L)）を使い分ける（NETIS情報より）。\n\n留意事項：ズリなど粒形の大きな土質の場合は、破砕やふるい、加水などの前処理が必要である（補完情報より）。\n留意事項：施工時の土の含水比が設計時と比べて大きく変動している場合は、再度配合試験を行い要求品質に対する配合量を調査することが必要である（NETIS情報より）。",null,"・九州地方（国土交通省）での活用実績はない（補完情報より）。\n\n・本技術は、マグネシウムと国内で産出されるテラフ（火山砕屑物）を含有する、アロフェン・イモゴライト（主として火山灰土壌地帯に含まれる粘土）を配合した重金属不溶化材であり、環境負荷が低減できる（NETIS情報より）。\n・粉体、スラリー（液状）でも施工可能（NETIS情報より）。\n・不溶化材の添加量や施工方法については、詳細な現場条件を調査し検討する（NETIS情報より）。\n\n・留意事項：固化材の添加量は、施工方法（施工機械）の精度を考慮の上、配合設計等により設計すること。また、本工法比較表は材料費のみであるため、施工費（労務、機械運転費等）については、別途加算すること。",null,"・九州地方（国土交通省）での活用実績はない（補完情報より）。\n\n・本技術は、マグネシウムと国内で産出されるテラフ（火山砕屑物）を含有する、アロフェン・イモゴライト（主として火山灰土壌地帯に含まれる粘土）を配合した重金属不溶化材であり、環境負荷が低減できる（NETIS情報より）。\n・粉体、スラリー（液状）でも施工可能（NETIS情報より）。\n・不溶化材の添加量や施工方法については、詳細な現場条件を調査し検討する（NETIS情報より）。\n\n・留意事項：固化材の添加量は、施工方法（施工機械）の精度を考慮の上、配合設計等により設計すること。また、本工法比較表は材料費のみであるため、施工費（労務、機械運転費等）については、別途加算すること。",null,"・九州地方（国土交通省）での活用実績はない（補完情報より）。\n\n・本技術は、軟弱な建設発生土・泥土・汚泥を再利用するための改良土のpHを中性域（pH5.0～pH9.0）に保つ中性改質剤で、従来は生石灰による改良と覆土で対応していた。本技術の活用により覆土が必要なくなり、経済性の向上と工程の短縮が図れる（NETIS情報より）。\n・ハードレックスシリーズ製品は、用途により選択可能。即時中性型：ハードレックス(J)（高強度発現）、pH減衰中性移行型：ハードレックス（R）（高含水泥土の塑性化）、ハードレックス（C）（ハンドリング・密度改善）、ハードレックス(H)（高強度発現）（NETIS情報より）。\n\n・留意事項：R,C,Hを使用する際は、混合後の養生中はシートなどを用いて、表流水が公共水域に流出しないように注意する（NETIS情報より）。\n・留意事項：固化材の添加量は、施工方法（施工機械）の精度を考慮の上、配合設計等により設計すること。また、本工法比較表は材料費のみであるため、施工費（労務、機械運転費等）については、別途加算すること。",null,"・九州地方（国土交通省）での活用実績はない（補完情報より）。\n\n・本技術は、軟弱な建設発生土・泥土・汚泥を再利用するための改良土のpHを中性域（pH5.0～pH9.0）に保つ中性改質剤で、従来は生石灰による改良と覆土で対応していた。本技術の活用により覆土が必要なくなり、経済性の向上と工程の短縮が図れる（NETIS情報より）。\n・ハードレックスシリーズ製品は、用途により選択可能。即時中性型：ハードレックス(J)（高強度発現）、pH減衰中性移行型：ハードレックス（R）（高含水泥土の塑性化）、ハードレックス（C）（ハンドリング・密度改善）、ハードレックス(H)（高強度発現）（NETIS情報より）。\n\n・留意事項：R,C,Hを使用する際は、混合後の養生中はシートなどを用いて、表流水が公共水域に流出しないように注意する（NETIS情報より）。\n・留意事項：固化材の添加量は、施工方法（施工機械）の精度を考慮の上、配合設計等により設計すること。また、本工法比較表は材料費のみであるため、施工費（労務、機械運転費等）については、別途加算すること。",null,"・九州地方（国土交通省）での活用実績はない（補完情報より）。\n\n・本技術は、軟弱な建設発生土・泥土・汚泥を再利用するための改良土のpHを中性域（pH5.0～pH9.0）に保つ中性改質剤で、従来は生石灰による改良と覆土で対応していた。本技術の活用により覆土が必要なくなり、経済性の向上と工程の短縮が図れる（NETIS情報より）。\n・ハードレックスシリーズ製品は、用途により選択可能。即時中性型：ハードレックス(J)（高強度発現）、pH減衰中性移行型：ハードレックス（R）（高含水泥土の塑性化）、ハードレックス（C）（ハンドリング・密度改善）、ハードレックス(H)（高強度発現）（NETIS情報より）。\n\n・留意事項：R,C,Hを使用する際は、混合後の養生中はシートなどを用いて、表流水が公共水域に流出しないように注意する（NETIS情報より）。\n・留意事項：固化材の添加量は、施工方法（施工機械）の精度を考慮の上、配合設計等により設計すること。また、本工法比較表は材料費のみであるため、施工費（労務、機械運転費等）については、別途加算すること。",null,"・九州地方（国土交通省）での活用実績はない（補完情報より）。\n\n・本技術は、軟弱な建設発生土・泥土・汚泥を再利用するための改良土のpHを中性域（pH5.0～pH9.0）に保つ中性改質剤で、従来は生石灰による改良と覆土で対応していた。本技術の活用により覆土が必要なくなり、経済性の向上と工程の短縮が図れる（NETIS情報より）。\n・ハードレックスシリーズ製品は、用途により選択可能。即時中性型：ハードレックス(J)（高強度発現）、pH減衰中性移行型：ハードレックス（R）（高含水泥土の塑性化）、ハードレックス（C）（ハンドリング・密度改善）、ハードレックス(H)（高強度発現）（NETIS情報より）。\n\n・留意事項：R,C,Hを使用する際は、混合後の養生中はシートなどを用いて、表流水が公共水域に流出しないように注意する（NETIS情報より）。\n・留意事項：固化材の添加量は、施工方法（施工機械）の精度を考慮の上、配合設計等により設計すること。また、本工法比較表は材料費のみであるため、施工費（労務、機械運転費等）については、別途加算すること。",null,"・九州地方（国土交通省）での活用実績はない（補完情報より）。\n・従来では難しかったセレンを含む複合汚染土への重金属不溶化が可能であり、処分場への持込み費用が削減できるため、盛土等へのリサイクルが可能となる（NETIS情報より）。\n\n・留意事項：土質や含水状態を考慮し、施工機械や施工方法を選定する。\n・留意事項：不溶化処理土の容量100m3毎に5点採取、均一に混合した試料について、土壌溶出量基準に適合する事を確認すること。\n・留意事項：不溶化材は雨水や湿気により固結する可能性があるため、長期間の現場保管は避ける。",null,"・九州地方（国土交通省）での活用実績はない（補完情報より）。\n・従来では難しかったセレンを含む複合汚染土への重金属不溶化が可能であり、処分場への持込み費用が削減できるため、盛土等へのリサイクルが可能となる（NETIS情報より）。\n\n・留意事項：土質や含水状態を考慮し、施工機械や施工方法を選定する。\n・留意事項：不溶化処理土の容量100m3毎に5点採取、均一に混合した試料について、土壌溶出量基準に適合する事を確認すること。\n・留意事項：不溶化材は雨水や湿気により固結する可能性があるため、長期間の現場保管は避ける。",null,"・九州地方（国土交通省）での活用実績はない（評価情報より）\n・スラリー状の改質剤であり、作業時の粉塵の低減が可能であるため、周辺環境への影響を抑制できる（NETIS情報より）。\n・添加量が少なく土砂の緩衝作用により中性域にて処理が可能となる（補完情報より)。\n・TP-Sの主成分は、特に吸着性の高い酸化水酸化鉄鉱物の一種であり、本製品を混合することで土の重金属類吸着機能の強化が可能となる（補完情報より）。\n・本製品は自硬性がないため、強度向上には関与しない（補完情報より）。\n・セメント系固化剤と比較して、セメントは添加量が多くなり、強アルカリ化や六価クロムの溶出、植害等のリスクがあるが、TP-Sではそれらの危険性がない。また、中性～弱酸性の土壌では、同様の性質を持つTP-Sはセメントより適しており、環境負荷の低減となる（補完情報より）。",null,"・九州地方（国土交通省）での活用実績はない（評価情報より）\n・スラリー状の改質剤であり、作業時の粉塵の低減が可能であるため、周辺環境への影響を抑制できる（NETIS情報より）。\n・添加量が少なく土砂の緩衝作用により中性域にて処理が可能となる（補完情報より)。\n・TP-Sの主成分は、特に吸着性の高い酸化水酸化鉄鉱物の一種であり、本製品を混合することで土の重金属類吸着機能の強化が可能となる（補完情報より）。\n・本製品は自硬性がないため、強度向上には関与しない（補完情報より）。\n・セメント系固化剤と比較して、セメントは添加量が多くなり、強アルカリ化や六価クロムの溶出、植害等のリスクがあるが、TP-Sではそれらの危険性がない。また、中性～弱酸性の土壌では、同様の性質を持つTP-Sはセメントより適しており、環境負荷の低減となる（補完情報より）。",null,"・セパットソイルＳシリーズはS-15及びS-30の2種類がある（S-15：比較的低含水比の軟弱土に使用、S-30：より高含水比の泥土などに使用）（補完情報より）。\n・本改良材は、高分子・鉱物系ハイブリッド材料であるため、発塵を抑え、ｐHを中性域に保ちながら、短時間でハンドリング改善と、締固め度増大が達成できる（補完情報より）。\n・発塵量試験により、高炉セメントの約1/20の発塵量であることを確認している（セパットソイルS-30：38個/50ｇ/分、高炉セメントＢ種：770個/50ｇ/分）（補完情報より）。",null,"・セパットソイルＳシリーズはS-15及びS-30の2種類がある（S-15：比較的低含水比の軟弱土に使用、S-30：より高含水比の泥土などに使用）（補完情報より）。\n・本改良材は、高分子・鉱物系ハイブリッド材料であるため、発塵を抑え、ｐHを中性域に保ちながら、短時間でハンドリング改善と、締固め度増大が達成できる（補完情報より）。\n・発塵量試験により、高炉セメントの約1/20の発塵量であることを確認している（セパットソイルS-30：38個/50ｇ/分、高炉セメントＢ種：770個/50ｇ/分）（補完情報より）。",null,"・九州地方（国土交通省）での活用実績はない（評価情報より）。\n・本改良剤は高分子による即時改良および早期強度発現が可能であり、かつ自硬性を有しているため締固め後に７日程度養生することでセメント系改質材のように固化が可能である（補完情報より）。\n・留意事項：施工時は、保護マスク、保護手袋、保護衣、保護眼鏡、保護面を着用する（NETIS情報より）。\n・留意事項：維持管理では・粉体の改質剤であり、高温多湿を避け、長期間暴露状態で放置しない（NETIS情報より）。\n・本技術の適用対象は以下である。　○：適用可能　空欄：適用外",null,"・九州地方（国土交通省）での活用実績はない（評価情報より）。\n・本改良剤は高分子による即時改良および早期強度発現が可能であり、かつ自硬性を有しているため締固め後に７日程度養生することでセメント系改質材のように固化が可能である（補完情報より）。\n・留意事項：施工時は、保護マスク、保護手袋、保護衣、保護眼鏡、保護面を着用する（NETIS情報より）。\n・留意事項：維持管理では・粉体の改質剤であり、高温多湿を避け、長期間暴露状態で放置しない（NETIS情報より）。\n・本技術の適用対象は以下である。　○：適用可能　空欄：適用外",null,"・九州地方（国土交通省）での活用実績はない（評価情報より）。\n・本改良剤は高分子による即時改良および早期強度発現が可能であり、かつ自硬性を有しているため締固め後に７日程度養生することでセメント系改質材のように固化が可能である（補完情報より）。\n・留意事項：施工時は、保護マスク、保護手袋、保護衣、保護眼鏡、保護面を着用する（NETIS情報より）。\n・留意事項：維持管理では・粉体の改質剤であり、高温多湿を避け、長期間暴露状態で放置しない（NETIS情報より）。\n・本技術の適用対象は以下である。　○：適用可能　空欄：適用外",null,"・九州地方（国土交通省）での活用実績はない（評価情報より）。\n・留意事項：施工時は、適切な保護具（手袋、長靴、保護めがね、防塵マスク等)を着用すること（NETIS情報より）。\n・粉体であるため、強風の環境下での対策は考慮すること（NETIS情報より）。\n・留意事項：維持管理では、降雨の恐れがある場合や湿度が高い場合は、改質材が濡れないようにビニールシート等で覆うこと（NETIS情報より）。\n・本技術の適用対象は以下である。　○：適用可能　-：適用外",null,"・九州地方（国土交通省）での活用実績はない（評価情報より）。\n・留意事項：施工時は、適切な保護具（手袋、長靴、保護めがね、防塵マスク等)を着用すること（NETIS情報より）。\n・粉体であるため、強風の環境下での対策は考慮すること（NETIS情報より）。\n・留意事項：維持管理では、降雨の恐れがある場合や湿度が高い場合は、改質材が濡れないようにビニールシート等で覆うこと（NETIS情報より）。\n・本技術の適用対象は以下である。　○：適用可能　-：適用外",null,"・九州地方（国土交通省）での活用実績はない（評価情報より）。\n・留意事項：施工時は土質や含水状態を考慮し、施工機械や施工方法を選定する（NETIS情報より）。\n・留意事項：維持管理では、固化材が雨水や湿気により固結する可能性があるため、長期間の現場保管は避ける（NETIS情報より）。\n・本技術の適用対象は以下である。　○：適用可能　-：適用外",null,"・九州地方（国土交通省）での活用実績はない（評価情報より）。\n・留意事項：施工時は土質や含水状態を考慮し、施工機械や施工方法を選定する（NETIS情報より）。\n・留意事項：維持管理では、固化材が雨水や湿気により固結する可能性があるため、長期間の現場保管は避ける（NETIS情報より）。\n・本技術の適用対象は以下である。　○：適用可能　-：適用外",null,"・九州地方（国土交通省）での活用実績はない（評価情報より）。\n・留意事項：施工時は土質や含水状態を考慮し、施工機械や施工方法を選定する（NETIS情報より）。\n・留意事項：維持管理では、固化材が雨水や湿気により固結する可能性があるため、長期間の現場保管は避ける（NETIS情報より）。\n・本技術の適用対象は以下である。　○：適用可能　-：適用外",null,"・九州地方（国土交通省）での活用実績はない（評価情報より）。\n・留意事項：施工時は土質や含水状態を考慮し、施工機械や施工方法を選定する（NETIS情報より）。\n・留意事項：維持管理では、固化材が雨水や湿気により固結する可能性があるため、長期間の現場保管は避ける（NETIS情報より）。\n・本技術の適用対象は以下である。　○：適用可能　-：適用外",null,"・九州地方（国土交通省）での活用実績はない（評価情報より）。\n・留意事項：施工時は土質や含水状態を考慮し、施工機械や施工方法を選定する（NETIS情報より）。\n・留意事項：維持管理では、固化材が雨水や湿気により固結する可能性があるため、長期間の現場保管は避ける（NETIS情報より）。\n・本技術の適用対象は以下である。　○：適用可能　-：適用外",null,"・九州地方（国土交通省）での活用実績はない（評価情報より）。\n・留意事項：添加量が多くなる場合は、pH値が下がりにくくなるため、100㎏/ｍ3未満の添加量での使用を推奨している（NETIS情報より）。\n・留意事項：本技術は養生期間中、一時的にアルカリ性となるが、養生期間終了後は中性域となる（NETIS情報より）。\n・留意事項：養生期間を経てpH値を抑制していくため、完全な中性域値（水質汚濁防止法による排水基準　淡水域㏗5.8～8.6、海域㏗5.0～9.0）を求められる現場に適用出来ない（NETIS情報より）。\n・本技術の適用対象は以下である。　○：適用可能　-：適用外",null,"・九州地方（国土交通省）での活用実績はない（評価情報より）。\n・留意事項：添加量が多くなる場合は、pH値が下がりにくくなるため、100㎏/ｍ3未満の添加量での使用を推奨している（NETIS情報より）。\n・留意事項：本技術は養生期間中、一時的にアルカリ性となるが、養生期間終了後は中性域となる（NETIS情報より）。\n・留意事項：養生期間を経てpH値を抑制していくため、完全な中性域値（水質汚濁防止法による排水基準　淡水域㏗5.8～8.6、海域㏗5.0～9.0）を求められる現場に適用出来ない（NETIS情報より）。\n・本技術の適用対象は以下である。　○：適用可能　-：適用外",null,"・九州地方（国土交通省）での活用実績はない（評価情報より）。\n・留意事項：添加量が多くなる場合は、pH値が下がりにくくなるため、100㎏/ｍ3未満の添加量での使用を推奨している（NETIS情報より）。\n・留意事項：本技術は養生期間中、一時的にアルカリ性となるが、養生期間終了後は中性域となる（NETIS情報より）。\n・留意事項：養生期間を経てpH値を抑制していくため、完全な中性域値（水質汚濁防止法による排水基準　淡水域㏗5.8～8.6、海域㏗5.0～9.0）を求められる現場に適用出来ない（NETIS情報より）。\n・本技術の適用対象は以下である。　○：適用可能　-：適用外",null,"・九州地方（国土交通省）での活用実績はない（評価情報より）。\n・留意事項：添加量が多くなる場合は、pH値が下がりにくくなるため、100㎏/ｍ3未満の添加量での使用を推奨している（NETIS情報より）。\n・留意事項：本技術は養生期間中、一時的にアルカリ性となるが、養生期間終了後は中性域となる（NETIS情報より）。\n・留意事項：養生期間を経てpH値を抑制していくため、完全な中性域値（水質汚濁防止法による排水基準　淡水域㏗5.8～8.6、海域㏗5.0～9.0）を求められる現場に適用出来ない（NETIS情報より）。\n・本技術の適用対象は以下である。　○：適用可能　-：適用外",null,"補完調査、WGでの検討は未実施",null,"補完調査、WGでの検討は未実施",null,"補完調査、WGでの検討は未実施",null,"補完調査、WGでの検討は未実施",null,"補完調査、WGでの検討は未実施",null,"補完調査、WGでの検討は未実施",null,"補完調査、WGでの検討は未実施",null,"補完調査、WGでの検討は未実施",null,"補完調査、WGでの検討は未実施",null,"補完調査、WGでの検討は未実施",null,"補完調査、WGでの検討は未実施",null,"補完調査、WGでの検討は未実施",null,"補完調査、WGでの検討は未実施",null,"補完調査、WGでの検討は未実施",null,"補完調査、WGでの検討は未実施"]
[null,null,"○：適用可能　空欄：適用外","第二種特定有害物質（重金属類）","カドミウム","-",null,"-",null,"-",null,"-",null,"-",null,"-",null,"-",null,"-",null,"-",null,"-",null,"-",null,"-",null,"-",null,"-",null,"-",null,"-",null,"-",null,"-",null,"-",null,"-",null,"-",null,"-",null,"-",null,"-",null,"-",null,"-",null,"-",null,"-",null,"-",null,"-",null,"-",null,"-",null,"-",null,"-",null,"-",null,"-",null,"-",null,"-",null,"-",null,"-",null,"-",null,"-",null,"-",null,"〇",null,"〇",null,"〇",null,"〇",null,"〇",null,"〇",null,"〇",null,"〇",null,"〇",null,"〇",null,"○",null,"○",null,"-",null,"-",null,"-",null,"-",null,"○",null,"○",null,"○",null,"○",null,"-",null,"-",null,"○",null,"○",null,"○",null,"○",null,"○",null,"-",null,"-",null,"-",null,"-",null,"-",null,"-",null,"-",null,"-",null,"-",null,"／",null,"／",null,"／",null,"／",null,"／",null,"／",null,"／",null,"／",null,"／",null,"／",null,"／",null,"／",null,"／",null,"／",null,"／"]
[null,null,null,null,"六価クロム","-",null,"-",null,"-",null,"-",null,"-",null,"-",null,"-",null,"-",null,"-",null,"-",null,"-",null,"-",null,"-",null,"-",null,"-",null,"-",null,"-",null,"-",null,"-",null,"-",null,"-",null,"-",null,"-",null,"-",null,"-",null,"-",null,"-",null,"-",null,"-",null,"-",null,"-",null,"-",null,"-",null,"-",null,"-",null,"-",null,"-",null,"-",null,"-",null,"-",null,"-",null,"-",null,"-",null,"〇",null,"〇",null,"〇",null,"〇",null,"〇",null,"〇",null,"〇",null,"〇",null,"〇",null,"〇",null,"-",null,"-",null,"○",null,"○",null,"○",null,"○",null,"○",null,"○",null,"○",null,"○",null,"-",null,"-",null,"○",null,"○",null,"○",null,"○",null,"○",null,"-",null,"-",null,"-",null,"-",null,"-",null,"-",null,"-",null,"-",null,"-",null,"／",null,"／",null,"／",null,"／",null,"／",null,"／",null,"／",null,"／",null,"／",null,"／",null,"／",null,"／",null,"／",null,"／",null,"／"]
[null,null,null,null,"シアン","-",null,"-",null,"-",null,"-",null,"-",null,"-",null,"-",null,"-",null,"-",null,"-",null,"-",null,"-",null,"-",null,"-",null,"-",null,"-",null,"-",null,"-",null,"-",null,"-",null,"-",null,"-",null,"-",null,"-",null,"-",null,"-",null,"-",null,"-",null,"-",null,"-",null,"-",null,"-",null,"-",null,"-",null,"-",null,"-",null,"-",null,"-",null,"-",null,"-",null,"-",null,"-",null,"-",null,"-",null,"-",null,"-",null,"-",null,"〇",null,"〇",null,"〇",null,"〇",null,"〇",null,"〇",null,"-",null,"-",null,"-",null,"-",null,"-",null,"-",null,"-",null,"-",null,"○",null,"○",null,"-",null,"-",null,"○",null,"○",null,"○",null,"○",null,"○",null,"-",null,"-",null,"-",null,"-",null,"-",null,"-",null,"-",null,"-",null,"-",null,"／",null,"／",null,"／",null,"／",null,"／",null,"／",null,"／",null,"／",null,"／",null,"／",null,"／",null,"／",null,"／",null,"／",null,"／"]
[null,null,null,null,"水銀","-",null,"-",null,"-",null,"-",null,"-",null,"-",null,"-",null,"-",null,"-",null,"-",null,"-",null,"-",null,"-",null,"-",null,"-",null,"-",null,"-",null,"-",null,"-",null,"-",null,"-",null,"-",null,"-",null,"-",null,"-",null,"-",null,"-",null,"-",null,"-",null,"-",null,"-",null,"-",null,"-",null,"-",null,"-",null,"-",null,"-",null,"-",null,"-",null,"-",null,"-",null,"-",null,"-",null,"〇",null,"〇",null,"-",null,"-",null,"〇",null,"〇",null,"〇",null,"〇",null,"〇",null,"〇",null,"-",null,"-",null,"○",null,"○",null,"○",null,"○",null,"○",null,"○",null,"○",null,"○",null,"-",null,"-",null,"○",null,"○",null,"○",null,"○",null,"○",null,"-",null,"-",null,"-",null,"-",null,"-",null,"-",null,"-",null,"-",null,"-",null,"／",null,"／",null,"／",null,"／",null,"／",null,"／",null,"／",null,"／",null,"／",null,"／",null,"／",null,"／",null,"／",null,"／",null,"／"]
[null,null,null,null,"セレン","-",null,"-",null,"-",null,"-",null,"-",null,"-",null,"-",null,"-",null,"-",null,"-",null,"-",null,"-",null,"-",null,"-",null,"-",null,"-",null,"-",null,"-",null,"-",null,"-",null,"-",null,"-",null,"-",null,"-",null,"-",null,"-",null,"-",null,"-",null,"-",null,"-",null,"-",null,"-",null,"-",null,"-",null,"-",null,"-",null,"-",null,"-",null,"-",null,"-",null,"-",null,"-",null,"-",null,"〇",null,"〇",null,"〇",null,"〇",null,"〇",null,"〇",null,"〇",null,"〇",null,"〇",null,"〇",null,"○",null,"○",null,"○",null,"○",null,"○",null,"○",null,"○",null,"○",null,"○",null,"○",null,"-",null,"-",null,"○",null,"○",null,"○",null,"○",null,"○",null,"-",null,"-",null,"-",null,"-",null,"-",null,"-",null,"-",null,"-",null,"-",null,"／",null,"／",null,"／",null,"／",null,"／",null,"／",null,"／",null,"／",null,"／",null,"／",null,"／",null,"／",null,"／",null,"／",null,"／"]
[null,null,null,null,"鉛","-",null,"-",null,"-",null,"-",null,"-",null,"-",null,"-",null,"-",null,"-",null,"-",null,"-",null,"-",null,"-",null,"-",null,"-",null,"-",null,"-",null,"-",null,"-",null,"-",null,"-",null,"-",null,"-",null,"-",null,"-",null,"-",null,"-",null,"-",null,"-",null,"-",null,"-",null,"-",null,"-",null,"-",null,"-",null,"-",null,"-",null,"-",null,"-",null,"-",null,"-",null,"-",null,"-",null,"〇",null,"〇",null,"〇",null,"〇",null,"〇",null,"〇",null,"〇",null,"〇",null,"〇",null,"〇",null,"○",null,"○",null,"○",null,"○",null,"○",null,"○",null,"○",null,"○",null,"○",null,"○",null,"-",null,"-",null,"○",null,"○",null,"○",null,"○",null,"○",null,"-",null,"-",null,"-",null,"-",null,"-",null,"-",null,"-",null,"-",null,"-",null,"／",null,"／",null,"／",null,"／",null,"／",null,"／",null,"／",null,"／",null,"／",null,"／",null,"／",null,"／",null,"／",null,"／",null,"／"]
[null,null,null,null,"ヒ素","-",null,"-",null,"-",null,"-",null,"-",null,"-",null,"-",null,"-",null,"-",null,"-",null,"-",null,"-",null,"-",null,"-",null,"-",null,"-",null,"-",null,"-",null,"-",null,"-",null,"-",null,"-",null,"-",null,"-",null,"-",null,"-",null,"-",null,"-",null,"-",null,"-",null,"-",null,"-",null,"-",null,"-",null,"-",null,"-",null,"-",null,"-",null,"-",null,"-",null,"-",null,"-",null,"-",null,"〇",null,"〇",null,"〇",null,"〇",null,"〇",null,"〇",null,"〇",null,"〇",null,"〇",null,"〇",null,"○",null,"○",null,"○",null,"○",null,"○",null,"○",null,"○",null,"○",null,"○",null,"○",null,"-",null,"-",null,"○",null,"○",null,"○",null,"○",null,"○",null,"○",null,"○",null,"○",null,"○",null,"○",null,"-",null,"-",null,"-",null,"-",null,"／",null,"／",null,"／",null,"／",null,"／",null,"／",null,"／",null,"／",null,"／",null,"／",null,"／",null,"／",null,"／",null,"／",null,"／"]
[null,null,null,null,"フッ素","-",null,"-",null,"-",null,"-",null,"-",null,"-",null,"-",null,"-",null,"-",null,"-",null,"-",null,"-",null,"-",null,"-",null,"-",null,"-",null,"-",null,"-",null,"-",null,"-",null,"-",null,"-",null,"-",null,"-",null,"-",null,"-",null,"-",null,"-",null,"-",null,"-",null,"-",null,"-",null,"-",null,"-",null,"-",null,"-",null,"-",null,"-",null,"-",null,"-",null,"-",null,"-",null,"-",null,"〇",null,"〇",null,"〇",null,"〇",null,"〇",null,"〇",null,"〇",null,"〇",null,"〇",null,"〇",null,"○",null,"○",null,"○",null,"○",null,"○",null,"○",null,"○",null,"○",null,"○",null,"○",null,"-",null,"-",null,"○",null,"○",null,"○",null,"○",null,"○",null,"-",null,"-",null,"-",null,"-",null,"-",null,"-",null,"-",null,"-",null,"-",null,"／",null,"／",null,"／",null,"／",null,"／",null,"／",null,"／",null,"／",null,"／",null,"／",null,"／",null,"／",null,"／",null,"／",null,"／"]
[null,null,null,null,"ホウ素","-",null,"-",null,"-",null,"-",null,"-",null,"-",null,"-",null,"-",null,"-",null,"-",null,"-",null,"-",null,"-",null,"-",null,"-",null,"-",null,"-",null,"-",null,"-",null,"-",null,"-",null,"-",null,"-",null,"-",null,"-",null,"-",null,"-",null,"-",null,"-",null,"-",null,"-",null,"-",null,"-",null,"-",null,"-",null,"-",null,"-",null,"-",null,"-",null,"-",null,"-",null,"-",null,"-",null,"〇",null,"〇",null,"〇",null,"〇",null,"〇",null,"〇",null,"〇",null,"〇",null,"〇",null,"〇",null,"○",null,"○",null,"○",null,"○",null,"○",null,"○",null,"○",null,"○",null,"-",null,"-",null,"-",null,"-",null,"○",null,"○",null,"○",null,"○",null,"○",null,"-",null,"-",null,"-",null,"-",null,"-",null,"-",null,"-",null,"-",null,"-",null,"／",null,"／",null,"／",null,"／",null,"／",null,"／",null,"／",null,"／",null,"／",null,"／",null,"／",null,"／",null,"／",null,"／",null,"／"]
[null,null,null,"揮発性有機化合物",null,"-",null,"-",null,"-",null,"-",null,"-",null,"-",null,"-",null,"-",null,"-",null,"-",null,"-",null,"-",null,"-",null,"-",null,"-",null,"-",null,"-",null,"-",null,"-",null,"-",null,"-",null,"-",null,"-",null,"-",null,"-",null,"-",null,"-",null,"-",null,"-",null,"-",null,"-",null,"-",null,"-",null,"-",null,"-",null,"-",null,"-",null,"-",null,"-",null,"-",null,"-",null,"-",null,"-",null,"-",null,"-",null,"-",null,"-",null,"-",null,"-",null,"-",null,"-",null,"-",null,"-",null,"-",null,"-",null,"○",null,"○",null,"○",null,"○",null,"-",null,"-",null,"-",null,"-",null,"-",null,"-",null,"-",null,"-",null,"-",null,"○",null,"○",null,"-",null,"-",null,"-",null,"-",null,"-",null,"-",null,"-",null,"-",null,"-",null,"／",null,"／",null,"／",null,"／",null,"／",null,"／",null,"／",null,"／",null,"／",null,"／",null,"／",null,"／",null,"／",null,"／",null,"／"]
[null,null,null,"農薬類",null,"-",null,"-",null,"-",null,"-",null,"-",null,"-",null,"-",null,"-",null,"-",null,"-",null,"-",null,"-",null,"-",null,"-",null,"-",null,"-",null,"-",null,"-",null,"-",null,"-",null,"-",null,"-",null,"-",null,"-",null,"-",null,"-",null,"-",null,"-",null,"-",null,"-",null,"-",null,"-",null,"-",null,"-",null,"-",null,"-",null,"-",null,"-",null,"-",null,"-",null,"-",null,"-",null,"-",null,"-",null,"-",null,"-",null,"-",null,"-",null,"-",null,"-",null,"-",null,"-",null,"-",null,"-",null,"-",null,"-",null,"-",null,"-",null,"-",null,"-",null,"-",null,"-",null,"-",null,"-",null,"-",null,"-",null,"-",null,"-",null,"○",null,"○",null,"-",null,"-",null,"-",null,"-",null,"-",null,"-",null,"-",null,"-",null,"-",null,"／",null,"／",null,"／",null,"／",null,"／",null,"／",null,"／",null,"／",null,"／",null,"／",null,"／",null,"／",null,"／",null,"／",null,"／"]
[null,null,null,"ダイオキシン類",null,"-",null,"-",null,"-",null,"-",null,"-",null,"-",null,"-",null,"-",null,"-",null,"-",null,"-",null,"-",null,"-",null,"-",null,"-",null,"-",null,"-",null,"-",null,"-",null,"-",null,"-",null,"-",null,"-",null,"-",null,"-",null,"-",null,"-",null,"-",null,"-",null,"-",null,"-",null,"-",null,"-",null,"-",null,"-",null,"-",null,"-",null,"-",null,"-",null,"-",null,"-",null,"-",null,"-",null,"-",null,"-",null,"-",null,"-",null,"-",null,"-",null,"-",null,"-",null,"-",null,"-",null,"-",null,"-",null,"-",null,"-",null,"-",null,"-",null,"-",null,"-",null,"-",null,"-",null,"-",null,"-",null,"-",null,"-",null,"-",null,"○",null,"○",null,"-",null,"-",null,"-",null,"-",null,"-",null,"-",null,"-",null,"-",null,"-",null,"／",null,"／",null,"／",null,"／",null,"／",null,"／",null,"／",null,"／",null,"／",null,"／",null,"／",null,"／",null,"／",null,"／",null,"／"]
[]
[null,null,null,null,"固化材等",{"$f":"G32","v":"良質土混合"},null,{"$f":"I32","v":"良質土混合・固化材添加"},null,{"$f":"K32","v":"固化材添加"},null,{"$f":"M32","v":"良質土混合"},null,{"$f":"O32","v":"良質土混合・固化材添加"},null,{"$f":"Q32","v":"固化材添加"},null,{"$f":"S32","v":"固化材添加"},null,{"$f":"U32","v":"良質土混合"},null,{"$f":"W32","v":"良質土混合・固化材添加"},null,{"$f":"Y32","v":"良質土混合"},null,{"$f":"AA32","v":"良質土混合"},null,{"$f":"AC32","v":"／"},null,{"$f":"AE32","v":"／"},null,{"$f":"AG32","v":"150kg/m3（養生1日、室内配合）"},null,{"$f":"AI32","v":"200kg/m3（養生3日、室内配合）"},null,{"$f":"AK32","v":"150kg/m3（養生1日、室内配合）"},null,{"$f":"AM32","v":"200kg/m3（養生3日、室内配合）"},null,{"$f":"AO32","v":"900kg/m3（混合率30容積％、一軸圧縮強度50～300kN/m2程度）"},null,{"$f":"AQ32","v":"900kg/m3（混合率30容積％、一軸圧縮強度50～300kN/m2程度）"},null,{"$f":"AS32","v":"30kg/m3（室内配合、発塵抑制型(LX)）"},null,{"$f":"AU32","v":"30kg/m3（室内配合、発塵抑制型(LX)）"},null,{"$f":"AW32","v":"30kg/m3（養生日数10日、室内配合）"},null,{"$f":"AY32","v":"30kg/m3（養生日数10日、室内配合）"},null,{"$f":"BA32","v":"未回答"},null,{"$f":"BC32","v":"未回答"},null,{"$f":"BE32","v":"未回答"},null,{"$f":"BG32","v":"未回答"},null,{"$f":"BI32","v":"固化材50kg/m3、ボンファイバー25ｋg/m3（養生7日、室内配合）"},null,{"$f":"BK32","v":"固化材50kg/m3、ボンファイバー25ｋg/m3（養生7日、室内配合）"},null,{"$f":"BM32","v":"固化材50kg/m3、ボンファイバー25ｋg/m3（養生7日、室内配合）"},null,{"$f":"BO32","v":"固化材50kg/m3、ボンファイバー25ｋg/m3（養生7日、室内配合）"},null,{"$f":"BQ32","v":"60kg/m3（瞬時改良(0日)、室内配合）"},null,{"$f":"BS32","v":"150kg/m3（瞬時改良(0日)、室内配合）"},null,{"$f":"BU32","v":"60kg/m3（瞬時改良(0日)、室内配合）"},null,{"$f":"BW32","v":"150kg/m3（瞬時改良(0日)、室内配合）"},null,{"$f":"BY32","v":"15kg/m3（養生不要、室内配合）"},null,{"$f":"CA32","v":"45kg/m3（養生不要、室内配合）"},null,{"$f":"CC32","v":"15kg/m3（養生不要、室内配合）"},null,{"$f":"CE32","v":"45kg/m3（養生不要、室内配合）"},null,{"$f":"CG32","v":"未回答"},null,{"$f":"CI32","v":"未回答"},null,{"$f":"CK32","v":"未回答"},null,{"$f":"CM32","v":"未回答"},null,{"$f":"CO32","v":"1.8kg/m3（養生不要、室内配合）"},null,{"$f":"CQ32","v":"1.8kg/m3（養生不要、室内配合）"},null,{"$f":"CS32","v":"未回答"},null,{"$f":"CU32","v":"未回答"},null,{"$f":"CW32","v":"30kg/m3（養生0.5日以上、室内配合）"},null,{"$f":"CY32","v":"80kg/m3（養生0.5日以上、室内配合）"},null,{"$f":"DA32","v":"30kg/m3（養生0.5日以上、室内配合）"},null,{"$f":"DC32","v":"80kg/m3（養生0.5日以上、室内配合）"},null,{"$f":"DE32","v":"60kg/m3（養生0.5日以上、室内配合）"},null,{"$f":"DG32","v":"30kg/m3（養生0.5日以上、室内配合）"},null,{"$f":"DI32","v":"50kg/m3（養生7日、室内配合）"},null,{"$f":"DK32","v":"30kg/m3（養生3日、室内配合）"},null,{"$f":"DM32","v":"30kg/m3（養生0.5日以上、室内配合）"},null,{"$f":"DO32","v":"60kg/m3（養生0.5日以上、室内配合）"},null,{"$f":"DQ32","v":"30kg/m3（養生0.5日以上、室内配合）"},null,{"$f":"DS32","v":"60kg/m3（養生0.5日以上、室内配合）"},null,{"$f":"DU32","v":"50kg/m3（養生3日、室内配合）"},null,{"$f":"DW32","v":"50kg/m3（養生3日、室内配合）"},null,{"$f":"DY32","v":"5kg/m3（養生0日、室内配合）"},null,{"$f":"EA32","v":"2kg/m3（養生0日、室内配合）"},null,{"$f":"EC32","v":"20kg/m3（養生0日、含水比の低減効果なし）"},null,{"$f":"EE32","v":"30kg/m3（養生0日、含水比の低減効果なし）"},null,{"$f":"EG32","v":"30kg/m3（養生0日、室内配合）"},null,{"$f":"EI32","v":"50kg/m3（養生0日、室内配合）"},null,{"$f":"EK32","v":"45kg/m3（養生1日、室内配合）"},null,{"$f":"EM32","v":"150kg/m3（養生7日、室内配合）"},null,{"$f":"EO32","v":"300kg/m3（養生7日、室内配合）"},null,{"$f":"EQ32","v":"80kg/m3（養生直後、室内配合）"},null,{"$f":"ES32","v":"200kg/m3（養生直後、室内配合）"},null,{"$f":"EU32","v":"100kg/m3（養生3日、室内配合）"},null,{"$f":"EW32","v":"80kg/m3（養生直後、室内配合）"},null,{"$f":"EY32","v":"200kg/m3（養生直後、室内配合）"},null,{"$f":"FA32","v":"60kg/m3（養生7、室内配合）"},null,{"$f":"FC32","v":"80kg/m3（養生7、室内配合）"},null,{"$f":"FE32","v":"60kg/m3（養生7、室内配合）"},null,{"$f":"FG32","v":"80kg/m3（養生7、室内配合）"},null,{"$f":"FI32","v":"／"},null,{"$f":"FK32","v":"／"},null,{"$f":"FM32","v":"／"},null,{"$f":"FO32","v":"／"},null,{"$f":"FQ32","v":"／"},null,{"$f":"FS32","v":"／"},null,{"$f":"FU32","v":"／"},null,{"$f":"FW32","v":"／"},null,{"$f":"FY32","v":"／"},null,{"$f":"GA32","v":"／"},null,{"$f":"GC32","v":"／"},null,{"$f":"GE32","v":"／"},null,{"$f":"GG32","v":"／"},null,{"$f":"GI32","v":"／"},null,{"$f":"GK32","v":"／"}]
[null,null,null,null,"共通仮設費用",{"$f":"G33","v":3164430},null,3164430,null,2033800,null,1837800,null,2033800,null,239400,null,{"$f":"S33","v":2700000},null,{"$f":"U33","v":2095310},null,{"$f":"W33","v":2150790},null,{"$f":"Y33","v":"-"},null,{"$f":"AA33","v":"-"},null,{"$f":"AC33","v":"／"},null,{"$f":"AE33","v":"／"},null,{"$f":"AG33","v":"-"},null,{"$f":"AI33","v":"-"},null,{"$f":"AK33","v":"-"},null,{"$f":"AM33","v":"-"},null,{"$f":"AO33","v":"-"},null,{"$f":"AQ33","v":"-"},null,{"$f":"AS33","v":"-"},null,{"$f":"AU33","v":"-"},null,{"$f":"AW33","v":"-"},null,{"$f":"AY33","v":"-"},null,{"$f":"BA33","v":"-"},null,{"$f":"BC33","v":"-"},null,{"$f":"BE33","v":"-"},null,{"$f":"BG33","v":"-"},null,{"$f":"BI33","v":"-"},null,{"$f":"BK33","v":"-"},null,{"$f":"BM33","v":"-"},null,{"$f":"BO33","v":"-"},null,{"$f":"BQ33","v":"-"},null,{"$f":"BS33","v":"-"},null,{"$f":"BU33","v":"-"},null,{"$f":"BW33","v":"-"},null,{"$f":"BY33","v":"-"},null,{"$f":"CA33","v":"-"},null,{"$f":"CC33","v":"-"},null,{"$f":"CE33","v":"-"},null,{"$f":"CG33","v":"-"},null,{"$f":"CI33","v":"-"},null,{"$f":"CK33","v":"-"},null,{"$f":"CM33","v":"-"},null,{"$f":"CO33","v":"-"},null,{"$f":"CQ33","v":"-"},null,{"$f":"CS33","v":"-"},null,{"$f":"CU33","v":"-"},null,{"$f":"CW33","v":"-"},null,{"$f":"CY33","v":"-"},null,{"$f":"DA33","v":"-"},null,{"$f":"DC33","v":"-"},null,{"$f":"DE33","v":"-"},null,{"$f":"DG33","v":"-"},null,{"$f":"DI33","v":"-"},null,{"$f":"DK33","v":"-"},null,{"$f":"DM33","v":"-"},null,{"$f":"DO33","v":"-"},null,{"$f":"DQ33","v":"-"},null,{"$f":"DS33","v":"-"},null,{"$f":"DU33","v":"-"},null,{"$f":"DW33","v":"-"},null,{"$f":"DY33","v":"-"},null,{"$f":"EA33","v":"-"},null,{"$f":"EC33","v":"-"},null,{"$f":"EE33","v":"-"},null,{"$f":"EG33","v":"-"},null,{"$f":"EI33","v":"-"},null,{"$f":"EK33","v":"-"},null,{"$f":"EM33","v":"-"},null,{"$f":"EO33","v":"-"},null,{"$f":"EQ33","v":"-"},null,{"$f":"ES33","v":"-"},null,{"$f":"EU33","v":"-"},null,{"$f":"EW33","v":"-"},null,{"$f":"EY33","v":"-"},null,{"$f":"FA33","v":"-"},null,{"$f":"FC33","v":"-"},null,{"$f":"FE33","v":"-"},null,{"$f":"FG33","v":"-"},null,{"$f":"FI33","v":"-"},null,{"$f":"FK33","v":"／"},null,{"$f":"FM33","v":"／"},null,{"$f":"FO33","v":"／"},null,{"$f":"FQ33","v":"／"},null,{"$f":"FS33","v":"／"},null,"／",null,"／",null,"／",null,"／",null,"／",null,"／",null,"／",null,"／",null,"／"]
[null,null,null,null,"固化材(一般軟弱土用)","-",null,{"$f":"I34","v":"-"},null,{"$f":"K34","v":"-"},null,{"$f":"M34","v":"-"},null,{"$f":"O34","v":"-"},null,{"$f":"Q34","v":"-"},null,{"$f":"S34","v":"-"},null,{"$f":"U34","v":"-"},null,{"$f":"W34","v":"-"},null,{"$f":"Y34","v":"-"},null,{"$f":"AA34","v":"-"},null,{"$f":"AC34","v":"／"},null,{"$f":"AE34","v":"／"},null,{"$f":"AG34","v":"-"},null,{"$f":"AI34","v":"-"},null,{"$f":"AK34","v":"-"},null,{"$f":"AM34","v":"-"},null,{"$f":"AO34","v":"-"},null,{"$f":"AQ34","v":"-"},null,{"$f":"AS34","v":"-"},null,{"$f":"AU34","v":"-"},null,{"$f":"AW34","v":"-"},null,{"$f":"AY34","v":"-"},null,{"$f":"BA34","v":"-"},null,{"$f":"BC34","v":"-"},null,{"$f":"BE34","v":"-"},null,{"$f":"BG34","v":"-"},null,{"$f":"BI34","v":16600},null,{"$f":"BK34","v":21000},null,{"$f":"BM34","v":16600},null,{"$f":"BO34","v":21000},null,{"$f":"BQ34","v":"-"},null,{"$f":"BS34","v":"-"},null,{"$f":"BU34","v":"-"},null,{"$f":"BW34","v":"-"},null,{"$f":"BY34","v":"-"},null,{"$f":"CA34","v":"-"},null,{"$f":"CC34","v":"-"},null,{"$f":"CE34","v":"-"},null,{"$f":"CG34","v":"-"},null,{"$f":"CI34","v":"-"},null,{"$f":"CK34","v":"-"},null,{"$f":"CM34","v":"-"},null,{"$f":"CO34","v":"-"},null,{"$f":"CQ34","v":"-"},null,{"$f":"CS34","v":"-"},null,{"$f":"CU34","v":"-"},null,{"$f":"CW34","v":"-"},null,{"$f":"CY34","v":"-"},null,{"$f":"DA34","v":"-"},null,{"$f":"DC34","v":"-"},null,{"$f":"DE34","v":"-"},null,{"$f":"DG34","v":"-"},null,{"$f":"DI34","v":"-"},null,{"$f":"DK34","v":"-"},null,{"$f":"DM34","v":"-"},null,{"$f":"DO34","v":"-"},null,{"$f":"DQ34","v":"-"},null,{"$f":"DS34","v":"-"},null,{"$f":"DU34","v":"-"},null,{"$f":"DW34","v":"-"},null,{"$f":"DY34","v":"-"},null,{"$f":"EA34","v":"-"},null,{"$f":"EC34","v":"-"},null,{"$f":"EE34","v":"-"},null,{"$f":"EG34","v":"-"},null,{"$f":"EI34","v":"-"},null,{"$f":"EK34","v":"-"},null,{"$f":"EM34","v":"-"},null,{"$f":"EO34","v":"-"},null,{"$f":"EQ34","v":"-"},null,{"$f":"ES34","v":"-"},null,{"$f":"EU34","v":"-"},null,{"$f":"EW34","v":"-"},null,{"$f":"EY34","v":"-"},null,{"$f":"FA34","v":"-"},null,{"$f":"FC34","v":"-"},null,{"$f":"FE34","v":"-"},null,{"$f":"FG34","v":"-"},null,{"$f":"FI34","v":"／"},null,{"$f":"FK34","v":"／"},null,{"$f":"FM34","v":"／"},null,{"$f":"FO34","v":"／"},null,{"$f":"FQ34","v":"／"},null,{"$f":"FS34","v":"／"},null,"／",null,"／",null,"／",null,"／",null,"／",null,"／",null,"／",null,"／",null,"／"]
[null,null,null,null,"改良材単価","-",null,{"$f":"I35","v":"-"},null,{"$f":"K35","v":"-"},null,{"$f":"M35","v":"-"},null,{"$f":"O35","v":"-"},null,{"$f":"Q35","v":"-"},null,{"$f":"S35","v":"-"},null,{"$f":"U35","v":"-"},null,{"$f":"W35","v":"-"},null,{"$f":"Y35","v":"-"},null,{"$f":"AA35","v":"-"},null,{"$f":"AC35","v":"／"},null,{"$f":"AE35","v":"／"},null,{"$f":"AG35","v":34600},null,{"$f":"AI35","v":34600},null,{"$f":"AK35","v":34600},null,{"$f":"AM35","v":34600},null,{"$f":"AO35","v":1000},null,{"$f":"AQ35","v":1000},null,{"$f":"AS35","v":51500},null,{"$f":"AU35","v":51500},null,{"$f":"AW35","v":51500},null,{"$f":"AY35","v":51500},null,{"$f":"BA35","v":"未回答"},null,{"$f":"BC35","v":"未回答"},null,{"$f":"BE35","v":"未回答"},null,{"$f":"BG35","v":"未回答"},null,{"$f":"BI35","v":110000},null,{"$f":"BK35","v":110000},null,{"$f":"BM35","v":110000},null,{"$f":"BO35","v":110000},null,{"$f":"BQ35","v":38000},null,{"$f":"BS35","v":38000},null,{"$f":"BU35","v":38000},null,{"$f":"BW35","v":38000},null,{"$f":"BY35","v":350000},null,{"$f":"CA35","v":350000},null,{"$f":"CC35","v":350000},null,{"$f":"CE35","v":350000},null,{"$f":"CG35","v":"未回答"},null,{"$f":"CI35","v":"未回答"},null,{"$f":"CK35","v":"未回答"},null,{"$f":"CM35","v":"未回答"},null,{"$f":"CO35","v":1000000},null,{"$f":"CQ35","v":1000000},null,{"$f":"CS35","v":"未回答"},null,{"$f":"CU35","v":"未回答"},null,{"$f":"CW35","v":75000},null,{"$f":"CY35","v":75000},null,{"$f":"DA35","v":75000},null,{"$f":"DC35","v":75000},null,{"$f":"DE35","v":75000},null,{"$f":"DG35","v":150000},null,{"$f":"DI35","v":120000},null,{"$f":"DK35","v":120000},null,{"$f":"DM35","v":35000},null,{"$f":"DO35","v":35000},null,{"$f":"DQ35","v":35000},null,{"$f":"DS35","v":35000},null,{"$f":"DU35","v":110000},null,{"$f":"DW35","v":110000},null,{"$f":"DY35","v":2000000},null,{"$f":"EA35","v":2000000},null,{"$f":"EC35","v":300000},null,{"$f":"EE35","v":300000},null,{"$f":"EG35","v":210000},null,{"$f":"EI35","v":210000},null,{"$f":"EK35","v":210000},null,{"$f":"EM35","v":20000},null,{"$f":"EO35","v":20000},null,{"$f":"EQ35","v":125000},null,{"$f":"ES35","v":145000},null,{"$f":"EU35","v":145000},null,{"$f":"EW35","v":125000},null,{"$f":"EY35","v":145000},null,{"$f":"FA35","v":48000},null,{"$f":"FC35","v":48000},null,{"$f":"FE35","v":48000},null,{"$f":"FG35","v":48000},null,{"$f":"FI35","v":"／"},null,{"$f":"FK35","v":"／"},null,{"$f":"FM35","v":"／"},null,{"$f":"FO35","v":"／"},null,{"$f":"FQ35","v":"／"},null,{"$f":"FS35","v":"／"},null,"／",null,"／",null,"／",null,"／",null,"／",null,"／",null,"／",null,"／",null,"／"]
[null,null,null,null,"材料費/施工費",1426,null,{"$f":"I36","v":1492},null,{"$f":"K36","v":1150},null,{"$f":"M36","v":877},null,{"$f":"O36","v":1150},null,{"$f":"Q36","v":1414},null,{"$f":"S36","v":5300},null,{"$f":"U36","v":1395},null,{"$f":"W36","v":1549},null,{"$f":"Y36","v":837},null,{"$f":"AA36","v":837},null,{"$f":"AC36","v":"／"},null,{"$f":"AE36","v":"／"},null,{"$f":"AG36","v":5190},null,{"$f":"AI36","v":6920},null,{"$f":"AK36","v":5190},null,{"$f":"AM36","v":6920},null,{"$f":"AO36","v":900},null,{"$f":"AQ36","v":900},null,{"$f":"AS36","v":1545},null,{"$f":"AU36","v":1545},null,{"$f":"AW36","v":1545},null,{"$f":"AY36","v":1545},null,{"$f":"BA36","v":"未回答"},null,{"$f":"BC36","v":"未回答"},null,{"$f":"BE36","v":"未回答"},null,{"$f":"BG36","v":"未回答"},null,{"$f":"BI36","v":3580},null,{"$f":"BK36","v":3800},null,{"$f":"BM36","v":3580},null,{"$f":"BO36","v":3800},null,{"$f":"BQ36","v":2280},null,{"$f":"BS36","v":5700},null,{"$f":"BU36","v":2280},null,{"$f":"BW36","v":5700},null,{"$f":"BY36","v":5250},null,{"$f":"CA36","v":15750},null,{"$f":"CC36","v":5250},null,{"$f":"CE36","v":15750},null,{"$f":"CG36","v":"未回答"},null,{"$f":"CI36","v":"未回答"},null,{"$f":"CK36","v":"未回答"},null,{"$f":"CM36","v":"未回答"},null,{"$f":"CO36","v":1800},null,{"$f":"CQ36","v":1800},null,{"$f":"CS36","v":"未回答"},null,{"$f":"CU36","v":"未回答"},null,{"$f":"CW36","v":2250},null,{"$f":"CY36","v":6000},null,{"$f":"DA36","v":2250},null,{"$f":"DC36","v":6000},null,{"$f":"DE36","v":4500},null,{"$f":"DG36","v":4500},null,{"$f":"DI36","v":6000},null,{"$f":"DK36","v":3600},null,{"$f":"DM36","v":1050},null,{"$f":"DO36","v":2100},null,{"$f":"DQ36","v":1050},null,{"$f":"DS36","v":2100},null,{"$f":"DU36","v":5500},null,{"$f":"DW36","v":5500},null,{"$f":"DY36","v":10000},null,{"$f":"EA36","v":4000},null,{"$f":"EC36","v":6000},null,{"$f":"EE36","v":9000},null,{"$f":"EG36","v":6300},null,{"$f":"EI36","v":10500},null,{"$f":"EK36","v":9450},null,{"$f":"EM36","v":3000},null,{"$f":"EO36","v":6000},null,{"$f":"EQ36","v":10000},null,{"$f":"ES36","v":29000},null,{"$f":"EU36","v":14500},null,{"$f":"EW36","v":10000},null,{"$f":"EY36","v":29000},null,{"$f":"FA36","v":2880},null,{"$f":"FC36","v":3840},null,{"$f":"FE36","v":2880},null,{"$f":"FG36","v":3840},null,{"$f":"FI36","v":"／"},null,{"$f":"FK36","v":"／"},null,{"$f":"FM36","v":"／"},null,{"$f":"FO36","v":"／"},null,{"$f":"FQ36","v":"／"},null,{"$f":"FS36","v":"／"},null,"／",null,"／",null,"／",null,"／",null,"／",null,"／",null,"／",null,"／",null,"／"]
[null,null,null,null,"概算施工日数",0.20833333333333334,null,{"$f":"I37","v":0.20833333333333334},null,{"$f":"K37","v":0.18867924528301888},null,{"$f":"M37","v":0.16666666666666669},null,{"$f":"O37","v":0.18867924528301888},null,{"$f":"Q37","v":0.33200000000000002},null,{"$f":"S37","v":0.66666666666666674},null,{"$f":"U37","v":0.23148148148148145},null,{"$f":"W37","v":0.23148148148148145},null,{"$f":"Y37","v":0.14005602240896359},null,{"$f":"AA37","v":0.14005602240896359},null,{"$f":"AC37","v":"／"},null,{"$f":"AE37","v":"／"},null,{"$f":"AG37","v":"-"},null,{"$f":"AI37","v":"-"},null,{"$f":"AK37","v":"-"},null,{"$f":"AM37","v":"-"},null,{"$f":"AO37","v":"-"},null,{"$f":"AQ37","v":"-"},null,{"$f":"AS37","v":"-"},null,{"$f":"AU37","v":"-"},null,{"$f":"AW37","v":"-"},null,{"$f":"AY37","v":"-"},null,{"$f":"BA37","v":"-"},null,{"$f":"BC37","v":"-"},null,{"$f":"BE37","v":"-"},null,{"$f":"BG37","v":"-"},null,{"$f":"BI37","v":"-"},null,{"$f":"BK37","v":"-"},null,{"$f":"BM37","v":"-"},null,{"$f":"BO37","v":"-"},null,{"$f":"BQ37","v":"-"},null,{"$f":"BS37","v":"-"},null,{"$f":"BU37","v":"-"},null,{"$f":"BW37","v":"-"},null,{"$f":"BY37","v":"-"},null,{"$f":"CA37","v":"-"},null,{"$f":"CC37","v":"-"},null,{"$f":"CE37","v":"-"},null,{"$f":"CG37","v":"-"},null,{"$f":"CI37","v":"-"},null,{"$f":"CK37","v":"-"},null,{"$f":"CM37","v":"-"},null,{"$f":"CO37","v":"-"},null,{"$f":"CQ37","v":"-"},null,{"$f":"CS37","v":"-"},null,{"$f":"CU37","v":"-"},null,{"$f":"CW37","v":"-"},null,{"$f":"CY37","v":"-"},null,{"$f":"DA37","v":"-"},null,{"$f":"DC37","v":"-"},null,{"$f":"DE37","v":"-"},null,{"$f":"DG37","v":"-"},null,{"$f":"DI37","v":"-"},null,{"$f":"DK37","v":"-"},null,{"$f":"DM37","v":"-"},null,{"$f":"DO37","v":"-"},null,{"$f":"DQ37","v":"-"},null,{"$f":"DS37","v":"-"},null,{"$f":"DU37","v":"-"},null,{"$f":"DW37","v":"-"},null,{"$f":"DY37","v":"-"},null,{"$f":"EA37","v":"-"},null,{"$f":"EC37","v":"-"},null,{"$f":"EE37","v":"-"},null,{"$f":"EG37","v":"-"},null,{"$f":"EI37","v":"-"},null,{"$f":"EK37","v":"-"},null,{"$f":"EM37","v":"-"},null,{"$f":"EO37","v":"-"},null,{"$f":"EQ37","v":"-"},null,{"$f":"ES37","v":"-"},null,{"$f":"EU37","v":"-"},null,{"$f":"EW37","v":"-"},null,{"$f":"EY37","v":"-"},null,{"$f":"FA37","v":"-"},null,{"$f":"FC37","v":"-"},null,{"$f":"FE37","v":"-"},null,{"$f":"FG37","v":"-"},null,{"$f":"FI37","v":"-"},null,{"$f":"FK37","v":"／"},null,{"$f":"FM37","v":"／"},null,{"$f":"FO37","v":"／"},null,{"$f":"FQ37","v":"／"},null,{"$f":"FS37","v":"／"},null,"／",null,"／",null,"／",null,"／",null,"／",null,"／",null,"／",null,"／",null,"／"]
[null,null,null,null,"比較式",{"$f":"G38","v":"（1,426-1,414）/1,414=0.8%"},null,"（1,492-1,414）/1,414=5.5%",null,"（1,150-1,414）/1,414=-18.7%",null,"（877-1,414）/1,414=-38.0%",null,"（1,150-1,414）/1,414=-18.7%",null,"（1,414-1,414）/1,414=0.0%",null,"（5,300-1,414）/1,414=274.8%",null,"（1,395-1,414）/1,414=-1.3%",null,"（1,549-1,414）/1,414=9.5%",null,"（837-1,414）/1,414=-40.8%",null,"（837-1,414）/1,414=-40.8%",null,"／",null,"／",null,"（5,190-825）/825=529.1%",null,"（6,920-990）/990=599.0%",null,"（5,190-675）/675=668.9%",null,"（6,920-1,125）/1,125=515.1%",null,"（900-990）/990=-9.1%",null,"（900-1,125）/1,125=-20.0%",null,"（1,545-825）/825=87.3%",null,"（1,545-990）/990=56.1%",null,"（1,545-675）/675=128.9%",null,"（1,545-1,125）/1,125=37.3%",null,"-",null,"-",null,"-",null,"-",null,"（3,580-825）/825=333.9%",null,"（3,800-990）/990=283.8%",null,"（3,580-675）/675=430.4%",null,"（3,800-1,125）/1,125=237.8%",null,"（2,280-825）/825=176.4%",null,"（5,700-990）/990=475.8%",null,"（2,280-675）/675=237.8%",null,"（5,700-1,125）/1,125=406.7%",null,"（5,250-825）/825=536.4%",null,"（15,750-990）/990=1490.9%",null,"（5,250-675）/675=677.8%",null,"（15,750-1,125）/1,125=1300.0%",null,"-",null,"-",null,"-",null,"-",null,"（1,800-1,850）/1,850=-2.7%",null,"（1,800-1,850）/1,850=-2.7%",null,"-",null,"-",null,"（2,250-825）/825=172.7%",null,"（6,000-990）/990=506.1%",null,"（2,250-675）/675=233.3%",null,"（6,000-1,125）/1,125=433.3%",null,"（4,500-1,850）/1,850=143.2%",null,"（4,500-1,850）/1,850=143.2%",null,"（6,000-1,850）/1,850=224.3%",null,"（3,600-1,850）/1,850=94.6%",null,"（1,050-825）/825=27.3%",null,"（2,100-990）/990=112.1%",null,"（1,050-675）/675=55.6%",null,"（2,100-1,125）/1,125=86.7%",null,"（5,500-1,850）/1,850=197.3%",null,"（5,500-1,850）/1,850=197.3%",null,"（10,000-1,850）/1,850=440.5%",null,"（4,000-1,850）/1,850=116.2%",null,"（6,000-825）/825=627.3%",null,"（9,000-990）/990=809.1%",null,"（6,300-825）/825=663.6%",null,"（10,500-990）/990=960.6%",null,"（9,450-1,850）/1,850=410.8%",null,"（3,000-825）/825=263.6%",null,"（6,000-990）/990=506.1%",null,"（10,000-825）/825=1112.1%",null,"（29,000-990）/990=2829.3%",null,"（14,500-1,850）/1,850=683.8%",null,"（10,000-675）/675=1381.5%",null,"（29,000-1,125）/1,125=2477.8%",null,"（2,880-825）/825=249.1%",null,"（3,840-990）/990=287.9%",null,"（2,880-675）/675=326.7%",null,"（3,840-1,125）/1,125=241.3%",null,"／",null,"／",null,"／",null,"／",null,"／",null,"／",null,"／",null,"／",null,"／",null,"／",null,"／",null,"／",null,"／",null,"／",null,"／"]
[null,null,null,null,"比較式","（0.208-0.332）/0.332=-37.2%",null,"（0.208-0.332）/0.332=-37.2%",null,"（0.189-0.332）/0.332=-43.2%",null,"（0.167-0.332）/0.332=-49.8%",null,"（0.189-0.332）/0.332=-43.2%",null,"（0.332-0.332）/0.332=0.0%",null,"（0.667-0.332）/0.332=100.8%",null,"（0.231-0.332）/0.332=-30.3%",null,"（0.231-0.332）/0.332=-30.3%",null,"（0.140-0.332）/0.332=-57.8%",null,"（0.140-0.332）/0.332=-57.8%",null,"／",null,"／",null,"-",null,"-",null,"-",null,"-",null,"-",null,"-",null,"-",null,"-",null,"-",null,"-",null,"-",null,"-",null,"-",null,"-",null,"-",null,"-",null,"-",null,"-",null,"-",null,"-",null,"-",null,"-",null,"-",null,"-",null,"-",null,"-",null,"-",null,"-",null,"-",null,"-",null,"-",null,"-",null,"-",null,"-",null,"-",null,"-",null,"-",null,"-",null,"-",null,"-",null,"-",null,"-",null,"-",null,"-",null,"-",null,"-",null,"-",null,"-",null,"-",null,"-",null,"-",null,"-",null,"-",null,"-",null,"-",null,"-",null,"-",null,"-",null,"-",null,"-",null,"-",null,"-",null,"-",null,"-",null,"-",null,"-",null,"／",null,"／",null,"／",null,"／",null,"／",null,"／",null,"／",null,"／",null,"／",null,"／",null,"／",null,"／",null,"／",null,"／",null,"／"]

{"sheet":"仕様の整理","index":5,"n_rows":96,"n_cols":48,"rows_kept":96,"cut":false,"hidden":false,"merged":[[1,23,2,23]]}
[null," 対象工種の仕様の整理［残土処理工］",null,null,"登録技術：",{"$f":"SUMPRODUCT((E4:E1000<>\"\")/COUNTIF(E4:E1000,E4:E1000&\"\"))&\"技術\"&MAX(B:B)&\"仕様\"","v":"30技術93仕様"},"検索結果：",{"$f":"\"\"&SUM(IF((A4:A1000<>\"\")*(A4:A1000<>\"-\")*(E4:E1000<>\"\"),1/COUNTIFS(A4:A1000,\"<>\",A4:A1000,\"<>-\",E4:E1000,E4:E1000)))&\"技術\"&COUNT(A:A)&\"仕様\"","v":"6技術9仕様"},null,null,null,null,null,null,null,null,null,null,null,null,null,null,null,"→検索結果",null,"機械","材料","機械・材料","機械・材料","機械・材料",null,"機械","機械","機械・材料","材料","材料","材料","→絶対順位"]
[null,"基本情報",null,null,null,null,null,null,null,null,null,null,null,"DB情報",null,null,null,null,null,null,null,null,null,"条件一致","技術区分","施工方法","比較する従来技術","土質区分","汚染土壌の有無","九州の実績","発注者ニーズ","騒音・振動の低減","省人化・省力化","粉塵等の飛散防止","早期強度発現性\n（即効性）","改良材由来の六価クロム等の溶出防止","中性域での処理\n（固化材自体が中性）"]
["検索順位","番号","技術\n番号","技術名","NETIS登録番号","技術の種類","審議終了技術","更新日","種類","施工方式","発生土の土質","改良対象土","汚染土壌の有無","比較する従来技術","九州の実績","騒音・振動の低減","省人化・省力化","粉塵等の飛散防止","早期強度発現性\n（即効性）","改良材由来の六価クロム等の溶出防止","中性域での処理\n（固化材自体が中性）","施工仕様","仕様",null,{"$f":"検索!S5","v":"機械系"},{"$f":"検索!S6","v":"特に指定しない"},{"$f":"検索!S7","v":"セメント系固化材（一般軟弱土用）による第4種建設発生土の地盤改良"},{"$f":"検索!S8","v":"第4種建設発生土"},{"$f":"検索!S9","v":"無し"},{"$f":"検索!$S$10","v":"特に指定しない"},{"$f":"検索!$S$11","v":"優れている"},{"$f":"検索!S12","v":""},{"$f":"検索!S13","v":""},{"$f":"検索!S14","v":""},{"$f":"検索!S15","v":""},{"$f":"検索!S16","v":""},{"$f":"検索!S17","v":""},"九州本社","Aの技術","九州でA","記号","登録年度","登録番号","審議終了","仕様","地整","重み付け","絶対順位"]
[{"$f":"IF(検索!$U$1=\"条件検索\", IF(X4=\"○\", COUNTIFS(X:X,\"○\",AV:AV,\"<\"&AV4)+1, \"-\"), IF(検索!$U$1=\"技術名検索\", IF(検索!$B$36=仕様の整理!E4, 仕様の整理!AV4, \"-\"), \"-\"))","v":9},1,"2-1","回転式破砕混合工法による建設発生土リサイクル技術","KT-090048-VG","NETIS掲載期間終了技術","○","令和7年8月","機械系","定置式プラント方式","第4種建設発生土","第4種建設発生土（コーン指数qc=300kN/m2程度、含水比60％程度）","-",{"$f":"HLOOKUP(C4,DB!$1:$1048576,29,0)","v":"自走式土質改良工"},{"$f":"HLOOKUP(C4,DB!$1:$1048576,48,0)","v":"有"},{"$f":"LEFT(HLOOKUP($C4,DB!$1:$1048576,58,0),1)","v":"△"},{"$f":"LEFT(HLOOKUP($C4,DB!$1:$1048576,59,0),1)","v":"○"},{"$f":"LEFT(HLOOKUP($C4,DB!$1:$1048576,60,0),1)","v":"△"},{"$f":"LEFT(HLOOKUP($C4,DB!$1:$1048576,61,0),1)","v":"-"},{"$f":"LEFT(HLOOKUP($C4,DB!$1:$1048576,62,0),1)","v":"-"},{"$f":"LEFT(HLOOKUP($C4,DB!$1:$1048576,63,0),1)","v":"-"},{"$f":"HLOOKUP(C4,DB!$1:$1048576,78,0)","v":"良質土混合"},{"$f":"$I$3&\":\"&I4&CHAR(10)&IF(I4=\"材料系\",$L$3&\"：\"&L4,IF(I4=\"機械系\",$J$3&\"：\"&J4&CHAR(10)&$V$3&\"：\"&V4&CHAR(10)&$L$3&\"：\"&L4))","v":"種類:機械系\n施工方式：定置式プラント方式\n施工仕様：良質土混合\n改良対象土：第4種建設発生土（コーン指数qc=300kN/m2程度、含水比60％程度）"},{"$f":"IF($Y$3=\"機械系\", IF(COUNTIF(Y4:AE4,\"○\")=6,\"○\",\"×\"), IF($Y$3=\"材料系\", IF(COUNTIF(Y4:AE4,\"○\")=6,\"○\",\"×\"), \"×\"))","v":"○"},{"$f":"IF(Y$3=I4,\"○\",\"×\")","v":"○"},{"$f":"IF($Y$3=\"材料系\",\"×\",IF(Z$3=\"特に指定しない\",\"○\",IF(Z$3=J4,\"○\",\"×\")))","v":"○"},{"$f":"IF($Y$3=\"機械系\",\"×\",IF(AA$3=\"特に指定しない\",\"○\",IF(AA$3=N4,\"○\",\"×\")))","v":"×"},{"$f":"IF($AA$3=\"セメント系固化材（六価クロム対応型）による特殊土の地盤改良\",\"○\",IF(AB$3=K4,\"○\",\"×\"))","v":"○"},{"$f":"IF($AA$3<>\"セメント系固化材（六価クロム対応型）による特殊土の地盤改良\",\"○\",IF($AC$3=\"無し\",\"○\",IF(AC$3=M4,\"○\",\"×\")))","v":"○"},{"$f":"IF(AD$3=\"特に指定しない\",\"○\",IF(AD$3=O4,\"○\",\"×\"))","v":"○"},{"$f":"IF(OR(AND(I4=\"機械系\", COUNTIF(AF4:AK4,\"○\")=3), AND(I4=\"材料系\", COUNTIF(AF4:AK4,\"○\")=4)), \"○\", \"×\")","v":"○"},{"$f":"IF($I4=\"材料系\",\"-\",IF(COUNTIF($AF$3:$AK$3,\"✓\")=0, \"○\",IF(AF3=\"\",\"○\", IF(AND(AF$3=\"✓\", OR(AND($AE$3=\"優れている\", P4=\"○\"), AND($AE$3=\"同等以上\", OR(P4=\"○\", P4=\"△\")))),\"○\", \"×\"))))","v":"○"},{"$f":"IF($I4=\"材料系\",\"-\",IF(COUNTIF($AF$3:$AK$3,\"✓\")=0, \"○\",IF(AG3=\"\",\"○\", IF(AND(AG$3=\"✓\", OR(AND($AE$3=\"優れている\", Q4=\"○\"), AND($AE$3=\"同等以上\", OR(Q4=\"○\", Q4=\"△\")))),\"○\", \"×\"))))","v":"○"},{"$f":"IF(COUNTIF($AF$3:$AK$3,\"✓\")=0, \"○\",IF(AH3=\"\",\"○\", IF(AND(AH$3=\"✓\", OR(AND($AE$3=\"優れている\", R4=\"○\"), AND($AE$3=\"同等以上\", OR(R4=\"○\", R4=\"△\")))),\"○\", \"×\")))","v":"○"},{"$f":"IF($I4=\"機械系\",\"-\",IF(COUNTIF($AF$3:$AK$3,\"✓\")=0, \"○\",IF(AI3=\"\",\"○\", IF(AND(AI$3=\"✓\", OR(AND($AE$3=\"優れている\", S4=\"○\"), AND($AE$3=\"同等以上\", OR(S4=\"○\", S4=\"△\")))),\"○\", \"×\"))))","v":"-"},"-","-",{"$f":"HLOOKUP($C4,DB!$1:$1048576,9,0)","v":"-"},{"$f":"RIGHT($E4,LEN($E4)-FIND(\"-\",$E4,FIND(\"-\",$E4)+1))","v":"VG"},{"$f":"IF(AND(AL4=\"◎\",AM4=\"A\"),1,2)","v":2},{"$f":"VLOOKUP(AM4,条件!D:E,2,0)","v":2},{"$f":"IFERROR(IF(VALUE(LEFT(MID(E4,FIND(\"-\",E4)+1,FIND(\"-\",E4,FIND(\"-\",E4)+1)-FIND(\"-\",E4)-1),2))>=90,\"19\"&LEFT(MID(E4,FIND(\"-\",E4)+1,FIND(\"-\",E4,FIND(\"-\",E4)+1)-FIND(\"-\",E4)-1),2),\"20\"&LEFT(MID(E4,FIND(\"-\",E4)+1,FIND(\"-\",E4,FIND(\"-\",E4)+1)-FIND(\"-\",E4)-1),2)),\"\")","v":"2009"},{"$f":"MID(E4, FIND(\"-\", E4) + 3, FIND(\"-\", E4, FIND(\"-\", E4) + 1) - FIND(\"-\", E4) - 3)","v":"0048"},{"$f":"IF(G4=\"\",2,1)","v":1},{"$f":"MID(C4,FIND(\"-\",C4)+1,LEN(C4))","v":"1"},{"$f":"VLOOKUP(LEFT(E4,2),条件!A:B,2,0)","v":"07"},{"$f":"(AN4&AO4&AP4&AQ4&AR4&TEXT(AS4,\"00\")&AT4)*1","v":222009004810107},{"$f":"_xlfn.RANK.EQ(AU4,AU:AU,1)","v":88}]
[{"$f":"IF(検索!$U$1=\"条件検索\", IF(X5=\"○\", COUNTIFS(X:X,\"○\",AV:AV,\"<\"&AV5)+1, \"-\"), IF(検索!$U$1=\"技術名検索\", IF(検索!$B$36=仕様の整理!E5, 仕様の整理!AV5, \"-\"), \"-\"))","v":"-"},2,"2-2","回転式破砕混合工法による建設発生土リサイクル技術","KT-090048-VG","NETIS掲載期間終了技術","○","令和7年8月","機械系","定置式プラント方式","泥土","泥土（コーン指数qc=200kN/m2程度、含水比100％程度）","-",{"$f":"HLOOKUP(C5,DB!$1:$1048576,29,0)","v":"自走式土質改良工"},{"$f":"HLOOKUP(C5,DB!$1:$1048576,48,0)","v":"有"},{"$f":"LEFT(HLOOKUP($C5,DB!$1:$1048576,58,0),1)","v":"△"},{"$f":"LEFT(HLOOKUP($C5,DB!$1:$1048576,59,0),1)","v":"○"},{"$f":"LEFT(HLOOKUP($C5,DB!$1:$1048576,60,0),1)","v":"△"},{"$f":"LEFT(HLOOKUP($C5,DB!$1:$1048576,61,0),1)","v":"-"},{"$f":"LEFT(HLOOKUP($C5,DB!$1:$1048576,62,0),1)","v":"-"},{"$f":"LEFT(HLOOKUP($C5,DB!$1:$1048576,63,0),1)","v":"-"},{"$f":"HLOOKUP(C5,DB!$1:$1048576,78,0)","v":"良質土混合・固化材添加"},"種類:機械系\n施工方式：定置式プラント方式\n施工仕様：良質土混合・固化材添加\n改良対象土：泥土（コーン指数qc=200kN/m2程度、含水比100％程度）",{"$f":"IF($Y$3=\"機械系\", IF(COUNTIF(Y5:AE5,\"○\")=6,\"○\",\"×\"), IF($Y$3=\"材料系\", IF(COUNTIF(Y5:AE5,\"○\")=6,\"○\",\"×\"), \"×\"))","v":"×"},{"$f":"IF(Y$3=I5,\"○\",\"×\")","v":"○"},{"$f":"IF($Y$3=\"材料系\",\"×\",IF(Z$3=\"特に指定しない\",\"○\",IF(Z$3=J5,\"○\",\"×\")))","v":"○"},{"$f":"IF($Y$3=\"機械系\",\"×\",IF(AA$3=\"特に指定しない\",\"○\",IF(AA$3=N5,\"○\",\"×\")))","v":"×"},{"$f":"IF($AA$3=\"セメント系固化材（六価クロム対応型）による特殊土の地盤改良\",\"○\",IF(AB$3=K5,\"○\",\"×\"))","v":"×"},{"$f":"IF($AA$3<>\"セメント系固化材（六価クロム対応型）による特殊土の地盤改良\",\"○\",IF($AC$3=\"無し\",\"○\",IF(AC$3=M5,\"○\",\"×\")))","v":"○"},"○",{"$f":"IF(OR(AND(I5=\"機械系\", COUNTIF(AF5:AK5,\"○\")=3), AND(I5=\"材料系\", COUNTIF(AF5:AK5,\"○\")=4)), \"○\", \"×\")","v":"○"},"○","○",{"$f":"IF(COUNTIF($AF$3:$AK$3,\"✓\")=0, \"○\",IF(AH4=\"\",\"○\", IF(AND(AH$3=\"✓\", OR(AND($AE$3=\"優れている\", R5=\"○\"), AND($AE$3=\"同等以上\", OR(R5=\"○\", R5=\"△\")))),\"○\", \"×\")))","v":"○"},"-","-","-",{"$f":"HLOOKUP($C5,DB!$1:$1048576,9,0)","v":"-"},{"$f":"RIGHT($E5,LEN($E5)-FIND(\"-\",$E5,FIND(\"-\",$E5)+1))","v":"VG"},{"$f":"IF(AND(AL5=\"◎\",AM5=\"A\"),1,2)","v":2},{"$f":"VLOOKUP(AM5,条件!D:E,2,0)","v":2},"2009","0048",1,"2",{"$f":"VLOOKUP(LEFT(E5,2),条件!A:B,2,0)","v":"07"},{"$f":"(AN5&AO5&AP5&AQ5&AR5&TEXT(AS5,\"00\")&AT5)*1","v":222009004810207},89]
[{"$f":"IF(検索!$U$1=\"条件検索\", IF(X6=\"○\", COUNTIFS(X:X,\"○\",AV:AV,\"<\"&AV6)+1, \"-\"), IF(検索!$U$1=\"技術名検索\", IF(検索!$B$36=仕様の整理!E6, 仕様の整理!AV6, \"-\"), \"-\"))","v":5},3,"3-1","万能土質改良機による建設発生土再利用システム","KK-980012-VG","NETIS掲載期間終了技術","○","令和7年8月","機械系","定置式プラント方式","第4種建設発生土","第4種建設発生土（コーン指数qc=300kN/m2程度、含水比60％程度）","-",{"$f":"HLOOKUP(C6,DB!$1:$1048576,29,0)","v":"自走式土質改良工"},{"$f":"HLOOKUP(C6,DB!$1:$1048576,48,0)","v":"有"},{"$f":"LEFT(HLOOKUP($C6,DB!$1:$1048576,58,0),1)","v":"△"},{"$f":"LEFT(HLOOKUP($C6,DB!$1:$1048576,59,0),1)","v":"△"},{"$f":"LEFT(HLOOKUP($C6,DB!$1:$1048576,60,0),1)","v":"△"},{"$f":"LEFT(HLOOKUP($C6,DB!$1:$1048576,61,0),1)","v":"-"},{"$f":"LEFT(HLOOKUP($C6,DB!$1:$1048576,62,0),1)","v":"-"},{"$f":"LEFT(HLOOKUP($C6,DB!$1:$1048576,63,0),1)","v":"-"},{"$f":"HLOOKUP(C6,DB!$1:$1048576,78,0)","v":"固化材添加"},"種類:機械系\n施工方式：定置式プラント方式\n施工仕様：固化材添加\n改良対象土：第4種建設発生土（コーン指数qc=300kN/m2程度、含水比60％程度）","○","○","○","×","○","○","○","○","○","○",{"$f":"IF(COUNTIF($AF$3:$AK$3,\"✓\")=0, \"○\",IF(AH5=\"\",\"○\", IF(AND(AH$3=\"✓\", OR(AND($AE$3=\"優れている\", R6=\"○\"), AND($AE$3=\"同等以上\", OR(R6=\"○\", R6=\"△\")))),\"○\", \"×\")))","v":"○"},"-","-","-",{"$f":"HLOOKUP($C6,DB!$1:$1048576,9,0)","v":"-"},"VG",2,{"$f":"VLOOKUP(AM6,条件!D:E,2,0)","v":2},"1998","0012",1,"1",{"$f":"VLOOKUP(LEFT(E6,2),条件!A:B,2,0)","v":"04"},221998001210104,71]
[{"$f":"IF(検索!$U$1=\"条件検索\", IF(X7=\"○\", COUNTIFS(X:X,\"○\",AV:AV,\"<\"&AV7)+1, \"-\"), IF(検索!$U$1=\"技術名検索\", IF(検索!$B$36=仕様の整理!E7, 仕様の整理!AV7, \"-\"), \"-\"))","v":6},4,"3-2","万能土質改良機による建設発生土再利用システム","KK-980012-VG","NETIS掲載期間終了技術","○","令和7年8月","機械系","定置式プラント方式","第4種建設発生土","第4種建設発生土（コーン指数qc=300kN/m2程度、含水比60％程度）","-",{"$f":"HLOOKUP(C7,DB!$1:$1048576,29,0)","v":"自走式土質改良工"},{"$f":"HLOOKUP(C7,DB!$1:$1048576,48,0)","v":"有"},{"$f":"LEFT(HLOOKUP($C7,DB!$1:$1048576,58,0),1)","v":"△"},{"$f":"LEFT(HLOOKUP($C7,DB!$1:$1048576,59,0),1)","v":"△"},{"$f":"LEFT(HLOOKUP($C7,DB!$1:$1048576,60,0),1)","v":"△"},{"$f":"LEFT(HLOOKUP($C7,DB!$1:$1048576,61,0),1)","v":"-"},{"$f":"LEFT(HLOOKUP($C7,DB!$1:$1048576,62,0),1)","v":"-"},{"$f":"LEFT(HLOOKUP($C7,DB!$1:$1048576,63,0),1)","v":"-"},{"$f":"HLOOKUP(C7,DB!$1:$1048576,78,0)","v":"良質土混合"},"種類:機械系\n施工方式：定置式プラント方式\n施工仕様：良質土混合\n改良対象土：第4種建設発生土（コーン指数qc=300kN/m2程度、含水比60％程度）","○","○","○","×","○","○","○","○",{"$f":"IF($Y$3=\"材料系\",\"×\",IF(COUNTIF($AF$3:$AK$3,\"✓\")=0,\"○\",IF(AF$3<>\"✓\",\"○\",IF(AND(AF$3=\"✓\",OR(AND($AE$3=\"優れている\",P7=\"○\"),AND($AE$3=\"同等以上\",OR(P7=\"○\",P7=\"△\")))),\"○\",\"×\"))))","v":"○"},{"$f":"IF($Y$3=\"材料系\",\"×\",IF(COUNTIF($AF$3:$AK$3,\"✓\")=0,\"○\",IF(AG$3<>\"✓\",\"○\",IF(AND(AG$3=\"✓\",OR(AND($AE$3=\"優れている\",Q7=\"○\"),AND($AE$3=\"同等以上\",OR(Q7=\"○\",Q7=\"△\")))),\"○\",\"×\"))))","v":"○"},{"$f":"IF(COUNTIF($AF$3:$AK$3,\"✓\")=0,\"○\",IF(AH$3<>\"✓\",\"○\",IF(AND(AH$3=\"✓\",OR(AND($AE$3=\"優れている\",R7=\"○\"),AND($AE$3=\"同等以上\",OR(R7=\"○\",R7=\"△\")))),\"○\",\"×\")))","v":"○"},{"$f":"IF($Y$3=\"機械系\",\"×\",IF(COUNTIF($AF$3:$AK$3,\"✓\")=0,\"○\",IF(AI$3<>\"✓\",\"○\",IF(AND(AI$3=\"✓\",OR(AND($AE$3=\"優れている\",S7=\"○\"),AND($AE$3=\"同等以上\",OR(S7=\"○\",S7=\"△\")))),\"○\",\"×\"))))","v":"×"},{"$f":"IF($Y$3=\"機械系\",\"×\",IF(COUNTIF($AF$3:$AK$3,\"✓\")=0,\"○\",IF(AJ$3<>\"✓\",\"○\",IF(AND(AJ$3=\"✓\",OR(AND($AE$3=\"優れている\",T7=\"○\"),AND($AE$3=\"同等以上\",OR(T7=\"○\",T7=\"△\")))),\"○\",\"×\"))))","v":"×"},{"$f":"IF($Y$3=\"機械系\",\"×\",IF(COUNTIF($AF$3:$AK$3,\"✓\")=0,\"○\",IF(AK$3<>\"✓\",\"○\",IF(AND(AK$3=\"✓\",OR(AND($AE$3=\"優れている\",U7=\"○\"),AND($AE$3=\"同等以上\",OR(U7=\"○\",U7=\"△\")))),\"○\",\"×\"))))","v":"×"},{"$f":"HLOOKUP($C7,DB!$1:$1048576,9,0)","v":"-"},"VG",2,{"$f":"VLOOKUP(AM7,条件!D:E,2,0)","v":2},"1998","0012",1,"2",{"$f":"VLOOKUP(LEFT(E7,2),条件!A:B,2,0)","v":"04"},221998001210204,72]
[{"$f":"IF(検索!$U$1=\"条件検索\", IF(X8=\"○\", COUNTIFS(X:X,\"○\",AV:AV,\"<\"&AV8)+1, \"-\"), IF(検索!$U$1=\"技術名検索\", IF(検索!$B$36=仕様の整理!E8, 仕様の整理!AV8, \"-\"), \"-\"))","v":7},5,"3-3","万能土質改良機による建設発生土再利用システム","KK-980012-VG","NETIS掲載期間終了技術","○","令和7年8月","機械系","定置式プラント方式","第4種建設発生土","第4種建設発生土（コーン指数qc=300kN/m2程度、含水比60％程度）","-",{"$f":"HLOOKUP(C8,DB!$1:$1048576,29,0)","v":"自走式土質改良工"},{"$f":"HLOOKUP(C8,DB!$1:$1048576,48,0)","v":"有"},{"$f":"LEFT(HLOOKUP($C8,DB!$1:$1048576,58,0),1)","v":"△"},{"$f":"LEFT(HLOOKUP($C8,DB!$1:$1048576,59,0),1)","v":"△"},{"$f":"LEFT(HLOOKUP($C8,DB!$1:$1048576,60,0),1)","v":"△"},{"$f":"LEFT(HLOOKUP($C8,DB!$1:$1048576,61,0),1)","v":"-"},{"$f":"LEFT(HLOOKUP($C8,DB!$1:$1048576,62,0),1)","v":"-"},{"$f":"LEFT(HLOOKUP($C8,DB!$1:$1048576,63,0),1)","v":"-"},{"$f":"HLOOKUP(C8,DB!$1:$1048576,78,0)","v":"良質土混合・固化材添加"},"種類:機械系\n施工方式：定置式プラント方式\n施工仕様：良質土混合・固化材添加\n改良対象土：第4種建設発生土（コーン指数qc=300kN/m2程度、含水比60％程度）","○","○","○","×","○","○","○","○","○","○","○","×","×","×",{"$f":"HLOOKUP($C8,DB!$1:$1048576,9,0)","v":"-"},"VG",2,{"$f":"VLOOKUP(AM8,条件!D:E,2,0)","v":2},"1998","0012",1,"3",{"$f":"VLOOKUP(LEFT(E8,2),条件!A:B,2,0)","v":"04"},221998001210304,73]
[{"$f":"IF(検索!$U$1=\"条件検索\", IF(X9=\"○\", COUNTIFS(X:X,\"○\",AV:AV,\"<\"&AV9)+1, \"-\"), IF(検索!$U$1=\"技術名検索\", IF(検索!$B$36=仕様の整理!E9, 仕様の整理!AV9, \"-\"), \"-\"))","v":8},6,"7-1","ESR工法","HR-060002-VG","NETIS掲載期間終了技術","○","令和7年8月","機械系","自走式プラント方式","第4種建設発生土","第4種建設発生土（コーン指数qc=300kN/m2程度、含水比60％程度）","-",{"$f":"HLOOKUP(C9,DB!$1:$1048576,29,0)","v":"自走式土質改良工"},{"$f":"HLOOKUP(C9,DB!$1:$1048576,48,0)","v":"無"},{"$f":"LEFT(HLOOKUP($C9,DB!$1:$1048576,58,0),1)","v":"△"},{"$f":"LEFT(HLOOKUP($C9,DB!$1:$1048576,59,0),1)","v":"△"},{"$f":"LEFT(HLOOKUP($C9,DB!$1:$1048576,60,0),1)","v":"△"},{"$f":"LEFT(HLOOKUP($C9,DB!$1:$1048576,61,0),1)","v":"-"},{"$f":"LEFT(HLOOKUP($C9,DB!$1:$1048576,62,0),1)","v":"-"},{"$f":"LEFT(HLOOKUP($C9,DB!$1:$1048576,63,0),1)","v":"-"},{"$f":"HLOOKUP(C9,DB!$1:$1048576,78,0)","v":"固化材添加"},"種類:機械系\n施工方式：自走式プラント方式\n施工仕様：固化材添加\n改良対象土：第4種建設発生土（コーン指数qc=300kN/m2程度、含水比60％程度）","○","○","○","×","○","○","○","○","○","○","○","×","×","×",{"$f":"HLOOKUP($C9,DB!$1:$1048576,9,0)","v":"-"},"VG",2,{"$f":"VLOOKUP(AM9,条件!D:E,2,0)","v":2},"2006","0002",1,"1",{"$f":"VLOOKUP(LEFT(E9,2),条件!A:B,2,0)","v":"06"},222006000210106,87]
[{"$f":"IF(検索!$U$1=\"条件検索\", IF(X10=\"○\", COUNTIFS(X:X,\"○\",AV:AV,\"<\"&AV10)+1, \"-\"), IF(検索!$U$1=\"技術名検索\", IF(検索!$B$36=仕様の整理!E10, 仕様の整理!AV10, \"-\"), \"-\"))","v":"-"},7,"21-2","泥土再資源化技術E3(イーキューブ)システム","CB-030057-VG","NETIS掲載期間終了技術","○","令和7年8月","機械系","定置式プラント方式","泥土","泥土（コーン指数qc=200kN/m2程度、含水比100％程度）","-",{"$f":"HLOOKUP(C10,DB!$1:$1048576,29,0)","v":"自走式土質改良工"},{"$f":"HLOOKUP(C10,DB!$1:$1048576,48,0)","v":"有"},{"$f":"LEFT(HLOOKUP($C10,DB!$1:$1048576,58,0),1)","v":"△"},{"$f":"LEFT(HLOOKUP($C10,DB!$1:$1048576,59,0),1)","v":"○"},{"$f":"LEFT(HLOOKUP($C10,DB!$1:$1048576,60,0),1)","v":"△"},{"$f":"LEFT(HLOOKUP($C10,DB!$1:$1048576,61,0),1)","v":"-"},{"$f":"LEFT(HLOOKUP($C10,DB!$1:$1048576,62,0),1)","v":"-"},{"$f":"LEFT(HLOOKUP($C10,DB!$1:$1048576,63,0),1)","v":"-"},{"$f":"HLOOKUP(C10,DB!$1:$1048576,78,0)","v":"固化材添加"},"種類:機械系\n施工方式：定置式プラント方式\n施工仕様：固化材添加\n改良対象土：泥土（コーン指数qc=200kN/m2程度、含水比100％程度）","×","○","○","×","×","○","○","○","○","○","○","×","×","×",{"$f":"HLOOKUP($C10,DB!$1:$1048576,9,0)","v":"-"},"VG",2,{"$f":"VLOOKUP(AM10,条件!D:E,2,0)","v":2},"2003","0057",1,"2",{"$f":"VLOOKUP(LEFT(E10,2),条件!A:B,2,0)","v":"05"},222003005710205,86]
[{"$f":"IF(検索!$U$1=\"条件検索\", IF(X11=\"○\", COUNTIFS(X:X,\"○\",AV:AV,\"<\"&AV11)+1, \"-\"), IF(検索!$U$1=\"技術名検索\", IF(検索!$B$36=仕様の整理!E11, 仕様の整理!AV11, \"-\"), \"-\"))","v":1},8,"42-1","自走型回転式破砕混合機（TMSP1500）","KT-200094-A","事後評価未実施技術","○","令和7年8月","機械系","自走式プラント方式","第4種建設発生土","第4種建設発生土（コーン指数qc=300kN/m2程度、含水比60％程度）","-",{"$f":"HLOOKUP(C11,DB!$1:$1048576,29,0)","v":"自走式土質改良工"},{"$f":"HLOOKUP(C11,DB!$1:$1048576,48,0)","v":"無"},{"$f":"LEFT(HLOOKUP($C11,DB!$1:$1048576,58,0),1)","v":"△"},{"$f":"LEFT(HLOOKUP($C11,DB!$1:$1048576,59,0),1)","v":"○"},{"$f":"LEFT(HLOOKUP($C11,DB!$1:$1048576,60,0),1)","v":"△"},{"$f":"LEFT(HLOOKUP($C11,DB!$1:$1048576,61,0),1)","v":"-"},{"$f":"LEFT(HLOOKUP($C11,DB!$1:$1048576,62,0),1)","v":"-"},{"$f":"LEFT(HLOOKUP($C11,DB!$1:$1048576,63,0),1)","v":"-"},{"$f":"HLOOKUP(C11,DB!$1:$1048576,78,0)","v":"良質土混合"},"種類:機械系\n施工方式：自走式プラント方式\n施工仕様：良質土混合\n改良対象土：第4種建設発生土（コーン指数qc=300kN/m2程度、含水比60％程度）","○","○","○","×","○","○","○","○","○","○","○","×","×","×",{"$f":"HLOOKUP($C11,DB!$1:$1048576,9,0)","v":"△(九州地方に共同開発者有り）"},"A",2,{"$f":"VLOOKUP(AM11,条件!D:E,2,0)","v":1},"2020","0094",1,"1",{"$f":"VLOOKUP(LEFT(E11,2),条件!A:B,2,0)","v":"07"},212020009410107,25]
[{"$f":"IF(検索!$U$1=\"条件検索\", IF(X12=\"○\", COUNTIFS(X:X,\"○\",AV:AV,\"<\"&AV12)+1, \"-\"), IF(検索!$U$1=\"技術名検索\", IF(検索!$B$36=仕様の整理!E12, 仕様の整理!AV12, \"-\"), \"-\"))","v":2},9,"42-2","自走型回転式破砕混合機（TMSP1500）","KT-200094-A","事後評価未実施技術","○","令和7年8月","機械系","自走式プラント方式","第4種建設発生土","第4種建設発生土（コーン指数qc=300kN/m2程度、含水比60％程度）","-",{"$f":"HLOOKUP(C12,DB!$1:$1048576,29,0)","v":"自走式土質改良工"},{"$f":"HLOOKUP(C12,DB!$1:$1048576,48,0)","v":"無"},{"$f":"LEFT(HLOOKUP($C12,DB!$1:$1048576,58,0),1)","v":"△"},{"$f":"LEFT(HLOOKUP($C12,DB!$1:$1048576,59,0),1)","v":"○"},{"$f":"LEFT(HLOOKUP($C12,DB!$1:$1048576,60,0),1)","v":"△"},{"$f":"LEFT(HLOOKUP($C12,DB!$1:$1048576,61,0),1)","v":"-"},{"$f":"LEFT(HLOOKUP($C12,DB!$1:$1048576,62,0),1)","v":"-"},{"$f":"LEFT(HLOOKUP($C12,DB!$1:$1048576,63,0),1)","v":"-"},{"$f":"HLOOKUP(C12,DB!$1:$1048576,78,0)","v":"良質土混合・固化材添加"},"種類:機械系\n施工方式：自走式プラント方式\n施工仕様：良質土混合・固化材添加\n改良対象土：第4種建設発生土（コーン指数qc=300kN/m2程度、含水比60％程度）","○","○","○","×","○","○","○","○","○","○","○","×","×","×",{"$f":"HLOOKUP($C12,DB!$1:$1048576,9,0)","v":"△(九州地方に共同開発者有り）"},"A",2,{"$f":"VLOOKUP(AM12,条件!D:E,2,0)","v":1},"2020","0094",1,"2",{"$f":"VLOOKUP(LEFT(E12,2),条件!A:B,2,0)","v":"07"},212020009410207,26]
[{"$f":"IF(検索!$U$1=\"条件検索\", IF(X13=\"○\", COUNTIFS(X:X,\"○\",AV:AV,\"<\"&AV13)+1, \"-\"), IF(検索!$U$1=\"技術名検索\", IF(検索!$B$36=仕様の整理!E13, 仕様の整理!AV13, \"-\"), \"-\"))","v":3},10,"46-1","ＳＴＢ－ＩＣＴ粒度改良工法","KT-210047-VE","有用な新技術","○","令和7年8月","機械系","自走式プラント方式","第4種建設発生土","第4種建設発生土（コーン指数qc=300kN/m2程度、含水比60％程度）","-",{"$f":"HLOOKUP(C13,DB!$1:$1048576,29,0)","v":"自走式土質改良工"},{"$f":"HLOOKUP(C13,DB!$1:$1048576,48,0)","v":"無"},{"$f":"LEFT(HLOOKUP($C13,DB!$1:$1048576,58,0),1)","v":"△"},{"$f":"LEFT(HLOOKUP($C13,DB!$1:$1048576,59,0),1)","v":"△"},{"$f":"LEFT(HLOOKUP($C13,DB!$1:$1048576,60,0),1)","v":"○"},{"$f":"LEFT(HLOOKUP($C13,DB!$1:$1048576,61,0),1)","v":"-"},{"$f":"LEFT(HLOOKUP($C13,DB!$1:$1048576,62,0),1)","v":"-"},{"$f":"LEFT(HLOOKUP($C13,DB!$1:$1048576,63,0),1)","v":"-"},{"$f":"HLOOKUP(C13,DB!$1:$1048576,78,0)","v":"良質土混合"},"種類:機械系\n施工方式：自走式プラント方式\n施工仕様：良質土混合\n改良対象土：第4種建設発生土（コーン指数qc=300kN/m2程度、含水比60％程度）","○","○","○","×","○","○","○","○","○","○","○","×","×","×",{"$f":"HLOOKUP($C13,DB!$1:$1048576,9,0)","v":"-"},"VE",2,{"$f":"VLOOKUP(AM13,条件!D:E,2,0)","v":1},"2021","0047",1,"1",{"$f":"VLOOKUP(LEFT(E13,2),条件!A:B,2,0)","v":"07"},212021004710107,35]
[{"$f":"IF(検索!$U$1=\"条件検索\", IF(X14=\"○\", COUNTIFS(X:X,\"○\",AV:AV,\"<\"&AV14)+1, \"-\"), IF(検索!$U$1=\"技術名検索\", IF(検索!$B$36=仕様の整理!E14, 仕様の整理!AV14, \"-\"), \"-\"))","v":"-"},11,"46-2","ＳＴＢ－ＩＣＴ粒度改良工法","KT-210047-VE","有用な新技術","○","令和7年8月","機械系","自走式プラント方式","泥土","泥土（コーン指数qc=200kN/m2程度、含水比100％程度）","-",{"$f":"HLOOKUP(C14,DB!$1:$1048576,29,0)","v":"自走式土質改良工"},{"$f":"HLOOKUP(C14,DB!$1:$1048576,48,0)","v":"無"},{"$f":"LEFT(HLOOKUP($C14,DB!$1:$1048576,58,0),1)","v":"△"},{"$f":"LEFT(HLOOKUP($C14,DB!$1:$1048576,59,0),1)","v":"△"},{"$f":"LEFT(HLOOKUP($C14,DB!$1:$1048576,60,0),1)","v":"○"},{"$f":"LEFT(HLOOKUP($C14,DB!$1:$1048576,61,0),1)","v":"-"},{"$f":"LEFT(HLOOKUP($C14,DB!$1:$1048576,62,0),1)","v":"-"},{"$f":"LEFT(HLOOKUP($C14,DB!$1:$1048576,63,0),1)","v":"-"},{"$f":"HLOOKUP(C14,DB!$1:$1048576,78,0)","v":"良質土混合"},"種類:機械系\n施工方式：自走式プラント方式\n施工仕様：良質土混合\n改良対象土：泥土（コーン指数qc=200kN/m2程度、含水比100％程度）","×","○","○","×","×","○","○","○","○","○","○","×","×","×",{"$f":"HLOOKUP($C14,DB!$1:$1048576,9,0)","v":"-"},"VE",2,{"$f":"VLOOKUP(AM14,条件!D:E,2,0)","v":1},"2021","0047",1,"2",{"$f":"VLOOKUP(LEFT(E14,2),条件!A:B,2,0)","v":"07"},212021004710207,36]
[{"$f":"IF(検索!$U$1=\"条件検索\", IF(X15=\"○\", COUNTIFS(X:X,\"○\",AV:AV,\"<\"&AV15)+1, \"-\"), IF(検索!$U$1=\"技術名検索\", IF(検索!$B$36=仕様の整理!E15, 仕様の整理!AV15, \"-\"), \"-\"))","v":4},12,"48-1","建設発生土等の固化材によるリサイクル改良土化","SK-220002-A","事後評価未実施技術",null,"令和5年12月","機械系","定置式プラント方式","第4種建設発生土","第4種建設発生土（コーン指数qc=300kN/m2程度、含水比60％程度）","-",{"$f":"HLOOKUP(C15,DB!$1:$1048576,29,0)","v":"／"},{"$f":"HLOOKUP(C15,DB!$1:$1048576,48,0)","v":"／"},{"$f":"LEFT(HLOOKUP($C15,DB!$1:$1048576,58,0),1)","v":"／"},{"$f":"LEFT(HLOOKUP($C15,DB!$1:$1048576,59,0),1)","v":"／"},{"$f":"LEFT(HLOOKUP($C15,DB!$1:$1048576,60,0),1)","v":"／"},{"$f":"LEFT(HLOOKUP($C15,DB!$1:$1048576,61,0),1)","v":"-"},{"$f":"LEFT(HLOOKUP($C15,DB!$1:$1048576,62,0),1)","v":"-"},{"$f":"LEFT(HLOOKUP($C15,DB!$1:$1048576,63,0),1)","v":"-"},{"$f":"HLOOKUP(C15,DB!$1:$1048576,78,0)","v":"／"},"種類:機械系\n施工方式：定置式プラント方式\n施工仕様：／\n改良対象土：第4種建設発生土（コーン指数qc=300kN/m2程度、含水比60％程度）","○","○","○","×","○","○","○","○","○","○","○","×","×","×",{"$f":"HLOOKUP($C15,DB!$1:$1048576,9,0)","v":"-"},"A",2,{"$f":"VLOOKUP(AM15,条件!D:E,2,0)","v":1},"2022","0002",2,"1",{"$f":"VLOOKUP(LEFT(E15,2),条件!A:B,2,0)","v":"02"},212022000220102,37]
[{"$f":"IF(検索!$U$1=\"条件検索\", IF(X16=\"○\", COUNTIFS(X:X,\"○\",AV:AV,\"<\"&AV16)+1, \"-\"), IF(検索!$U$1=\"技術名検索\", IF(検索!$B$36=仕様の整理!E16, 仕様の整理!AV16, \"-\"), \"-\"))","v":"-"},13,"48-2","建設発生土等の固化材によるリサイクル改良土化","SK-220002-A","事後評価未実施技術",null,"令和5年12月","機械系","定置式プラント方式","泥土","泥土（コーン指数qc=200kN/m2程度、含水比100％程度）","-",{"$f":"HLOOKUP(C16,DB!$1:$1048576,29,0)","v":"／"},{"$f":"HLOOKUP(C16,DB!$1:$1048576,48,0)","v":"／"},{"$f":"LEFT(HLOOKUP($C16,DB!$1:$1048576,58,0),1)","v":"／"},{"$f":"LEFT(HLOOKUP($C16,DB!$1:$1048576,59,0),1)","v":"／"},{"$f":"LEFT(HLOOKUP($C16,DB!$1:$1048576,60,0),1)","v":"／"},{"$f":"LEFT(HLOOKUP($C16,DB!$1:$1048576,61,0),1)","v":"-"},{"$f":"LEFT(HLOOKUP($C16,DB!$1:$1048576,62,0),1)","v":"-"},{"$f":"LEFT(HLOOKUP($C16,DB!$1:$1048576,63,0),1)","v":"-"},{"$f":"HLOOKUP(C16,DB!$1:$1048576,78,0)","v":"／"},"種類:機械系\n施工方式：定置式プラント方式\n施工仕様：／\n改良対象土：泥土（コーン指数qc=200kN/m2程度、含水比100％程度）","×","○","○","×","×","○","○","○","○","○","○","×","×","×",{"$f":"HLOOKUP($C16,DB!$1:$1048576,9,0)","v":"-"},"A",2,{"$f":"VLOOKUP(AM16,条件!D:E,2,0)","v":1},"2022","0002",2,"2",{"$f":"VLOOKUP(LEFT(E16,2),条件!A:B,2,0)","v":"02"},212022000220202,38]
[{"$f":"IF(検索!$U$1=\"条件検索\", IF(X17=\"○\", COUNTIFS(X:X,\"○\",AV:AV,\"<\"&AV17)+1, \"-\"), IF(検索!$U$1=\"技術名検索\", IF(検索!$B$36=仕様の整理!E17, 仕様の整理!AV17, \"-\"), \"-\"))","v":"-"},14,"13-1"," 吸水性泥土改質材 「ワトル」","TH-160010-VE","有用な新技術","○","令和7年11月","材料系","-","第4種建設発生土","第4種建設発生土（コーン指数qc=200kN/m2程度、含水比60％程度）（第3種改良土（コーン指数400kN/m2以上）への改良）","-",{"$f":"HLOOKUP(C17,DB!$1:$1048576,29,0)","v":"セメント系固化材（一般軟弱土用）による第4種建設発生土の地盤改良"},{"$f":"HLOOKUP(C17,DB!$1:$1048576,48,0)","v":"有"},{"$f":"LEFT(HLOOKUP($C17,DB!$1:$1048576,58,0),1)","v":"-"},{"$f":"LEFT(HLOOKUP($C17,DB!$1:$1048576,59,0),1)","v":"△"},{"$f":"LEFT(HLOOKUP($C17,DB!$1:$1048576,60,0),1)","v":"-"},{"$f":"LEFT(HLOOKUP($C17,DB!$1:$1048576,61,0),1)","v":"○"},{"$f":"LEFT(HLOOKUP($C17,DB!$1:$1048576,62,0),1)","v":"○"},{"$f":"LEFT(HLOOKUP($C17,DB!$1:$1048576,63,0),1)","v":"△"},{"$f":"HLOOKUP(C17,DB!$1:$1048576,78,0)","v":"150kg/m3（養生1日、室内配合）"},"種類:材料系\n改良対象土：第4種建設発生土（コーン指数qc=200kN/m2程度、含水比60％程度）（第3種改良土（コーン指数400kN/m2以上）への改良）","×","×","○","×","○","○","○","×","○","○","○","×","×","×",{"$f":"HLOOKUP($C17,DB!$1:$1048576,9,0)","v":"-"},"VE",2,{"$f":"VLOOKUP(AM17,条件!D:E,2,0)","v":1},"2016","0010",1,"1",{"$f":"VLOOKUP(LEFT(E17,2),条件!A:B,2,0)","v":"08"},212016001010108,3]
[{"$f":"IF(検索!$U$1=\"条件検索\", IF(X18=\"○\", COUNTIFS(X:X,\"○\",AV:AV,\"<\"&AV18)+1, \"-\"), IF(検索!$U$1=\"技術名検索\", IF(検索!$B$36=仕様の整理!E18, 仕様の整理!AV18, \"-\"), \"-\"))","v":"-"},15,"13-2"," 吸水性泥土改質材 「ワトル」","TH-160010-VE","有用な新技術","○","令和7年11月","材料系","-","泥土","泥土（コーン指数qc=100kN/m2程度、含水比100％程度）（第3種改良土（コーン指数400kN/m2以上）への改良）","-",{"$f":"HLOOKUP(C18,DB!$1:$1048576,29,0)","v":"セメント系固化材（一般軟弱土用）による泥土の地盤改良"},{"$f":"HLOOKUP(C18,DB!$1:$1048576,48,0)","v":"有"},{"$f":"LEFT(HLOOKUP($C18,DB!$1:$1048576,58,0),1)","v":"-"},{"$f":"LEFT(HLOOKUP($C18,DB!$1:$1048576,59,0),1)","v":"△"},{"$f":"LEFT(HLOOKUP($C18,DB!$1:$1048576,60,0),1)","v":"-"},{"$f":"LEFT(HLOOKUP($C18,DB!$1:$1048576,61,0),1)","v":"○"},{"$f":"LEFT(HLOOKUP($C18,DB!$1:$1048576,62,0),1)","v":"○"},{"$f":"LEFT(HLOOKUP($C18,DB!$1:$1048576,63,0),1)","v":"△"},{"$f":"HLOOKUP(C18,DB!$1:$1048576,78,0)","v":"200kg/m3（養生3日、室内配合）"},"種類:材料系\n改良対象土：泥土（コーン指数qc=100kN/m2程度、含水比100％程度）（第3種改良土（コーン指数400kN/m2以上）への改良）","×","×","○","×","×","○","○","×","○","○","○","×","×","×",{"$f":"HLOOKUP($C18,DB!$1:$1048576,9,0)","v":"-"},"VE",2,{"$f":"VLOOKUP(AM18,条件!D:E,2,0)","v":1},"2016","0010",1,"2",{"$f":"VLOOKUP(LEFT(E18,2),条件!A:B,2,0)","v":"08"},212016001010208,4]
[{"$f":"IF(検索!$U$1=\"条件検索\", IF(X19=\"○\", COUNTIFS(X:X,\"○\",AV:AV,\"<\"&AV19)+1, \"-\"), IF(検索!$U$1=\"技術名検索\", IF(検索!$B$36=仕様の整理!E19, 仕様の整理!AV19, \"-\"), \"-\"))","v":"-"},16,"13-3"," 吸水性泥土改質材 「ワトル」","TH-160010-VE","有用な新技術","○","令和7年11月","材料系","-","第4種建設発生土","第4種建設発生土（コーン指数qc=200kN/m2程度、含水比60％程度）（第3種改良土（コーン指数400kN/m2以上）への改良）","-",{"$f":"HLOOKUP(C19,DB!$1:$1048576,29,0)","v":"石灰系固化材（生石灰）による第4種建設発生土の地盤改良"},{"$f":"HLOOKUP(C19,DB!$1:$1048576,48,0)","v":"有"},{"$f":"LEFT(HLOOKUP($C19,DB!$1:$1048576,58,0),1)","v":"-"},{"$f":"LEFT(HLOOKUP($C19,DB!$1:$1048576,59,0),1)","v":"△"},{"$f":"LEFT(HLOOKUP($C19,DB!$1:$1048576,60,0),1)","v":"-"},{"$f":"LEFT(HLOOKUP($C19,DB!$1:$1048576,61,0),1)","v":"△"},{"$f":"LEFT(HLOOKUP($C19,DB!$1:$1048576,62,0),1)","v":"△"},{"$f":"LEFT(HLOOKUP($C19,DB!$1:$1048576,63,0),1)","v":"△"},{"$f":"HLOOKUP(C19,DB!$1:$1048576,78,0)","v":"150kg/m3（養生1日、室内配合）"},"種類:材料系\n改良対象土：第4種建設発生土（コーン指数qc=200kN/m2程度、含水比60％程度）（第3種改良土（コーン指数400kN/m2以上）への改良）","×","×","○","×","○","○","○","×","○","○","○","×","×","×",{"$f":"HLOOKUP($C19,DB!$1:$1048576,9,0)","v":"-"},"VE",2,{"$f":"VLOOKUP(AM19,条件!D:E,2,0)","v":1},"2016","0010",1,"3",{"$f":"VLOOKUP(LEFT(E19,2),条件!A:B,2,0)","v":"08"},212016001010308,5]
[{"$f":"IF(検索!$U$1=\"条件検索\", IF(X20=\"○\", COUNTIFS(X:X,\"○\",AV:AV,\"<\"&AV20)+1, \"-\"), IF(検索!$U$1=\"技術名検索\", IF(検索!$B$36=仕様の整理!E20, 仕様の整理!AV20, \"-\"), \"-\"))","v":"-"},17,"13-4"," 吸水性泥土改質材 「ワトル」","TH-160010-VE","有用な新技術","○","令和7年11月","材料系","-","泥土","泥土（コーン指数qc=100kN/m2程度、含水比100％程度）（第3種改良土（コーン指数400kN/m2以上）への改良）","-",{"$f":"HLOOKUP(C20,DB!$1:$1048576,29,0)","v":"石灰系固化材（生石灰）による泥土の地盤改良"},{"$f":"HLOOKUP(C20,DB!$1:$1048576,48,0)","v":"有"},{"$f":"LEFT(HLOOKUP($C20,DB!$1:$1048576,58,0),1)","v":"-"},{"$f":"LEFT(HLOOKUP($C20,DB!$1:$1048576,59,0),1)","v":"△"},{"$f":"LEFT(HLOOKUP($C20,DB!$1:$1048576,60,0),1)","v":"-"},{"$f":"LEFT(HLOOKUP($C20,DB!$1:$1048576,61,0),1)","v":"△"},{"$f":"LEFT(HLOOKUP($C20,DB!$1:$1048576,62,0),1)","v":"△"},{"$f":"LEFT(HLOOKUP($C20,DB!$1:$1048576,63,0),1)","v":"△"},{"$f":"HLOOKUP(C20,DB!$1:$1048576,78,0)","v":"200kg/m3（養生3日、室内配合）"},"種類:材料系\n改良対象土：泥土（コーン指数qc=100kN/m2程度、含水比100％程度）（第3種改良土（コーン指数400kN/m2以上）への改良）","×","×","○","×","×","○","○","×","○","○","○","×","×","×",{"$f":"HLOOKUP($C20,DB!$1:$1048576,9,0)","v":"-"},"VE",2,{"$f":"VLOOKUP(AM20,条件!D:E,2,0)","v":1},"2016","0010",1,"4",{"$f":"VLOOKUP(LEFT(E20,2),条件!A:B,2,0)","v":"08"},212016001010408,6]
[{"$f":"IF(検索!$U$1=\"条件検索\", IF(X21=\"○\", COUNTIFS(X:X,\"○\",AV:AV,\"<\"&AV21)+1, \"-\"), IF(検索!$U$1=\"技術名検索\", IF(検索!$B$36=仕様の整理!E21, 仕様の整理!AV21, \"-\"), \"-\"))","v":"-"},18,"16-1","カルシア改質土","CBK-150001-VR","事後評価済技術","○","令和7年10月","材料系","-","泥土","泥土（コーン指数qc=100kN/m2程度、含水比100％程度）（第3種改良土（コーン指数400kN/m2以上）への改良）","-",{"$f":"HLOOKUP(C21,DB!$1:$1048576,29,0)","v":"セメント系固化材（一般軟弱土用）による泥土の地盤改良"},{"$f":"HLOOKUP(C21,DB!$1:$1048576,48,0)","v":"有"},{"$f":"LEFT(HLOOKUP($C21,DB!$1:$1048576,58,0),1)","v":"-"},{"$f":"LEFT(HLOOKUP($C21,DB!$1:$1048576,59,0),1)","v":"○"},{"$f":"LEFT(HLOOKUP($C21,DB!$1:$1048576,60,0),1)","v":"-"},{"$f":"LEFT(HLOOKUP($C21,DB!$1:$1048576,61,0),1)","v":"△"},{"$f":"LEFT(HLOOKUP($C21,DB!$1:$1048576,62,0),1)","v":"○"},{"$f":"LEFT(HLOOKUP($C21,DB!$1:$1048576,63,0),1)","v":"△"},{"$f":"HLOOKUP(C21,DB!$1:$1048576,78,0)","v":"900kg/m3（混合率30容積％、一軸圧縮強度50～300kN/m2程度）"},"種類:材料系\n改良対象土：泥土（コーン指数qc=100kN/m2程度、含水比100％程度）（第3種改良土（コーン指数400kN/m2以上）への改良）","×","×","○","×","×","○","○","×","○","○","○","×","×","×",{"$f":"HLOOKUP($C21,DB!$1:$1048576,9,0)","v":"-"},"VR",2,{"$f":"VLOOKUP(AM21,条件!D:E,2,0)","v":1},"2015","0001",1,"1",{"$f":"VLOOKUP(LEFT(E21,2),条件!A:B,2,0)","v":"05"},212015000110105,1]
[{"$f":"IF(検索!$U$1=\"条件検索\", IF(X22=\"○\", COUNTIFS(X:X,\"○\",AV:AV,\"<\"&AV22)+1, \"-\"), IF(検索!$U$1=\"技術名検索\", IF(検索!$B$36=仕様の整理!E22, 仕様の整理!AV22, \"-\"), \"-\"))","v":"-"},19,"16-2","カルシア改質土","CBK-150001-VR","事後評価済技術","○","令和7年10月","材料系","-","泥土","泥土（コーン指数qc=100kN/m2程度、含水比100％程度）（第3種改良土（コーン指数400kN/m2以上）への改良）","-",{"$f":"HLOOKUP(C22,DB!$1:$1048576,29,0)","v":"石灰系固化材（生石灰）による泥土の地盤改良"},{"$f":"HLOOKUP(C22,DB!$1:$1048576,48,0)","v":"有"},{"$f":"LEFT(HLOOKUP($C22,DB!$1:$1048576,58,0),1)","v":"-"},{"$f":"LEFT(HLOOKUP($C22,DB!$1:$1048576,59,0),1)","v":"○"},{"$f":"LEFT(HLOOKUP($C22,DB!$1:$1048576,60,0),1)","v":"-"},{"$f":"LEFT(HLOOKUP($C22,DB!$1:$1048576,61,0),1)","v":"△"},{"$f":"LEFT(HLOOKUP($C22,DB!$1:$1048576,62,0),1)","v":"△"},{"$f":"LEFT(HLOOKUP($C22,DB!$1:$1048576,63,0),1)","v":"△"},{"$f":"HLOOKUP(C22,DB!$1:$1048576,78,0)","v":"900kg/m3（混合率30容積％、一軸圧縮強度50～300kN/m2程度）"},"種類:材料系\n改良対象土：泥土（コーン指数qc=100kN/m2程度、含水比100％程度）（第3種改良土（コーン指数400kN/m2以上）への改良）","×","×","○","×","×","○","○","×","○","○","○","×","×","×",{"$f":"HLOOKUP($C22,DB!$1:$1048576,9,0)","v":"-"},"VR",2,{"$f":"VLOOKUP(AM22,条件!D:E,2,0)","v":1},"2015","0001",1,"2",{"$f":"VLOOKUP(LEFT(E22,2),条件!A:B,2,0)","v":"05"},212015000110205,2]
[{"$f":"IF(検索!$U$1=\"条件検索\", IF(X23=\"○\", COUNTIFS(X:X,\"○\",AV:AV,\"<\"&AV23)+1, \"-\"), IF(検索!$U$1=\"技術名検索\", IF(検索!$B$36=仕様の整理!E23, 仕様の整理!AV23, \"-\"), \"-\"))","v":"-"},20,"17-1","SEリバース(セメント不含有品、一般・汚泥・防塵シリーズ)","KK-010008-VG","NETIS掲載期間終了技術","○","令和7年10月","材料系","-","第4種建設発生土","第4種建設発生土（コーン指数qc=200kN/m2程度、含水比60％程度）（第3種改良土（コーン指数400kN/m2以上）への改良）","-",{"$f":"HLOOKUP(C23,DB!$1:$1048576,29,0)","v":"セメント系固化材（一般軟弱土用）による第4種建設発生土の地盤改良"},{"$f":"HLOOKUP(C23,DB!$1:$1048576,48,0)","v":"無"},{"$f":"LEFT(HLOOKUP($C23,DB!$1:$1048576,58,0),1)","v":"-"},{"$f":"LEFT(HLOOKUP($C23,DB!$1:$1048576,59,0),1)","v":"○"},{"$f":"LEFT(HLOOKUP($C23,DB!$1:$1048576,60,0),1)","v":"-"},{"$f":"LEFT(HLOOKUP($C23,DB!$1:$1048576,61,0),1)","v":"○"},{"$f":"LEFT(HLOOKUP($C23,DB!$1:$1048576,62,0),1)","v":"○"},{"$f":"LEFT(HLOOKUP($C23,DB!$1:$1048576,63,0),1)","v":"△"},{"$f":"HLOOKUP(C23,DB!$1:$1048576,78,0)","v":"30kg/m3（室内配合、発塵抑制型(LX)）"},"種類:材料系\n改良対象土：第4種建設発生土（コーン指数qc=200kN/m2程度、含水比60％程度）（第3種改良土（コーン指数400kN/m2以上）への改良）","×","×","○","×","○","○","○","×","○","○","○","×","×","×",{"$f":"HLOOKUP($C23,DB!$1:$1048576,9,0)","v":"-"},"VG",2,{"$f":"VLOOKUP(AM23,条件!D:E,2,0)","v":2},"2001","0008",1,"1",{"$f":"VLOOKUP(LEFT(E23,2),条件!A:B,2,0)","v":"04"},222001000810104,74]
[{"$f":"IF(検索!$U$1=\"条件検索\", IF(X24=\"○\", COUNTIFS(X:X,\"○\",AV:AV,\"<\"&AV24)+1, \"-\"), IF(検索!$U$1=\"技術名検索\", IF(検索!$B$36=仕様の整理!E24, 仕様の整理!AV24, \"-\"), \"-\"))","v":"-"},21,"17-2","SEリバース(セメント不含有品、一般・汚泥・防塵シリーズ)","KK-010008-VG","NETIS掲載期間終了技術","○","令和7年10月","材料系","-","泥土","泥土（コーン指数qc=100kN/m2程度、含水比100％程度）（第3種改良土（コーン指数400kN/m2以上）への改良）","-",{"$f":"HLOOKUP(C24,DB!$1:$1048576,29,0)","v":"セメント系固化材（一般軟弱土用）による泥土の地盤改良"},{"$f":"HLOOKUP(C24,DB!$1:$1048576,48,0)","v":"無"},{"$f":"LEFT(HLOOKUP($C24,DB!$1:$1048576,58,0),1)","v":"-"},{"$f":"LEFT(HLOOKUP($C24,DB!$1:$1048576,59,0),1)","v":"○"},{"$f":"LEFT(HLOOKUP($C24,DB!$1:$1048576,60,0),1)","v":"-"},{"$f":"LEFT(HLOOKUP($C24,DB!$1:$1048576,61,0),1)","v":"○"},{"$f":"LEFT(HLOOKUP($C24,DB!$1:$1048576,62,0),1)","v":"○"},{"$f":"LEFT(HLOOKUP($C24,DB!$1:$1048576,63,0),1)","v":"△"},{"$f":"HLOOKUP(C24,DB!$1:$1048576,78,0)","v":"30kg/m3（室内配合、発塵抑制型(LX)）"},"種類:材料系\n改良対象土：泥土（コーン指数qc=100kN/m2程度、含水比100％程度）（第3種改良土（コーン指数400kN/m2以上）への改良）","×","×","○","×","×","○","○","×","○","○","○","×","×","×",{"$f":"HLOOKUP($C24,DB!$1:$1048576,9,0)","v":"-"},"VG",2,{"$f":"VLOOKUP(AM24,条件!D:E,2,0)","v":2},"2001","0008",1,"2",{"$f":"VLOOKUP(LEFT(E24,2),条件!A:B,2,0)","v":"04"},222001000810204,75]
[{"$f":"IF(検索!$U$1=\"条件検索\", IF(X25=\"○\", COUNTIFS(X:X,\"○\",AV:AV,\"<\"&AV25)+1, \"-\"), IF(検索!$U$1=\"技術名検索\", IF(検索!$B$36=仕様の整理!E25, 仕様の整理!AV25, \"-\"), \"-\"))","v":"-"},22,"17-3","SEリバース(セメント不含有品、一般・汚泥・防塵シリーズ)","KK-010008-VG","NETIS掲載期間終了技術","○","令和7年10月","材料系","-","第4種建設発生土","第4種建設発生土（コーン指数qc=200kN/m2程度、含水比60％程度）（第3種改良土（コーン指数400kN/m2以上）への改良）","-",{"$f":"HLOOKUP(C25,DB!$1:$1048576,29,0)","v":"石灰系固化材（生石灰）による第4種建設発生土の地盤改良"},{"$f":"HLOOKUP(C25,DB!$1:$1048576,48,0)","v":"無"},{"$f":"LEFT(HLOOKUP($C25,DB!$1:$1048576,58,0),1)","v":"-"},{"$f":"LEFT(HLOOKUP($C25,DB!$1:$1048576,59,0),1)","v":"○"},{"$f":"LEFT(HLOOKUP($C25,DB!$1:$1048576,60,0),1)","v":"-"},{"$f":"LEFT(HLOOKUP($C25,DB!$1:$1048576,61,0),1)","v":"△"},{"$f":"LEFT(HLOOKUP($C25,DB!$1:$1048576,62,0),1)","v":"△"},{"$f":"LEFT(HLOOKUP($C25,DB!$1:$1048576,63,0),1)","v":"△"},{"$f":"HLOOKUP(C25,DB!$1:$1048576,78,0)","v":"30kg/m3（養生日数10日、室内配合）"},"種類:材料系\n改良対象土：第4種建設発生土（コーン指数qc=200kN/m2程度、含水比60％程度）（第3種改良土（コーン指数400kN/m2以上）への改良）","×","×","○","×","○","○","○","×","○","○","○","×","×","×",{"$f":"HLOOKUP($C25,DB!$1:$1048576,9,0)","v":"-"},"VG",2,{"$f":"VLOOKUP(AM25,条件!D:E,2,0)","v":2},"2001","0008",1,"3",{"$f":"VLOOKUP(LEFT(E25,2),条件!A:B,2,0)","v":"04"},222001000810304,76]
[{"$f":"IF(検索!$U$1=\"条件検索\", IF(X26=\"○\", COUNTIFS(X:X,\"○\",AV:AV,\"<\"&AV26)+1, \"-\"), IF(検索!$U$1=\"技術名検索\", IF(検索!$B$36=仕様の整理!E26, 仕様の整理!AV26, \"-\"), \"-\"))","v":"-"},23,"17-4","SEリバース(セメント不含有品、一般・汚泥・防塵シリーズ)","KK-010008-VG","NETIS掲載期間終了技術","○","令和7年10月","材料系","-","泥土","泥土（コーン指数qc=100kN/m2程度、含水比100％程度）（第3種改良土（コーン指数400kN/m2以上）への改良）","-",{"$f":"HLOOKUP(C26,DB!$1:$1048576,29,0)","v":"石灰系固化材（生石灰）による泥土の地盤改良"},{"$f":"HLOOKUP(C26,DB!$1:$1048576,48,0)","v":"無"},{"$f":"LEFT(HLOOKUP($C26,DB!$1:$1048576,58,0),1)","v":"-"},{"$f":"LEFT(HLOOKUP($C26,DB!$1:$1048576,59,0),1)","v":"○"},{"$f":"LEFT(HLOOKUP($C26,DB!$1:$1048576,60,0),1)","v":"-"},{"$f":"LEFT(HLOOKUP($C26,DB!$1:$1048576,61,0),1)","v":"△"},{"$f":"LEFT(HLOOKUP($C26,DB!$1:$1048576,62,0),1)","v":"△"},{"$f":"LEFT(HLOOKUP($C26,DB!$1:$1048576,63,0),1)","v":"△"},{"$f":"HLOOKUP(C26,DB!$1:$1048576,78,0)","v":"30kg/m3（養生日数10日、室内配合）"},"種類:材料系\n改良対象土：泥土（コーン指数qc=100kN/m2程度、含水比100％程度）（第3種改良土（コーン指数400kN/m2以上）への改良）","×","×","○","×","×","○","○","×","○","○","○","×","×","×",{"$f":"HLOOKUP($C26,DB!$1:$1048576,9,0)","v":"-"},"VG",2,{"$f":"VLOOKUP(AM26,条件!D:E,2,0)","v":2},"2001","0008",1,"4",{"$f":"VLOOKUP(LEFT(E26,2),条件!A:B,2,0)","v":"04"},222001000810404,77]
[{"$f":"IF(検索!$U$1=\"条件検索\", IF(X27=\"○\", COUNTIFS(X:X,\"○\",AV:AV,\"<\"&AV27)+1, \"-\"), IF(検索!$U$1=\"技術名検索\", IF(検索!$B$36=仕様の整理!E27, 仕様の整理!AV27, \"-\"), \"-\"))","v":"-"},24,"18-1","レストム工法","TH-100029-VG","NETIS掲載期間終了技術","○","令和7年10月","材料系","-","第4種建設発生土","第4種建設発生土（コーン指数qc=200kN/m2程度、含水比60％程度）（第3種改良土（コーン指数400kN/m2以上）への改良）","-",{"$f":"HLOOKUP(C27,DB!$1:$1048576,29,0)","v":"セメント系固化材（一般軟弱土用）による第4種建設発生土の地盤改良"},{"$f":"HLOOKUP(C27,DB!$1:$1048576,48,0)","v":"未回答"},{"$f":"LEFT(HLOOKUP($C27,DB!$1:$1048576,58,0),1)","v":"-"},{"$f":"LEFT(HLOOKUP($C27,DB!$1:$1048576,59,0),1)","v":"△"},{"$f":"LEFT(HLOOKUP($C27,DB!$1:$1048576,60,0),1)","v":"-"},{"$f":"LEFT(HLOOKUP($C27,DB!$1:$1048576,61,0),1)","v":"△"},{"$f":"LEFT(HLOOKUP($C27,DB!$1:$1048576,62,0),1)","v":"○"},{"$f":"LEFT(HLOOKUP($C27,DB!$1:$1048576,63,0),1)","v":"△"},{"$f":"HLOOKUP(C27,DB!$1:$1048576,78,0)","v":"未回答"},"種類:材料系\n改良対象土：第4種建設発生土（コーン指数qc=200kN/m2程度、含水比60％程度）（第3種改良土（コーン指数400kN/m2以上）への改良）","×","×","○","×","○","○","○","×","○","○","○","×","×","×",{"$f":"HLOOKUP($C27,DB!$1:$1048576,9,0)","v":"-"},"VG",2,{"$f":"VLOOKUP(AM27,条件!D:E,2,0)","v":2},"2010","0029",1,"1",{"$f":"VLOOKUP(LEFT(E27,2),条件!A:B,2,0)","v":"08"},222010002910108,90]
[{"$f":"IF(検索!$U$1=\"条件検索\", IF(X28=\"○\", COUNTIFS(X:X,\"○\",AV:AV,\"<\"&AV28)+1, \"-\"), IF(検索!$U$1=\"技術名検索\", IF(検索!$B$36=仕様の整理!E28, 仕様の整理!AV28, \"-\"), \"-\"))","v":"-"},25,"18-2","レストム工法","TH-100029-VG","NETIS掲載期間終了技術","○","令和7年10月","材料系","-","泥土","泥土（コーン指数qc=100kN/m2程度、含水比100％程度）（第3種改良土（コーン指数400kN/m2以上）への改良）","-",{"$f":"HLOOKUP(C28,DB!$1:$1048576,29,0)","v":"セメント系固化材（一般軟弱土用）による泥土の地盤改良"},{"$f":"HLOOKUP(C28,DB!$1:$1048576,48,0)","v":"未回答"},{"$f":"LEFT(HLOOKUP($C28,DB!$1:$1048576,58,0),1)","v":"-"},{"$f":"LEFT(HLOOKUP($C28,DB!$1:$1048576,59,0),1)","v":"△"},{"$f":"LEFT(HLOOKUP($C28,DB!$1:$1048576,60,0),1)","v":"-"},{"$f":"LEFT(HLOOKUP($C28,DB!$1:$1048576,61,0),1)","v":"△"},{"$f":"LEFT(HLOOKUP($C28,DB!$1:$1048576,62,0),1)","v":"○"},{"$f":"LEFT(HLOOKUP($C28,DB!$1:$1048576,63,0),1)","v":"△"},{"$f":"HLOOKUP(C28,DB!$1:$1048576,78,0)","v":"未回答"},"種類:材料系\n改良対象土：泥土（コーン指数qc=100kN/m2程度、含水比100％程度）（第3種改良土（コーン指数400kN/m2以上）への改良）","×","×","○","×","×","○","○","×","○","○","○","×","×","×",{"$f":"HLOOKUP($C28,DB!$1:$1048576,9,0)","v":"-"},"VG",2,{"$f":"VLOOKUP(AM28,条件!D:E,2,0)","v":2},"2010","0029",1,"2",{"$f":"VLOOKUP(LEFT(E28,2),条件!A:B,2,0)","v":"08"},222010002910208,91]
[{"$f":"IF(検索!$U$1=\"条件検索\", IF(X29=\"○\", COUNTIFS(X:X,\"○\",AV:AV,\"<\"&AV29)+1, \"-\"), IF(検索!$U$1=\"技術名検索\", IF(検索!$B$36=仕様の整理!E29, 仕様の整理!AV29, \"-\"), \"-\"))","v":"-"},26,"18-3","レストム工法","TH-100029-VG","NETIS掲載期間終了技術","○","令和7年10月","材料系","-","第4種建設発生土","第4種建設発生土（コーン指数qc=200kN/m2程度、含水比60％程度）（第3種改良土（コーン指数400kN/m2以上）への改良）","-",{"$f":"HLOOKUP(C29,DB!$1:$1048576,29,0)","v":"石灰系固化材（生石灰）による第4種建設発生土の地盤改良"},{"$f":"HLOOKUP(C29,DB!$1:$1048576,48,0)","v":"未回答"},{"$f":"LEFT(HLOOKUP($C29,DB!$1:$1048576,58,0),1)","v":"-"},{"$f":"LEFT(HLOOKUP($C29,DB!$1:$1048576,59,0),1)","v":"△"},{"$f":"LEFT(HLOOKUP($C29,DB!$1:$1048576,60,0),1)","v":"-"},{"$f":"LEFT(HLOOKUP($C29,DB!$1:$1048576,61,0),1)","v":"△"},{"$f":"LEFT(HLOOKUP($C29,DB!$1:$1048576,62,0),1)","v":"△"},{"$f":"LEFT(HLOOKUP($C29,DB!$1:$1048576,63,0),1)","v":"△"},{"$f":"HLOOKUP(C29,DB!$1:$1048576,78,0)","v":"未回答"},"種類:材料系\n改良対象土：第4種建設発生土（コーン指数qc=200kN/m2程度、含水比60％程度）（第3種改良土（コーン指数400kN/m2以上）への改良）","×","×","○","×","○","○","○","×","○","○","○","×","×","×",{"$f":"HLOOKUP($C29,DB!$1:$1048576,9,0)","v":"-"},"VG",2,{"$f":"VLOOKUP(AM29,条件!D:E,2,0)","v":2},"2010","0029",1,"3",{"$f":"VLOOKUP(LEFT(E29,2),条件!A:B,2,0)","v":"08"},222010002910308,92]
[{"$f":"IF(検索!$U$1=\"条件検索\", IF(X30=\"○\", COUNTIFS(X:X,\"○\",AV:AV,\"<\"&AV30)+1, \"-\"), IF(検索!$U$1=\"技術名検索\", IF(検索!$B$36=仕様の整理!E30, 仕様の整理!AV30, \"-\"), \"-\"))","v":"-"},27,"18-4","レストム工法","TH-100029-VG","NETIS掲載期間終了技術","○","令和7年10月","材料系","-","泥土","泥土（コーン指数qc=100kN/m2程度、含水比100％程度）（第3種改良土（コーン指数400kN/m2以上）への改良）","-",{"$f":"HLOOKUP(C30,DB!$1:$1048576,29,0)","v":"石灰系固化材（生石灰）による泥土の地盤改良"},{"$f":"HLOOKUP(C30,DB!$1:$1048576,48,0)","v":"未回答"},{"$f":"LEFT(HLOOKUP($C30,DB!$1:$1048576,58,0),1)","v":"-"},{"$f":"LEFT(HLOOKUP($C30,DB!$1:$1048576,59,0),1)","v":"△"},{"$f":"LEFT(HLOOKUP($C30,DB!$1:$1048576,60,0),1)","v":"-"},{"$f":"LEFT(HLOOKUP($C30,DB!$1:$1048576,61,0),1)","v":"△"},{"$f":"LEFT(HLOOKUP($C30,DB!$1:$1048576,62,0),1)","v":"△"},{"$f":"LEFT(HLOOKUP($C30,DB!$1:$1048576,63,0),1)","v":"△"},{"$f":"HLOOKUP(C30,DB!$1:$1048576,78,0)","v":"未回答"},"種類:材料系\n改良対象土：泥土（コーン指数qc=100kN/m2程度、含水比100％程度）（第3種改良土（コーン指数400kN/m2以上）への改良）","×","×","○","×","×","○","○","×","○","○","○","×","×","×",{"$f":"HLOOKUP($C30,DB!$1:$1048576,9,0)","v":"-"},"VG",2,{"$f":"VLOOKUP(AM30,条件!D:E,2,0)","v":2},"2010","0029",1,"4",{"$f":"VLOOKUP(LEFT(E30,2),条件!A:B,2,0)","v":"08"},222010002910408,93]
[{"$f":"IF(検索!$U$1=\"条件検索\", IF(X31=\"○\", COUNTIFS(X:X,\"○\",AV:AV,\"<\"&AV31)+1, \"-\"), IF(検索!$U$1=\"技術名検索\", IF(検索!$B$36=仕様の整理!E31, 仕様の整理!AV31, \"-\"), \"-\"))","v":"-"},28,"19-1","ボンテラン工法","TH-020042-VG","NETIS掲載期間終了技術","○","令和7年10月","材料系","-","第4種建設発生土","第4種建設発生土（コーン指数qc=200kN/m2程度、含水比60％程度）（第3種改良土（コーン指数400kN/m2以上）への改良）","-",{"$f":"HLOOKUP(C31,DB!$1:$1048576,29,0)","v":"セメント系固化材（一般軟弱土用）による第4種建設発生土の地盤改良"},{"$f":"HLOOKUP(C31,DB!$1:$1048576,48,0)","v":"無"},{"$f":"LEFT(HLOOKUP($C31,DB!$1:$1048576,58,0),1)","v":"-"},{"$f":"LEFT(HLOOKUP($C31,DB!$1:$1048576,59,0),1)","v":"△"},{"$f":"LEFT(HLOOKUP($C31,DB!$1:$1048576,60,0),1)","v":"-"},{"$f":"LEFT(HLOOKUP($C31,DB!$1:$1048576,61,0),1)","v":"○"},{"$f":"LEFT(HLOOKUP($C31,DB!$1:$1048576,62,0),1)","v":"△"},{"$f":"LEFT(HLOOKUP($C31,DB!$1:$1048576,63,0),1)","v":"△"},{"$f":"HLOOKUP(C31,DB!$1:$1048576,78,0)","v":"固化材50kg/m3、ボンファイバー25ｋg/m3（養生7日、室内配合）"},"種類:材料系\n改良対象土：第4種建設発生土（コーン指数qc=200kN/m2程度、含水比60％程度）（第3種改良土（コーン指数400kN/m2以上）への改良）","×","×","○","×","○","○","○","×","○","○","○","×","×","×",{"$f":"HLOOKUP($C31,DB!$1:$1048576,9,0)","v":"-"},"VG",2,{"$f":"VLOOKUP(AM31,条件!D:E,2,0)","v":2},"2002","0042",1,"1",{"$f":"VLOOKUP(LEFT(E31,2),条件!A:B,2,0)","v":"08"},222002004210108,82]
[{"$f":"IF(検索!$U$1=\"条件検索\", IF(X32=\"○\", COUNTIFS(X:X,\"○\",AV:AV,\"<\"&AV32)+1, \"-\"), IF(検索!$U$1=\"技術名検索\", IF(検索!$B$36=仕様の整理!E32, 仕様の整理!AV32, \"-\"), \"-\"))","v":"-"},29,"19-2","ボンテラン工法","TH-020042-VG","NETIS掲載期間終了技術","○","令和7年10月","材料系","-","泥土","泥土（コーン指数qc=100kN/m2程度、含水比60％程度）（第3種改良土（コーン指数400kN/m2以上）への改良）","-",{"$f":"HLOOKUP(C32,DB!$1:$1048576,29,0)","v":"セメント系固化材（一般軟弱土用）による泥土の地盤改良"},{"$f":"HLOOKUP(C32,DB!$1:$1048576,48,0)","v":"無"},{"$f":"LEFT(HLOOKUP($C32,DB!$1:$1048576,58,0),1)","v":"-"},{"$f":"LEFT(HLOOKUP($C32,DB!$1:$1048576,59,0),1)","v":"△"},{"$f":"LEFT(HLOOKUP($C32,DB!$1:$1048576,60,0),1)","v":"-"},{"$f":"LEFT(HLOOKUP($C32,DB!$1:$1048576,61,0),1)","v":"○"},{"$f":"LEFT(HLOOKUP($C32,DB!$1:$1048576,62,0),1)","v":"△"},{"$f":"LEFT(HLOOKUP($C32,DB!$1:$1048576,63,0),1)","v":"△"},{"$f":"HLOOKUP(C32,DB!$1:$1048576,78,0)","v":"固化材50kg/m3、ボンファイバー25ｋg/m3（養生7日、室内配合）"},"種類:材料系\n改良対象土：泥土（コーン指数qc=100kN/m2程度、含水比60％程度）（第3種改良土（コーン指数400kN/m2以上）への改良）","×","×","○","×","×","○","○","×","○","○","○","×","×","×",{"$f":"HLOOKUP($C32,DB!$1:$1048576,9,0)","v":"-"},"VG",2,{"$f":"VLOOKUP(AM32,条件!D:E,2,0)","v":2},"2002","0042",1,"2",{"$f":"VLOOKUP(LEFT(E32,2),条件!A:B,2,0)","v":"08"},222002004210208,83]
[{"$f":"IF(検索!$U$1=\"条件検索\", IF(X33=\"○\", COUNTIFS(X:X,\"○\",AV:AV,\"<\"&AV33)+1, \"-\"), IF(検索!$U$1=\"技術名検索\", IF(検索!$B$36=仕様の整理!E33, 仕様の整理!AV33, \"-\"), \"-\"))","v":"-"},30,"19-3","ボンテラン工法","TH-020042-VG","NETIS掲載期間終了技術","○","令和7年10月","材料系","-","第4種建設発生土","第4種建設発生土（コーン指数qc=200kN/m2程度、含水比60％程度）（第3種改良土（コーン指数400kN/m2以上）への改良）","-",{"$f":"HLOOKUP(C33,DB!$1:$1048576,29,0)","v":"石灰系固化材（生石灰）による第4種建設発生土の地盤改良"},{"$f":"HLOOKUP(C33,DB!$1:$1048576,48,0)","v":"有"},{"$f":"LEFT(HLOOKUP($C33,DB!$1:$1048576,58,0),1)","v":"-"},{"$f":"LEFT(HLOOKUP($C33,DB!$1:$1048576,59,0),1)","v":"△"},{"$f":"LEFT(HLOOKUP($C33,DB!$1:$1048576,60,0),1)","v":"-"},{"$f":"LEFT(HLOOKUP($C33,DB!$1:$1048576,61,0),1)","v":"○"},{"$f":"LEFT(HLOOKUP($C33,DB!$1:$1048576,62,0),1)","v":"△"},{"$f":"LEFT(HLOOKUP($C33,DB!$1:$1048576,63,0),1)","v":"△"},{"$f":"HLOOKUP(C33,DB!$1:$1048576,78,0)","v":"固化材50kg/m3、ボンファイバー25ｋg/m3（養生7日、室内配合）"},"種類:材料系\n改良対象土：第4種建設発生土（コーン指数qc=200kN/m2程度、含水比60％程度）（第3種改良土（コーン指数400kN/m2以上）への改良）","×","×","○","×","○","○","○","×","○","○","○","×","×","×",{"$f":"HLOOKUP($C33,DB!$1:$1048576,9,0)","v":"-"},"VG",2,{"$f":"VLOOKUP(AM33,条件!D:E,2,0)","v":2},"2002","0042",1,"3",{"$f":"VLOOKUP(LEFT(E33,2),条件!A:B,2,0)","v":"08"},222002004210308,84]
[{"$f":"IF(検索!$U$1=\"条件検索\", IF(X34=\"○\", COUNTIFS(X:X,\"○\",AV:AV,\"<\"&AV34)+1, \"-\"), IF(検索!$U$1=\"技術名検索\", IF(検索!$B$36=仕様の整理!E34, 仕様の整理!AV34, \"-\"), \"-\"))","v":"-"},31,"19-4","ボンテラン工法","TH-020042-VG","NETIS掲載期間終了技術","○","令和7年10月","材料系","-","泥土","泥土（コーン指数qc=100kN/m2程度、含水比60％程度）（第3種改良土（コーン指数400kN/m2以上）への改良）","-",{"$f":"HLOOKUP(C34,DB!$1:$1048576,29,0)","v":"石灰系固化材（生石灰）による泥土の地盤改良"},{"$f":"HLOOKUP(C34,DB!$1:$1048576,48,0)","v":"有"},{"$f":"LEFT(HLOOKUP($C34,DB!$1:$1048576,58,0),1)","v":"-"},{"$f":"LEFT(HLOOKUP($C34,DB!$1:$1048576,59,0),1)","v":"△"},{"$f":"LEFT(HLOOKUP($C34,DB!$1:$1048576,60,0),1)","v":"-"},{"$f":"LEFT(HLOOKUP($C34,DB!$1:$1048576,61,0),1)","v":"○"},{"$f":"LEFT(HLOOKUP($C34,DB!$1:$1048576,62,0),1)","v":"△"},{"$f":"LEFT(HLOOKUP($C34,DB!$1:$1048576,63,0),1)","v":"△"},{"$f":"HLOOKUP(C34,DB!$1:$1048576,78,0)","v":"固化材50kg/m3、ボンファイバー25ｋg/m3（養生7日、室内配合）"},"種類:材料系\n改良対象土：泥土（コーン指数qc=100kN/m2程度、含水比60％程度）（第3種改良土（コーン指数400kN/m2以上）への改良）","×","×","○","×","×","○","○","×","○","○","○","×","×","×",{"$f":"HLOOKUP($C34,DB!$1:$1048576,9,0)","v":"-"},"VG",2,{"$f":"VLOOKUP(AM34,条件!D:E,2,0)","v":2},"2002","0042",1,"4",{"$f":"VLOOKUP(LEFT(E34,2),条件!A:B,2,0)","v":"08"},222002004210408,85]
[{"$f":"IF(検索!$U$1=\"条件検索\", IF(X35=\"○\", COUNTIFS(X:X,\"○\",AV:AV,\"<\"&AV35)+1, \"-\"), IF(検索!$U$1=\"技術名検索\", IF(検索!$B$36=仕様の整理!E35, 仕様の整理!AV35, \"-\"), \"-\"))","v":"-"},32,"20-1","FTマッドキラー工法","CB-010011-VG","NETIS掲載期間終了技術","○","令和7年10月","材料系","-","第4種建設発生土","第4種建設発生土（コーン指数qc=200kN/m2程度、含水比60％程度）（第3種改良土（コーン指数400kN/m2以上）への改良）","-",{"$f":"HLOOKUP(C35,DB!$1:$1048576,29,0)","v":"セメント系固化材（一般軟弱土用）による第4種建設発生土の地盤改良"},{"$f":"HLOOKUP(C35,DB!$1:$1048576,48,0)","v":"無"},{"$f":"LEFT(HLOOKUP($C35,DB!$1:$1048576,58,0),1)","v":"-"},{"$f":"LEFT(HLOOKUP($C35,DB!$1:$1048576,59,0),1)","v":"△"},{"$f":"LEFT(HLOOKUP($C35,DB!$1:$1048576,60,0),1)","v":"-"},{"$f":"LEFT(HLOOKUP($C35,DB!$1:$1048576,61,0),1)","v":"○"},{"$f":"LEFT(HLOOKUP($C35,DB!$1:$1048576,62,0),1)","v":"△"},{"$f":"LEFT(HLOOKUP($C35,DB!$1:$1048576,63,0),1)","v":"△"},{"$f":"HLOOKUP(C35,DB!$1:$1048576,78,0)","v":"60kg/m3（瞬時改良(0日)、室内配合）"},"種類:材料系\n改良対象土：第4種建設発生土（コーン指数qc=200kN/m2程度、含水比60％程度）（第3種改良土（コーン指数400kN/m2以上）への改良）","×","×","○","×","○","○","○","×","○","○","○","×","×","×",{"$f":"HLOOKUP($C35,DB!$1:$1048576,9,0)","v":"-"},"VG",2,{"$f":"VLOOKUP(AM35,条件!D:E,2,0)","v":2},"2001","0011",1,"1",{"$f":"VLOOKUP(LEFT(E35,2),条件!A:B,2,0)","v":"05"},222001001110105,78]
[{"$f":"IF(検索!$U$1=\"条件検索\", IF(X36=\"○\", COUNTIFS(X:X,\"○\",AV:AV,\"<\"&AV36)+1, \"-\"), IF(検索!$U$1=\"技術名検索\", IF(検索!$B$36=仕様の整理!E36, 仕様の整理!AV36, \"-\"), \"-\"))","v":"-"},33,"20-2","FTマッドキラー工法","CB-010011-VG","NETIS掲載期間終了技術","○","令和7年10月","材料系","-","泥土","泥土（コーン指数qc=100kN/m2程度、含水比100％程度）（第3種改良土（コーン指数400kN/m2以上）への改良）","-",{"$f":"HLOOKUP(C36,DB!$1:$1048576,29,0)","v":"セメント系固化材（一般軟弱土用）による泥土の地盤改良"},{"$f":"HLOOKUP(C36,DB!$1:$1048576,48,0)","v":"無"},{"$f":"LEFT(HLOOKUP($C36,DB!$1:$1048576,58,0),1)","v":"-"},{"$f":"LEFT(HLOOKUP($C36,DB!$1:$1048576,59,0),1)","v":"△"},{"$f":"LEFT(HLOOKUP($C36,DB!$1:$1048576,60,0),1)","v":"-"},{"$f":"LEFT(HLOOKUP($C36,DB!$1:$1048576,61,0),1)","v":"○"},{"$f":"LEFT(HLOOKUP($C36,DB!$1:$1048576,62,0),1)","v":"△"},{"$f":"LEFT(HLOOKUP($C36,DB!$1:$1048576,63,0),1)","v":"△"},{"$f":"HLOOKUP(C36,DB!$1:$1048576,78,0)","v":"150kg/m3（瞬時改良(0日)、室内配合）"},{"$f":"$I$3&\":\"&I36&CHAR(10)&IF(I36=\"材料系\",$L$3&\"：\"&L36,IF(I36=\"機械系\",$J$3&\"：\"&J36&CHAR(10)&$V$3&\"：\"&V36&CHAR(10)&$L$3&\"：\"&L36))","v":"種類:材料系\n改良対象土：泥土（コーン指数qc=100kN/m2程度、含水比100％程度）（第3種改良土（コーン指数400kN/m2以上）への改良）"},"×",{"$f":"IF(Y$3=I36,\"○\",\"×\")","v":"×"},"○","×","×","○",{"$f":"IF(AD$3=\"特に指定しない\",\"○\",IF(AD$3=O36,\"○\",\"×\"))","v":"○"},{"$f":"IF(OR(AND(I36=\"機械系\", COUNTIF(AF36:AK36,\"○\")=3), AND(I36=\"材料系\", COUNTIF(AF36:AK36,\"○\")=4)), \"○\", \"×\")","v":"×"},"○","○","○","×","×","×",{"$f":"HLOOKUP($C36,DB!$1:$1048576,9,0)","v":"-"},"VG",2,{"$f":"VLOOKUP(AM36,条件!D:E,2,0)","v":2},{"$f":"IFERROR(IF(VALUE(LEFT(MID(E36,FIND(\"-\",E36)+1,FIND(\"-\",E36,FIND(\"-\",E36)+1)-FIND(\"-\",E36)-1),2))>=90,\"19\"&LEFT(MID(E36,FIND(\"-\",E36)+1,FIND(\"-\",E36,FIND(\"-\",E36)+1)-FIND(\"-\",E36)-1),2),\"20\"&LEFT(MID(E36,FIND(\"-\",E36)+1,FIND(\"-\",E36,FIND(\"-\",E36)+1)-FIND(\"-\",E36)-1),2)),\"\")","v":"2001"},{"$f":"MID(E36, FIND(\"-\", E36) + 3, FIND(\"-\", E36, FIND(\"-\", E36) + 1) - FIND(\"-\", E36) - 3)","v":"0011"},{"$f":"IF(G36=\"\",2,1)","v":1},{"$f":"MID(C36,FIND(\"-\",C36)+1,LEN(C36))","v":"2"},{"$f":"VLOOKUP(LEFT(E36,2),条件!A:B,2,0)","v":"05"},222001001110205,{"$f":"_xlfn.RANK.EQ(AU36,AU:AU,1)","v":79}]
[{"$f":"IF(検索!$U$1=\"条件検索\", IF(X37=\"○\", COUNTIFS(X:X,\"○\",AV:AV,\"<\"&AV37)+1, \"-\"), IF(検索!$U$1=\"技術名検索\", IF(検索!$B$36=仕様の整理!E37, 仕様の整理!AV37, \"-\"), \"-\"))","v":"-"},34,"20-3","FTマッドキラー工法","CB-010011-VG","NETIS掲載期間終了技術","○","令和7年10月","材料系","-","第4種建設発生土","第4種建設発生土（コーン指数qc=200kN/m2程度、含水比60％程度）（第3種改良土（コーン指数400kN/m2以上）への改良）","-",{"$f":"HLOOKUP(C37,DB!$1:$1048576,29,0)","v":"石灰系固化材（生石灰）による第4種建設発生土の地盤改良"},"-",{"$f":"LEFT(HLOOKUP($C37,DB!$1:$1048576,58,0),1)","v":"-"},{"$f":"LEFT(HLOOKUP($C37,DB!$1:$1048576,59,0),1)","v":"△"},{"$f":"LEFT(HLOOKUP($C37,DB!$1:$1048576,60,0),1)","v":"-"},{"$f":"LEFT(HLOOKUP($C37,DB!$1:$1048576,61,0),1)","v":"△"},{"$f":"LEFT(HLOOKUP($C37,DB!$1:$1048576,62,0),1)","v":"△"},{"$f":"LEFT(HLOOKUP($C37,DB!$1:$1048576,63,0),1)","v":"△"},{"$f":"HLOOKUP(C37,DB!$1:$1048576,78,0)","v":"60kg/m3（瞬時改良(0日)、室内配合）"},"種類:材料系\n改良対象土：第4種建設発生土（コーン指数qc=200kN/m2程度、含水比60％程度）（第3種改良土（コーン指数400kN/m2以上）への改良）","×","×","○","×","○","○","○","×","○","○","○","×","×","×",{"$f":"HLOOKUP($C37,DB!$1:$1048576,9,0)","v":"-"},"VG",2,{"$f":"VLOOKUP(AM37,条件!D:E,2,0)","v":2},"2001","0011",1,"3",{"$f":"VLOOKUP(LEFT(E37,2),条件!A:B,2,0)","v":"05"},222001001110305,80]
[{"$f":"IF(検索!$U$1=\"条件検索\", IF(X38=\"○\", COUNTIFS(X:X,\"○\",AV:AV,\"<\"&AV38)+1, \"-\"), IF(検索!$U$1=\"技術名検索\", IF(検索!$B$36=仕様の整理!E38, 仕様の整理!AV38, \"-\"), \"-\"))","v":"-"},35,"20-4","FTマッドキラー工法","CB-010011-VG","NETIS掲載期間終了技術","○","令和7年10月","材料系","-","泥土","泥土（コーン指数qc=100kN/m2程度、含水比100％程度）（第3種改良土（コーン指数400kN/m2以上）への改良）","-",{"$f":"HLOOKUP(C38,DB!$1:$1048576,29,0)","v":"石灰系固化材（生石灰）による泥土の地盤改良"},"-",{"$f":"LEFT(HLOOKUP($C38,DB!$1:$1048576,58,0),1)","v":"-"},{"$f":"LEFT(HLOOKUP($C38,DB!$1:$1048576,59,0),1)","v":"△"},{"$f":"LEFT(HLOOKUP($C38,DB!$1:$1048576,60,0),1)","v":"-"},{"$f":"LEFT(HLOOKUP($C38,DB!$1:$1048576,61,0),1)","v":"△"},{"$f":"LEFT(HLOOKUP($C38,DB!$1:$1048576,62,0),1)","v":"△"},{"$f":"LEFT(HLOOKUP($C38,DB!$1:$1048576,63,0),1)","v":"△"},{"$f":"HLOOKUP(C38,DB!$1:$1048576,78,0)","v":"150kg/m3（瞬時改良(0日)、室内配合）"},"種類:材料系\n改良対象土：泥土（コーン指数qc=100kN/m2程度、含水比100％程度）（第3種改良土（コーン指数400kN/m2以上）への改良）","×","×","○","×","×","○","○","×","○","○","○","×","×","×",{"$f":"HLOOKUP($C38,DB!$1:$1048576,9,0)","v":"-"},"VG",2,{"$f":"VLOOKUP(AM38,条件!D:E,2,0)","v":2},"2001","0011",1,"4",{"$f":"VLOOKUP(LEFT(E38,2),条件!A:B,2,0)","v":"05"},222001001110405,81]
[{"$f":"IF(検索!$U$1=\"条件検索\", IF(X39=\"○\", COUNTIFS(X:X,\"○\",AV:AV,\"<\"&AV39)+1, \"-\"), IF(検索!$U$1=\"技術名検索\", IF(検索!$B$36=仕様の整理!E39, 仕様の整理!AV39, \"-\"), \"-\"))","v":"-"},36,"36-1","サラサクリーン","KT-180019-A","事後評価未実施技術","○","令和7年10月","材料系","-","第4種建設発生土","第4種建設発生土（コーン指数qc=200kN/m2程度、含水比60％程度）（第3種改良土（コーン指数400kN/m2以上）への改良）","-",{"$f":"HLOOKUP(C39,DB!$1:$1048576,29,0)","v":"セメント系固化材（一般軟弱土用）による第4種建設発生土の地盤改良"},{"$f":"HLOOKUP(C39,DB!$1:$1048576,48,0)","v":"有"},{"$f":"LEFT(HLOOKUP($C39,DB!$1:$1048576,58,0),1)","v":"-"},{"$f":"LEFT(HLOOKUP($C39,DB!$1:$1048576,59,0),1)","v":"△"},{"$f":"LEFT(HLOOKUP($C39,DB!$1:$1048576,60,0),1)","v":"-"},{"$f":"LEFT(HLOOKUP($C39,DB!$1:$1048576,61,0),1)","v":"○"},{"$f":"LEFT(HLOOKUP($C39,DB!$1:$1048576,62,0),1)","v":"○"},{"$f":"LEFT(HLOOKUP($C39,DB!$1:$1048576,63,0),1)","v":"○"},{"$f":"HLOOKUP(C39,DB!$1:$1048576,78,0)","v":"15kg/m3（養生不要、室内配合）"},"種類:材料系\n改良対象土：第4種建設発生土（コーン指数qc=200kN/m2程度、含水比60％程度）（第3種改良土（コーン指数400kN/m2以上）への改良）","×","×","○","×","○","○","○","×",{"$f":"IF($Y$3=\"材料系\",\"×\",IF(COUNTIF($AF$3:$AK$3,\"✓\")=0,\"○\",IF(AF$3<>\"✓\",\"○\",IF(AND(AF$3=\"✓\",OR(AND($AE$3=\"優れている\",P39=\"○\"),AND($AE$3=\"同等以上\",OR(P39=\"○\",P39=\"△\")))),\"○\",\"×\"))))","v":"○"},{"$f":"IF($Y$3=\"材料系\",\"×\",IF(COUNTIF($AF$3:$AK$3,\"✓\")=0,\"○\",IF(AG$3<>\"✓\",\"○\",IF(AND(AG$3=\"✓\",OR(AND($AE$3=\"優れている\",Q39=\"○\"),AND($AE$3=\"同等以上\",OR(Q39=\"○\",Q39=\"△\")))),\"○\",\"×\"))))","v":"○"},{"$f":"IF(COUNTIF($AF$3:$AK$3,\"✓\")=0,\"○\",IF(AH$3<>\"✓\",\"○\",IF(AND(AH$3=\"✓\",OR(AND($AE$3=\"優れている\",R39=\"○\"),AND($AE$3=\"同等以上\",OR(R39=\"○\",R39=\"△\")))),\"○\",\"×\")))","v":"○"},{"$f":"IF($Y$3=\"機械系\",\"×\",IF(COUNTIF($AF$3:$AK$3,\"✓\")=0,\"○\",IF(AI$3<>\"✓\",\"○\",IF(AND(AI$3=\"✓\",OR(AND($AE$3=\"優れている\",S39=\"○\"),AND($AE$3=\"同等以上\",OR(S39=\"○\",S39=\"△\")))),\"○\",\"×\"))))","v":"×"},{"$f":"IF($Y$3=\"機械系\",\"×\",IF(COUNTIF($AF$3:$AK$3,\"✓\")=0,\"○\",IF(AJ$3<>\"✓\",\"○\",IF(AND(AJ$3=\"✓\",OR(AND($AE$3=\"優れている\",T39=\"○\"),AND($AE$3=\"同等以上\",OR(T39=\"○\",T39=\"△\")))),\"○\",\"×\"))))","v":"×"},{"$f":"IF($Y$3=\"機械系\",\"×\",IF(COUNTIF($AF$3:$AK$3,\"✓\")=0,\"○\",IF(AK$3<>\"✓\",\"○\",IF(AND(AK$3=\"✓\",OR(AND($AE$3=\"優れている\",U39=\"○\"),AND($AE$3=\"同等以上\",OR(U39=\"○\",U39=\"△\")))),\"○\",\"×\"))))","v":"×"},{"$f":"HLOOKUP($C39,DB!$1:$1048576,9,0)","v":"-"},"A",2,{"$f":"VLOOKUP(AM39,条件!D:E,2,0)","v":1},"2018","0019",1,"1",{"$f":"VLOOKUP(LEFT(E39,2),条件!A:B,2,0)","v":"07"},212018001910107,11]
[{"$f":"IF(検索!$U$1=\"条件検索\", IF(X40=\"○\", COUNTIFS(X:X,\"○\",AV:AV,\"<\"&AV40)+1, \"-\"), IF(検索!$U$1=\"技術名検索\", IF(検索!$B$36=仕様の整理!E40, 仕様の整理!AV40, \"-\"), \"-\"))","v":"-"},37,"36-2","サラサクリーン","KT-180019-A","事後評価未実施技術","○","令和7年10月","材料系","-","泥土","泥土（コーン指数qc=100kN/m2程度、含水比100％程度）（第3種改良土（コーン指数400kN/m2以上）への改良）","-",{"$f":"HLOOKUP(C40,DB!$1:$1048576,29,0)","v":"セメント系固化材（一般軟弱土用）による泥土の地盤改良"},{"$f":"HLOOKUP(C40,DB!$1:$1048576,48,0)","v":"無"},{"$f":"LEFT(HLOOKUP($C40,DB!$1:$1048576,58,0),1)","v":"-"},{"$f":"LEFT(HLOOKUP($C40,DB!$1:$1048576,59,0),1)","v":"△"},{"$f":"LEFT(HLOOKUP($C40,DB!$1:$1048576,60,0),1)","v":"-"},{"$f":"LEFT(HLOOKUP($C40,DB!$1:$1048576,61,0),1)","v":"○"},{"$f":"LEFT(HLOOKUP($C40,DB!$1:$1048576,62,0),1)","v":"○"},{"$f":"LEFT(HLOOKUP($C40,DB!$1:$1048576,63,0),1)","v":"○"},{"$f":"HLOOKUP(C40,DB!$1:$1048576,78,0)","v":"45kg/m3（養生不要、室内配合）"},"種類:材料系\n改良対象土：泥土（コーン指数qc=100kN/m2程度、含水比100％程度）（第3種改良土（コーン指数400kN/m2以上）への改良）","×","×","○","×","×","○","○","×","○","○","○","×","×","×",{"$f":"HLOOKUP($C40,DB!$1:$1048576,9,0)","v":"-"},"A",2,{"$f":"VLOOKUP(AM40,条件!D:E,2,0)","v":1},"2018","0019",1,"2",{"$f":"VLOOKUP(LEFT(E40,2),条件!A:B,2,0)","v":"07"},212018001910207,12]
[{"$f":"IF(検索!$U$1=\"条件検索\", IF(X41=\"○\", COUNTIFS(X:X,\"○\",AV:AV,\"<\"&AV41)+1, \"-\"), IF(検索!$U$1=\"技術名検索\", IF(検索!$B$36=仕様の整理!E41, 仕様の整理!AV41, \"-\"), \"-\"))","v":"-"},38,"36-3","サラサクリーン","KT-180019-A","事後評価未実施技術","○","令和7年10月","材料系","-","第4種建設発生土","第4種建設発生土（コーン指数qc=200kN/m2程度、含水比60％程度）（第3種改良土（コーン指数400kN/m2以上）への改良）","-",{"$f":"HLOOKUP(C41,DB!$1:$1048576,29,0)","v":"石灰系固化材（生石灰）による第4種建設発生土の地盤改良"},{"$f":"HLOOKUP(C41,DB!$1:$1048576,48,0)","v":"有"},{"$f":"LEFT(HLOOKUP($C41,DB!$1:$1048576,58,0),1)","v":"-"},{"$f":"LEFT(HLOOKUP($C41,DB!$1:$1048576,59,0),1)","v":"△"},{"$f":"LEFT(HLOOKUP($C41,DB!$1:$1048576,60,0),1)","v":"-"},{"$f":"LEFT(HLOOKUP($C41,DB!$1:$1048576,61,0),1)","v":"○"},{"$f":"LEFT(HLOOKUP($C41,DB!$1:$1048576,62,0),1)","v":"△"},{"$f":"LEFT(HLOOKUP($C41,DB!$1:$1048576,63,0),1)","v":"○"},{"$f":"HLOOKUP(C41,DB!$1:$1048576,78,0)","v":"15kg/m3（養生不要、室内配合）"},"種類:材料系\n改良対象土：第4種建設発生土（コーン指数qc=200kN/m2程度、含水比60％程度）（第3種改良土（コーン指数400kN/m2以上）への改良）","×","×","○","×","○","○","○","×","○","○","○","×","×","×",{"$f":"HLOOKUP($C41,DB!$1:$1048576,9,0)","v":"-"},"A",2,{"$f":"VLOOKUP(AM41,条件!D:E,2,0)","v":1},"2018","0019",1,"3",{"$f":"VLOOKUP(LEFT(E41,2),条件!A:B,2,0)","v":"07"},212018001910307,13]
[{"$f":"IF(検索!$U$1=\"条件検索\", IF(X42=\"○\", COUNTIFS(X:X,\"○\",AV:AV,\"<\"&AV42)+1, \"-\"), IF(検索!$U$1=\"技術名検索\", IF(検索!$B$36=仕様の整理!E42, 仕様の整理!AV42, \"-\"), \"-\"))","v":"-"},39,"36-4","サラサクリーン","KT-180019-A","事後評価未実施技術","○","令和7年10月","材料系","-","泥土","泥土（コーン指数qc=100kN/m2程度、含水比100％程度）（第3種改良土（コーン指数400kN/m2以上）への改良）","-",{"$f":"HLOOKUP(C42,DB!$1:$1048576,29,0)","v":"石灰系固化材（生石灰）による泥土の地盤改良"},{"$f":"HLOOKUP(C42,DB!$1:$1048576,48,0)","v":"無"},{"$f":"LEFT(HLOOKUP($C42,DB!$1:$1048576,58,0),1)","v":"-"},{"$f":"LEFT(HLOOKUP($C42,DB!$1:$1048576,59,0),1)","v":"△"},{"$f":"LEFT(HLOOKUP($C42,DB!$1:$1048576,60,0),1)","v":"-"},{"$f":"LEFT(HLOOKUP($C42,DB!$1:$1048576,61,0),1)","v":"○"},{"$f":"LEFT(HLOOKUP($C42,DB!$1:$1048576,62,0),1)","v":"△"},{"$f":"LEFT(HLOOKUP($C42,DB!$1:$1048576,63,0),1)","v":"○"},{"$f":"HLOOKUP(C42,DB!$1:$1048576,78,0)","v":"45kg/m3（養生不要、室内配合）"},"種類:材料系\n改良対象土：泥土（コーン指数qc=100kN/m2程度、含水比100％程度）（第3種改良土（コーン指数400kN/m2以上）への改良）","×","×","○","×","×","○","○","×","○","○","○","×","×","×",{"$f":"HLOOKUP($C42,DB!$1:$1048576,9,0)","v":"-"},"A",2,{"$f":"VLOOKUP(AM42,条件!D:E,2,0)","v":1},"2018","0019",1,"4",{"$f":"VLOOKUP(LEFT(E42,2),条件!A:B,2,0)","v":"07"},212018001910407,14]
[{"$f":"IF(検索!$U$1=\"条件検索\", IF(X43=\"○\", COUNTIFS(X:X,\"○\",AV:AV,\"<\"&AV43)+1, \"-\"), IF(検索!$U$1=\"技術名検索\", IF(検索!$B$36=仕様の整理!E43, 仕様の整理!AV43, \"-\"), \"-\"))","v":"-"},40,"37-1","非セメント系中性固化材セーフティーソイル","KK-170046-A","事後評価未実施技術","○","令和7年10月","材料系","-","第4種建設発生土","第4種建設発生土（コーン指数qc=200kN/m2程度、含水比60％程度）（第3種改良土（コーン指数400kN/m2以上）への改良）","-",{"$f":"HLOOKUP(C43,DB!$1:$1048576,29,0)","v":"セメント系固化材（一般軟弱土用）による第4種建設発生土の地盤改良"},{"$f":"HLOOKUP(C43,DB!$1:$1048576,48,0)","v":"未回答"},{"$f":"LEFT(HLOOKUP($C43,DB!$1:$1048576,58,0),1)","v":"-"},{"$f":"LEFT(HLOOKUP($C43,DB!$1:$1048576,59,0),1)","v":"△"},{"$f":"LEFT(HLOOKUP($C43,DB!$1:$1048576,60,0),1)","v":"-"},{"$f":"LEFT(HLOOKUP($C43,DB!$1:$1048576,61,0),1)","v":"○"},{"$f":"LEFT(HLOOKUP($C43,DB!$1:$1048576,62,0),1)","v":"○"},{"$f":"LEFT(HLOOKUP($C43,DB!$1:$1048576,63,0),1)","v":"○"},{"$f":"HLOOKUP(C43,DB!$1:$1048576,78,0)","v":"未回答"},"種類:材料系\n改良対象土：第4種建設発生土（コーン指数qc=200kN/m2程度、含水比60％程度）（第3種改良土（コーン指数400kN/m2以上）への改良）","×","×","○","×","○","○","○","×","○","○","○","×","×","×",{"$f":"HLOOKUP($C43,DB!$1:$1048576,9,0)","v":"-"},"A",2,{"$f":"VLOOKUP(AM43,条件!D:E,2,0)","v":1},"2017","0046",1,"1",{"$f":"VLOOKUP(LEFT(E43,2),条件!A:B,2,0)","v":"04"},212017004610104,7]
[{"$f":"IF(検索!$U$1=\"条件検索\", IF(X44=\"○\", COUNTIFS(X:X,\"○\",AV:AV,\"<\"&AV44)+1, \"-\"), IF(検索!$U$1=\"技術名検索\", IF(検索!$B$36=仕様の整理!E44, 仕様の整理!AV44, \"-\"), \"-\"))","v":"-"},41,"37-2","非セメント系中性固化材セーフティーソイル","KK-170046-A","事後評価未実施技術","○","令和7年10月","材料系","-","泥土","泥土（コーン指数qc=100kN/m2程度、含水比100％程度）（第3種改良土（コーン指数400kN/m2以上）への改良）","-",{"$f":"HLOOKUP(C44,DB!$1:$1048576,29,0)","v":"セメント系固化材（一般軟弱土用）による泥土の地盤改良"},{"$f":"HLOOKUP(C44,DB!$1:$1048576,48,0)","v":"未回答"},{"$f":"LEFT(HLOOKUP($C44,DB!$1:$1048576,58,0),1)","v":"-"},{"$f":"LEFT(HLOOKUP($C44,DB!$1:$1048576,59,0),1)","v":"△"},{"$f":"LEFT(HLOOKUP($C44,DB!$1:$1048576,60,0),1)","v":"-"},{"$f":"LEFT(HLOOKUP($C44,DB!$1:$1048576,61,0),1)","v":"○"},{"$f":"LEFT(HLOOKUP($C44,DB!$1:$1048576,62,0),1)","v":"○"},{"$f":"LEFT(HLOOKUP($C44,DB!$1:$1048576,63,0),1)","v":"○"},{"$f":"HLOOKUP(C44,DB!$1:$1048576,78,0)","v":"未回答"},"種類:材料系\n改良対象土：泥土（コーン指数qc=100kN/m2程度、含水比100％程度）（第3種改良土（コーン指数400kN/m2以上）への改良）","×","×","○","×","×","○","○","×","○","○","○","×","×","×",{"$f":"HLOOKUP($C44,DB!$1:$1048576,9,0)","v":"-"},"A",2,{"$f":"VLOOKUP(AM44,条件!D:E,2,0)","v":1},"2017","0046",1,"2",{"$f":"VLOOKUP(LEFT(E44,2),条件!A:B,2,0)","v":"04"},212017004610204,8]
[{"$f":"IF(検索!$U$1=\"条件検索\", IF(X45=\"○\", COUNTIFS(X:X,\"○\",AV:AV,\"<\"&AV45)+1, \"-\"), IF(検索!$U$1=\"技術名検索\", IF(検索!$B$36=仕様の整理!E45, 仕様の整理!AV45, \"-\"), \"-\"))","v":"-"},42,"37-3","非セメント系中性固化材セーフティーソイル","KK-170046-A","事後評価未実施技術","○","令和7年10月","材料系","-","第4種建設発生土","第4種建設発生土（コーン指数qc=200kN/m2程度、含水比60％程度）（第3種改良土（コーン指数400kN/m2以上）への改良）","-",{"$f":"HLOOKUP(C45,DB!$1:$1048576,29,0)","v":"石灰系固化材（生石灰）による第4種建設発生土の地盤改良"},{"$f":"HLOOKUP(C45,DB!$1:$1048576,48,0)","v":"未回答"},{"$f":"LEFT(HLOOKUP($C45,DB!$1:$1048576,58,0),1)","v":"-"},{"$f":"LEFT(HLOOKUP($C45,DB!$1:$1048576,59,0),1)","v":"△"},{"$f":"LEFT(HLOOKUP($C45,DB!$1:$1048576,60,0),1)","v":"-"},{"$f":"LEFT(HLOOKUP($C45,DB!$1:$1048576,61,0),1)","v":"○"},{"$f":"LEFT(HLOOKUP($C45,DB!$1:$1048576,62,0),1)","v":"△"},{"$f":"LEFT(HLOOKUP($C45,DB!$1:$1048576,63,0),1)","v":"○"},{"$f":"HLOOKUP(C45,DB!$1:$1048576,78,0)","v":"未回答"},"種類:材料系\n改良対象土：第4種建設発生土（コーン指数qc=200kN/m2程度、含水比60％程度）（第3種改良土（コーン指数400kN/m2以上）への改良）","×","×","○","×","○","○","○","×","○","○","○","×","×","×",{"$f":"HLOOKUP($C45,DB!$1:$1048576,9,0)","v":"-"},"A",2,{"$f":"VLOOKUP(AM45,条件!D:E,2,0)","v":1},"2017","0046",1,"3",{"$f":"VLOOKUP(LEFT(E45,2),条件!A:B,2,0)","v":"04"},212017004610304,9]
[{"$f":"IF(検索!$U$1=\"条件検索\", IF(X46=\"○\", COUNTIFS(X:X,\"○\",AV:AV,\"<\"&AV46)+1, \"-\"), IF(検索!$U$1=\"技術名検索\", IF(検索!$B$36=仕様の整理!E46, 仕様の整理!AV46, \"-\"), \"-\"))","v":"-"},43,"37-4","非セメント系中性固化材セーフティーソイル","KK-170046-A","事後評価未実施技術","○","令和7年10月","材料系","-","泥土","泥土（コーン指数qc=100kN/m2程度、含水比100％程度）（第3種改良土（コーン指数400kN/m2以上）への改良）","-",{"$f":"HLOOKUP(C46,DB!$1:$1048576,29,0)","v":"石灰系固化材（生石灰）による泥土の地盤改良"},{"$f":"HLOOKUP(C46,DB!$1:$1048576,48,0)","v":"未回答"},{"$f":"LEFT(HLOOKUP($C46,DB!$1:$1048576,58,0),1)","v":"-"},{"$f":"LEFT(HLOOKUP($C46,DB!$1:$1048576,59,0),1)","v":"△"},{"$f":"LEFT(HLOOKUP($C46,DB!$1:$1048576,60,0),1)","v":"-"},{"$f":"LEFT(HLOOKUP($C46,DB!$1:$1048576,61,0),1)","v":"○"},{"$f":"LEFT(HLOOKUP($C46,DB!$1:$1048576,62,0),1)","v":"△"},{"$f":"LEFT(HLOOKUP($C46,DB!$1:$1048576,63,0),1)","v":"○"},{"$f":"HLOOKUP(C46,DB!$1:$1048576,78,0)","v":"未回答"},"種類:材料系\n改良対象土：泥土（コーン指数qc=100kN/m2程度、含水比100％程度）（第3種改良土（コーン指数400kN/m2以上）への改良）","×","×","○","×","×","○","○","×","○","○","○","×","×","×",{"$f":"HLOOKUP($C46,DB!$1:$1048576,9,0)","v":"-"},"A",2,{"$f":"VLOOKUP(AM46,条件!D:E,2,0)","v":1},"2017","0046",1,"4",{"$f":"VLOOKUP(LEFT(E46,2),条件!A:B,2,0)","v":"04"},212017004610404,10]
[{"$f":"IF(検索!$U$1=\"条件検索\", IF(X47=\"○\", COUNTIFS(X:X,\"○\",AV:AV,\"<\"&AV47)+1, \"-\"), IF(検索!$U$1=\"技術名検索\", IF(検索!$B$36=仕様の整理!E47, 仕様の整理!AV47, \"-\"), \"-\"))","v":"-"},44,"39-1","LDH系重金属類吸着剤「メタルグリッドA」","KT-190100-A","事後評価未実施技術","○","令和7年10月","材料系","-","-","フッ素（土壌溶出量8.0mg/L程度）を含有する土（土壌溶出量基準値0.8mg/L以下への改良）","フッ素による汚染地盤",{"$f":"HLOOKUP(C47,DB!$1:$1048576,29,0)","v":"セメント系固化材（六価クロム対応型）による特殊土の地盤改良"},{"$f":"HLOOKUP(C47,DB!$1:$1048576,48,0)","v":"無"},{"$f":"LEFT(HLOOKUP($C47,DB!$1:$1048576,58,0),1)","v":"-"},{"$f":"LEFT(HLOOKUP($C47,DB!$1:$1048576,59,0),1)","v":"○"},{"$f":"LEFT(HLOOKUP($C47,DB!$1:$1048576,60,0),1)","v":"-"},{"$f":"LEFT(HLOOKUP($C47,DB!$1:$1048576,61,0),1)","v":"○"},{"$f":"LEFT(HLOOKUP($C47,DB!$1:$1048576,62,0),1)","v":"△"},{"$f":"LEFT(HLOOKUP($C47,DB!$1:$1048576,63,0),1)","v":"○"},{"$f":"HLOOKUP(C47,DB!$1:$1048576,78,0)","v":"1.8kg/m3（養生不要、室内配合）"},"種類:材料系\n改良対象土：フッ素（土壌溶出量8.0mg/L程度）を含有する土（土壌溶出量基準値0.8mg/L以下への改良）","×","×","○","×","×","○","○","×","○","○","○","×","×","×",{"$f":"HLOOKUP($C47,DB!$1:$1048576,9,0)","v":"-"},"A",2,{"$f":"VLOOKUP(AM47,条件!D:E,2,0)","v":1},"2019","0100",1,"1",{"$f":"VLOOKUP(LEFT(E47,2),条件!A:B,2,0)","v":"07"},212019010010107,15]
[{"$f":"IF(検索!$U$1=\"条件検索\", IF(X48=\"○\", COUNTIFS(X:X,\"○\",AV:AV,\"<\"&AV48)+1, \"-\"), IF(検索!$U$1=\"技術名検索\", IF(検索!$B$36=仕様の整理!E48, 仕様の整理!AV48, \"-\"), \"-\"))","v":"-"},45,"39-2","LDH系重金属類吸着剤「メタルグリッドA」","KT-190100-A","事後評価未実施技術","○","令和7年10月","材料系","-","-","ヒ素（土壌溶出量0.1mg/L程度）を含有する土（土壌溶出量基準値0.01mg/L以下への改良）","ヒ素による汚染地盤",{"$f":"HLOOKUP(C48,DB!$1:$1048576,29,0)","v":"セメント系固化材（六価クロム対応型）による特殊土の地盤改良"},{"$f":"HLOOKUP(C48,DB!$1:$1048576,48,0)","v":"無"},{"$f":"LEFT(HLOOKUP($C48,DB!$1:$1048576,58,0),1)","v":"-"},{"$f":"LEFT(HLOOKUP($C48,DB!$1:$1048576,59,0),1)","v":"○"},{"$f":"LEFT(HLOOKUP($C48,DB!$1:$1048576,60,0),1)","v":"-"},{"$f":"LEFT(HLOOKUP($C48,DB!$1:$1048576,61,0),1)","v":"○"},{"$f":"LEFT(HLOOKUP($C48,DB!$1:$1048576,62,0),1)","v":"△"},{"$f":"LEFT(HLOOKUP($C48,DB!$1:$1048576,63,0),1)","v":"○"},{"$f":"HLOOKUP(C48,DB!$1:$1048576,78,0)","v":"1.8kg/m3（養生不要、室内配合）"},"種類:材料系\n改良対象土：ヒ素（土壌溶出量0.1mg/L程度）を含有する土（土壌溶出量基準値0.01mg/L以下への改良）","×","×","○","×","×","○","○","×","○","○","○","×","×","×",{"$f":"HLOOKUP($C48,DB!$1:$1048576,9,0)","v":"-"},"A",2,{"$f":"VLOOKUP(AM48,条件!D:E,2,0)","v":1},"2019","0100",1,"2",{"$f":"VLOOKUP(LEFT(E48,2),条件!A:B,2,0)","v":"07"},212019010010207,16]
[{"$f":"IF(検索!$U$1=\"条件検索\", IF(X49=\"○\", COUNTIFS(X:X,\"○\",AV:AV,\"<\"&AV49)+1, \"-\"), IF(検索!$U$1=\"技術名検索\", IF(検索!$B$36=仕様の整理!E49, 仕様の整理!AV49, \"-\"), \"-\"))","v":"-"},46,"40-1","重金属不溶化材「ポーラミックス」","CG-200006-A","事後評価未実施技術","○","令和7年10月","材料系","-","-","フッ素（土壌溶出量8.0mg/L程度）を含有する土（土壌溶出量基準値0.8mg/L以下への改良）","フッ素による汚染地盤",{"$f":"HLOOKUP(C49,DB!$1:$1048576,29,0)","v":"セメント系固化材（六価クロム対応型）による特殊土の地盤改良"},{"$f":"HLOOKUP(C49,DB!$1:$1048576,48,0)","v":"未回答"},{"$f":"LEFT(HLOOKUP($C49,DB!$1:$1048576,58,0),1)","v":"-"},{"$f":"LEFT(HLOOKUP($C49,DB!$1:$1048576,59,0),1)","v":"△"},{"$f":"LEFT(HLOOKUP($C49,DB!$1:$1048576,60,0),1)","v":"-"},{"$f":"LEFT(HLOOKUP($C49,DB!$1:$1048576,61,0),1)","v":"○"},{"$f":"LEFT(HLOOKUP($C49,DB!$1:$1048576,62,0),1)","v":"△"},{"$f":"LEFT(HLOOKUP($C49,DB!$1:$1048576,63,0),1)","v":"○"},{"$f":"HLOOKUP(C49,DB!$1:$1048576,78,0)","v":"未回答"},"種類:材料系\n改良対象土：フッ素（土壌溶出量8.0mg/L程度）を含有する土（土壌溶出量基準値0.8mg/L以下への改良）","×","×","○","×","×","○","○","×","○","○","○","×","×","×",{"$f":"HLOOKUP($C49,DB!$1:$1048576,9,0)","v":"-"},"A",2,{"$f":"VLOOKUP(AM49,条件!D:E,2,0)","v":1},"2020","0006",1,"1",{"$f":"VLOOKUP(LEFT(E49,2),条件!A:B,2,0)","v":"03"},212020000610103,17]
[{"$f":"IF(検索!$U$1=\"条件検索\", IF(X50=\"○\", COUNTIFS(X:X,\"○\",AV:AV,\"<\"&AV50)+1, \"-\"), IF(検索!$U$1=\"技術名検索\", IF(検索!$B$36=仕様の整理!E50, 仕様の整理!AV50, \"-\"), \"-\"))","v":"-"},47,"40-2","重金属不溶化材「ポーラミックス」","CG-200006-A","事後評価未実施技術","○","令和7年10月","材料系","-","-","ヒ素（土壌溶出量0.1mg/L程度）を含有する土（土壌溶出量基準値0.01mg/L以下への改良）","ヒ素による汚染地盤",{"$f":"HLOOKUP(C50,DB!$1:$1048576,29,0)","v":"セメント系固化材（六価クロム対応型）による特殊土の地盤改良"},{"$f":"HLOOKUP(C50,DB!$1:$1048576,48,0)","v":"未回答"},{"$f":"LEFT(HLOOKUP($C50,DB!$1:$1048576,58,0),1)","v":"-"},{"$f":"LEFT(HLOOKUP($C50,DB!$1:$1048576,59,0),1)","v":"△"},{"$f":"LEFT(HLOOKUP($C50,DB!$1:$1048576,60,0),1)","v":"-"},{"$f":"LEFT(HLOOKUP($C50,DB!$1:$1048576,61,0),1)","v":"○"},{"$f":"LEFT(HLOOKUP($C50,DB!$1:$1048576,62,0),1)","v":"△"},{"$f":"LEFT(HLOOKUP($C50,DB!$1:$1048576,63,0),1)","v":"○"},{"$f":"HLOOKUP(C50,DB!$1:$1048576,78,0)","v":"未回答"},"種類:材料系\n改良対象土：ヒ素（土壌溶出量0.1mg/L程度）を含有する土（土壌溶出量基準値0.01mg/L以下への改良）","×","×","○","×","×","○","○","×","○","○","○","×","×","×",{"$f":"HLOOKUP($C50,DB!$1:$1048576,9,0)","v":"-"},"A",2,{"$f":"VLOOKUP(AM50,条件!D:E,2,0)","v":1},"2020","0006",1,"2",{"$f":"VLOOKUP(LEFT(E50,2),条件!A:B,2,0)","v":"03"},212020000610203,18]
[{"$f":"IF(検索!$U$1=\"条件検索\", IF(X51=\"○\", COUNTIFS(X:X,\"○\",AV:AV,\"<\"&AV51)+1, \"-\"), IF(検索!$U$1=\"技術名検索\", IF(検索!$B$36=仕様の整理!E51, 仕様の整理!AV51, \"-\"), \"-\"))","v":"-"},48,"41-1","中和不溶化改質剤 メタルシャット シリーズ","KT-200060-A","事後評価未実施技術","○","令和7年10月","材料系","-","第4種建設発生土","第4種建設発生土（コーン指数qc=200kN/m2程度、含水比60％程度）（第3種改良土（コーン指数400kN/m2以上）への改良）","-",{"$f":"HLOOKUP(C51,DB!$1:$1048576,29,0)","v":"セメント系固化材（一般軟弱土用）による第4種建設発生土の地盤改良"},{"$f":"HLOOKUP(C51,DB!$1:$1048576,48,0)","v":"無"},{"$f":"LEFT(HLOOKUP($C51,DB!$1:$1048576,58,0),1)","v":"-"},{"$f":"LEFT(HLOOKUP($C51,DB!$1:$1048576,59,0),1)","v":"△"},{"$f":"LEFT(HLOOKUP($C51,DB!$1:$1048576,60,0),1)","v":"-"},{"$f":"LEFT(HLOOKUP($C51,DB!$1:$1048576,61,0),1)","v":"○"},{"$f":"LEFT(HLOOKUP($C51,DB!$1:$1048576,62,0),1)","v":"△"},{"$f":"LEFT(HLOOKUP($C51,DB!$1:$1048576,63,0),1)","v":"○"},{"$f":"HLOOKUP(C51,DB!$1:$1048576,78,0)","v":"30kg/m3（養生0.5日以上、室内配合）"},"種類:材料系\n改良対象土：第4種建設発生土（コーン指数qc=200kN/m2程度、含水比60％程度）（第3種改良土（コーン指数400kN/m2以上）への改良）","×","×","○","×","○","○","○","×","○","○","○","×","×","×",{"$f":"HLOOKUP($C51,DB!$1:$1048576,9,0)","v":"-"},"A",2,{"$f":"VLOOKUP(AM51,条件!D:E,2,0)","v":1},"2020","0060",1,"1",{"$f":"VLOOKUP(LEFT(E51,2),条件!A:B,2,0)","v":"07"},212020006010107,19]
[{"$f":"IF(検索!$U$1=\"条件検索\", IF(X52=\"○\", COUNTIFS(X:X,\"○\",AV:AV,\"<\"&AV52)+1, \"-\"), IF(検索!$U$1=\"技術名検索\", IF(検索!$B$36=仕様の整理!E52, 仕様の整理!AV52, \"-\"), \"-\"))","v":"-"},49,"41-2","中和不溶化改質剤 メタルシャット シリーズ","KT-200060-A","事後評価未実施技術","○","令和7年10月","材料系","-","泥土","泥土（コーン指数qc=100kN/m2程度、含水比100％程度）（第3種改良土（コーン指数400kN/m2以上）への改良）","-",{"$f":"HLOOKUP(C52,DB!$1:$1048576,29,0)","v":"セメント系固化材（一般軟弱土用）による泥土の地盤改良"},{"$f":"HLOOKUP(C52,DB!$1:$1048576,48,0)","v":"無"},{"$f":"LEFT(HLOOKUP($C52,DB!$1:$1048576,58,0),1)","v":"-"},{"$f":"LEFT(HLOOKUP($C52,DB!$1:$1048576,59,0),1)","v":"△"},{"$f":"LEFT(HLOOKUP($C52,DB!$1:$1048576,60,0),1)","v":"-"},{"$f":"LEFT(HLOOKUP($C52,DB!$1:$1048576,61,0),1)","v":"○"},{"$f":"LEFT(HLOOKUP($C52,DB!$1:$1048576,62,0),1)","v":"△"},{"$f":"LEFT(HLOOKUP($C52,DB!$1:$1048576,63,0),1)","v":"○"},{"$f":"HLOOKUP(C52,DB!$1:$1048576,78,0)","v":"80kg/m3（養生0.5日以上、室内配合）"},"種類:材料系\n改良対象土：泥土（コーン指数qc=100kN/m2程度、含水比100％程度）（第3種改良土（コーン指数400kN/m2以上）への改良）","×","×","○","×","×","○","○","×","○","○","○","×","×","×",{"$f":"HLOOKUP($C52,DB!$1:$1048576,9,0)","v":"-"},"A",2,{"$f":"VLOOKUP(AM52,条件!D:E,2,0)","v":1},"2020","0060",1,"2",{"$f":"VLOOKUP(LEFT(E52,2),条件!A:B,2,0)","v":"07"},212020006010207,20]
[{"$f":"IF(検索!$U$1=\"条件検索\", IF(X53=\"○\", COUNTIFS(X:X,\"○\",AV:AV,\"<\"&AV53)+1, \"-\"), IF(検索!$U$1=\"技術名検索\", IF(検索!$B$36=仕様の整理!E53, 仕様の整理!AV53, \"-\"), \"-\"))","v":"-"},50,"41-3","中和不溶化改質剤 メタルシャット シリーズ","KT-200060-A","事後評価未実施技術","○","令和7年10月","材料系","-","第4種建設発生土","第4種建設発生土（コーン指数qc=200kN/m2程度、含水比60％程度）（第3種改良土（コーン指数400kN/m2以上）への改良）","-",{"$f":"HLOOKUP(C53,DB!$1:$1048576,29,0)","v":"石灰系固化材（生石灰）による第4種建設発生土の地盤改良"},{"$f":"HLOOKUP(C53,DB!$1:$1048576,48,0)","v":"無"},{"$f":"LEFT(HLOOKUP($C53,DB!$1:$1048576,58,0),1)","v":"-"},{"$f":"LEFT(HLOOKUP($C53,DB!$1:$1048576,59,0),1)","v":"△"},{"$f":"LEFT(HLOOKUP($C53,DB!$1:$1048576,60,0),1)","v":"-"},{"$f":"LEFT(HLOOKUP($C53,DB!$1:$1048576,61,0),1)","v":"○"},{"$f":"LEFT(HLOOKUP($C53,DB!$1:$1048576,62,0),1)","v":"△"},{"$f":"LEFT(HLOOKUP($C53,DB!$1:$1048576,63,0),1)","v":"○"},{"$f":"HLOOKUP(C53,DB!$1:$1048576,78,0)","v":"30kg/m3（養生0.5日以上、室内配合）"},"種類:材料系\n改良対象土：第4種建設発生土（コーン指数qc=200kN/m2程度、含水比60％程度）（第3種改良土（コーン指数400kN/m2以上）への改良）","×","×","○","×","○","○","○","×","○","○","○","×","×","×",{"$f":"HLOOKUP($C53,DB!$1:$1048576,9,0)","v":"-"},"A",2,{"$f":"VLOOKUP(AM53,条件!D:E,2,0)","v":1},"2020","0060",1,"3",{"$f":"VLOOKUP(LEFT(E53,2),条件!A:B,2,0)","v":"07"},212020006010307,21]
[{"$f":"IF(検索!$U$1=\"条件検索\", IF(X54=\"○\", COUNTIFS(X:X,\"○\",AV:AV,\"<\"&AV54)+1, \"-\"), IF(検索!$U$1=\"技術名検索\", IF(検索!$B$36=仕様の整理!E54, 仕様の整理!AV54, \"-\"), \"-\"))","v":"-"},51,"41-4","中和不溶化改質剤 メタルシャット シリーズ","KT-200060-A","事後評価未実施技術","○","令和7年10月","材料系","-","泥土","泥土（コーン指数qc=100kN/m2程度、含水比100％程度）（第3種改良土（コーン指数400kN/m2以上）への改良）","-",{"$f":"HLOOKUP(C54,DB!$1:$1048576,29,0)","v":"石灰系固化材（生石灰）による泥土の地盤改良"},{"$f":"HLOOKUP(C54,DB!$1:$1048576,48,0)","v":"無"},{"$f":"LEFT(HLOOKUP($C54,DB!$1:$1048576,58,0),1)","v":"-"},{"$f":"LEFT(HLOOKUP($C54,DB!$1:$1048576,59,0),1)","v":"△"},{"$f":"LEFT(HLOOKUP($C54,DB!$1:$1048576,60,0),1)","v":"-"},{"$f":"LEFT(HLOOKUP($C54,DB!$1:$1048576,61,0),1)","v":"○"},{"$f":"LEFT(HLOOKUP($C54,DB!$1:$1048576,62,0),1)","v":"△"},{"$f":"LEFT(HLOOKUP($C54,DB!$1:$1048576,63,0),1)","v":"○"},{"$f":"HLOOKUP(C54,DB!$1:$1048576,78,0)","v":"80kg/m3（養生0.5日以上、室内配合）"},"種類:材料系\n改良対象土：泥土（コーン指数qc=100kN/m2程度、含水比100％程度）（第3種改良土（コーン指数400kN/m2以上）への改良）","×","×","○","×","×","○","○","×","○","○","○","×","×","×",{"$f":"HLOOKUP($C54,DB!$1:$1048576,9,0)","v":"-"},"A",2,{"$f":"VLOOKUP(AM54,条件!D:E,2,0)","v":1},"2020","0060",1,"4",{"$f":"VLOOKUP(LEFT(E54,2),条件!A:B,2,0)","v":"07"},212020006010407,22]
[{"$f":"IF(検索!$U$1=\"条件検索\", IF(X55=\"○\", COUNTIFS(X:X,\"○\",AV:AV,\"<\"&AV55)+1, \"-\"), IF(検索!$U$1=\"技術名検索\", IF(検索!$B$36=仕様の整理!E55, 仕様の整理!AV55, \"-\"), \"-\"))","v":"-"},52,"41-5","中和不溶化改質剤 メタルシャット シリーズ","KT-200060-A","事後評価未実施技術","○","令和7年10月","材料系","-","-","フッ素（土壌溶出量8.0mg/L程度）を含有する土（土壌溶出量基準値0.8mg/L以下への改良）","フッ素による汚染地盤",{"$f":"HLOOKUP(C55,DB!$1:$1048576,29,0)","v":"セメント系固化材（六価クロム対応型）による特殊土の地盤改良"},{"$f":"HLOOKUP(C55,DB!$1:$1048576,48,0)","v":"無"},{"$f":"LEFT(HLOOKUP($C55,DB!$1:$1048576,58,0),1)","v":"-"},{"$f":"LEFT(HLOOKUP($C55,DB!$1:$1048576,59,0),1)","v":"△"},{"$f":"LEFT(HLOOKUP($C55,DB!$1:$1048576,60,0),1)","v":"-"},{"$f":"LEFT(HLOOKUP($C55,DB!$1:$1048576,61,0),1)","v":"○"},{"$f":"LEFT(HLOOKUP($C55,DB!$1:$1048576,62,0),1)","v":"△"},{"$f":"LEFT(HLOOKUP($C55,DB!$1:$1048576,63,0),1)","v":"○"},{"$f":"HLOOKUP(C55,DB!$1:$1048576,78,0)","v":"60kg/m3（養生0.5日以上、室内配合）"},"種類:材料系\n改良対象土：フッ素（土壌溶出量8.0mg/L程度）を含有する土（土壌溶出量基準値0.8mg/L以下への改良）","×","×","○","×","×","○","○","×","○","○","○","×","×","×",{"$f":"HLOOKUP($C55,DB!$1:$1048576,9,0)","v":"-"},"A",2,{"$f":"VLOOKUP(AM55,条件!D:E,2,0)","v":1},"2020","0060",1,"5",{"$f":"VLOOKUP(LEFT(E55,2),条件!A:B,2,0)","v":"07"},212020006010507,23]
[{"$f":"IF(検索!$U$1=\"条件検索\", IF(X56=\"○\", COUNTIFS(X:X,\"○\",AV:AV,\"<\"&AV56)+1, \"-\"), IF(検索!$U$1=\"技術名検索\", IF(検索!$B$36=仕様の整理!E56, 仕様の整理!AV56, \"-\"), \"-\"))","v":"-"},53,"41-6","中和不溶化改質剤 メタルシャット シリーズ","KT-200060-A","事後評価未実施技術","○","令和7年10月","材料系","-","-","ヒ素（土壌溶出量0.1mg/L程度）を含有する土（土壌溶出量基準値0.01mg/L以下への改良）","ヒ素による汚染地盤",{"$f":"HLOOKUP(C56,DB!$1:$1048576,29,0)","v":"セメント系固化材（六価クロム対応型）による特殊土の地盤改良"},{"$f":"HLOOKUP(C56,DB!$1:$1048576,48,0)","v":"無"},{"$f":"LEFT(HLOOKUP($C56,DB!$1:$1048576,58,0),1)","v":"-"},{"$f":"LEFT(HLOOKUP($C56,DB!$1:$1048576,59,0),1)","v":"△"},{"$f":"LEFT(HLOOKUP($C56,DB!$1:$1048576,60,0),1)","v":"-"},{"$f":"LEFT(HLOOKUP($C56,DB!$1:$1048576,61,0),1)","v":"○"},{"$f":"LEFT(HLOOKUP($C56,DB!$1:$1048576,62,0),1)","v":"△"},{"$f":"LEFT(HLOOKUP($C56,DB!$1:$1048576,63,0),1)","v":"○"},{"$f":"HLOOKUP(C56,DB!$1:$1048576,78,0)","v":"30kg/m3（養生0.5日以上、室内配合）"},"種類:材料系\n改良対象土：ヒ素（土壌溶出量0.1mg/L程度）を含有する土（土壌溶出量基準値0.01mg/L以下への改良）","×","×","○","×","×","○","○","×","○","○","○","×","×","×",{"$f":"HLOOKUP($C56,DB!$1:$1048576,9,0)","v":"-"},"A",2,{"$f":"VLOOKUP(AM56,条件!D:E,2,0)","v":1},"2020","0060",1,"6",{"$f":"VLOOKUP(LEFT(E56,2),条件!A:B,2,0)","v":"07"},212020006010607,24]
[{"$f":"IF(検索!$U$1=\"条件検索\", IF(X57=\"○\", COUNTIFS(X:X,\"○\",AV:AV,\"<\"&AV57)+1, \"-\"), IF(検索!$U$1=\"技術名検索\", IF(検索!$B$36=仕様の整理!E57, 仕様の整理!AV57, \"-\"), \"-\"))","v":"-"},54,"43-1","重金属不溶化材「メタルキャッチャーＺ」","KT-200135-A","事後評価未実施技術","○","令和7年10月","材料系","-","-","フッ素（土壌溶出量8.0mg/L程度）を含有する土（土壌溶出量基準値0.8mg/L以下への改良）","フッ素による汚染地盤",{"$f":"HLOOKUP(C57,DB!$1:$1048576,29,0)","v":"セメント系固化材（六価クロム対応型）による特殊土の地盤改良"},{"$f":"HLOOKUP(C57,DB!$1:$1048576,48,0)","v":"無"},{"$f":"LEFT(HLOOKUP($C57,DB!$1:$1048576,58,0),1)","v":"-"},{"$f":"LEFT(HLOOKUP($C57,DB!$1:$1048576,59,0),1)","v":"△"},{"$f":"LEFT(HLOOKUP($C57,DB!$1:$1048576,60,0),1)","v":"-"},{"$f":"LEFT(HLOOKUP($C57,DB!$1:$1048576,61,0),1)","v":"○"},{"$f":"LEFT(HLOOKUP($C57,DB!$1:$1048576,62,0),1)","v":"△"},{"$f":"LEFT(HLOOKUP($C57,DB!$1:$1048576,63,0),1)","v":"○"},{"$f":"HLOOKUP(C57,DB!$1:$1048576,78,0)","v":"50kg/m3（養生7日、室内配合）"},"種類:材料系\n改良対象土：フッ素（土壌溶出量8.0mg/L程度）を含有する土（土壌溶出量基準値0.8mg/L以下への改良）","×","×","○","×","×","○","○","×","○","○","○","×","×","×",{"$f":"HLOOKUP($C57,DB!$1:$1048576,9,0)","v":"-"},"A",2,{"$f":"VLOOKUP(AM57,条件!D:E,2,0)","v":1},"2020","0135",1,"1",{"$f":"VLOOKUP(LEFT(E57,2),条件!A:B,2,0)","v":"07"},212020013510107,27]
[{"$f":"IF(検索!$U$1=\"条件検索\", IF(X58=\"○\", COUNTIFS(X:X,\"○\",AV:AV,\"<\"&AV58)+1, \"-\"), IF(検索!$U$1=\"技術名検索\", IF(検索!$B$36=仕様の整理!E58, 仕様の整理!AV58, \"-\"), \"-\"))","v":"-"},55,"43-2","重金属不溶化材「メタルキャッチャーＺ」","KT-200135-A","事後評価未実施技術","○","令和7年10月","材料系","-","-","ヒ素（土壌溶出量0.1mg/L程度）を含有する土（土壌溶出量基準値0.01mg/L以下への改良）","ヒ素による汚染地盤",{"$f":"HLOOKUP(C58,DB!$1:$1048576,29,0)","v":"セメント系固化材（六価クロム対応型）による特殊土の地盤改良"},{"$f":"HLOOKUP(C58,DB!$1:$1048576,48,0)","v":"無"},{"$f":"LEFT(HLOOKUP($C58,DB!$1:$1048576,58,0),1)","v":"-"},{"$f":"LEFT(HLOOKUP($C58,DB!$1:$1048576,59,0),1)","v":"△"},{"$f":"LEFT(HLOOKUP($C58,DB!$1:$1048576,60,0),1)","v":"-"},{"$f":"LEFT(HLOOKUP($C58,DB!$1:$1048576,61,0),1)","v":"○"},{"$f":"LEFT(HLOOKUP($C58,DB!$1:$1048576,62,0),1)","v":"△"},{"$f":"LEFT(HLOOKUP($C58,DB!$1:$1048576,63,0),1)","v":"○"},{"$f":"HLOOKUP(C58,DB!$1:$1048576,78,0)","v":"30kg/m3（養生3日、室内配合）"},"種類:材料系\n改良対象土：ヒ素（土壌溶出量0.1mg/L程度）を含有する土（土壌溶出量基準値0.01mg/L以下への改良）","×","×","○","×","×","○","○","×","○","○","○","×","×","×",{"$f":"HLOOKUP($C58,DB!$1:$1048576,9,0)","v":"-"},"A",2,{"$f":"VLOOKUP(AM58,条件!D:E,2,0)","v":1},"2020","0135",1,"2",{"$f":"VLOOKUP(LEFT(E58,2),条件!A:B,2,0)","v":"07"},212020013510207,28]
[{"$f":"IF(検索!$U$1=\"条件検索\", IF(X59=\"○\", COUNTIFS(X:X,\"○\",AV:AV,\"<\"&AV59)+1, \"-\"), IF(検索!$U$1=\"技術名検索\", IF(検索!$B$36=仕様の整理!E59, 仕様の整理!AV59, \"-\"), \"-\"))","v":"-"},56,"45-1","中性改質剤 ハードレックス シリーズ","KT-210043-A","事後評価未実施技術","○","令和7年10月","材料系","-","第4種建設発生土","第4種建設発生土（コーン指数qc=200kN/m2程度、含水比60％程度）（第3種改良土（コーン指数400kN/m2以上）への改良）","-",{"$f":"HLOOKUP(C59,DB!$1:$1048576,29,0)","v":"セメント系固化材（一般軟弱土用）による第4種建設発生土の地盤改良"},{"$f":"HLOOKUP(C59,DB!$1:$1048576,48,0)","v":"有"},{"$f":"LEFT(HLOOKUP($C59,DB!$1:$1048576,58,0),1)","v":"-"},{"$f":"LEFT(HLOOKUP($C59,DB!$1:$1048576,59,0),1)","v":"△"},{"$f":"LEFT(HLOOKUP($C59,DB!$1:$1048576,60,0),1)","v":"-"},{"$f":"LEFT(HLOOKUP($C59,DB!$1:$1048576,61,0),1)","v":"○"},{"$f":"LEFT(HLOOKUP($C59,DB!$1:$1048576,62,0),1)","v":"○"},{"$f":"LEFT(HLOOKUP($C59,DB!$1:$1048576,63,0),1)","v":"○"},{"$f":"HLOOKUP(C59,DB!$1:$1048576,78,0)","v":"30kg/m3（養生0.5日以上、室内配合）"},"種類:材料系\n改良対象土：第4種建設発生土（コーン指数qc=200kN/m2程度、含水比60％程度）（第3種改良土（コーン指数400kN/m2以上）への改良）","×","×","○","×","○","○","○","×","○","○","○","×","×","×",{"$f":"HLOOKUP($C59,DB!$1:$1048576,9,0)","v":"-"},"A",2,{"$f":"VLOOKUP(AM59,条件!D:E,2,0)","v":1},"2021","0043",1,"1",{"$f":"VLOOKUP(LEFT(E59,2),条件!A:B,2,0)","v":"07"},212021004310107,31]
[{"$f":"IF(検索!$U$1=\"条件検索\", IF(X60=\"○\", COUNTIFS(X:X,\"○\",AV:AV,\"<\"&AV60)+1, \"-\"), IF(検索!$U$1=\"技術名検索\", IF(検索!$B$36=仕様の整理!E60, 仕様の整理!AV60, \"-\"), \"-\"))","v":"-"},57,"45-2","中性改質剤 ハードレックス シリーズ","KT-210043-A","事後評価未実施技術","○","令和7年10月","材料系","-","泥土","泥土（コーン指数qc=100kN/m2程度、含水比100％程度）（第3種改良土（コーン指数400kN/m2以上）への改良）","-",{"$f":"HLOOKUP(C60,DB!$1:$1048576,29,0)","v":"セメント系固化材（一般軟弱土用）による泥土の地盤改良"},{"$f":"HLOOKUP(C60,DB!$1:$1048576,48,0)","v":"有"},{"$f":"LEFT(HLOOKUP($C60,DB!$1:$1048576,58,0),1)","v":"-"},{"$f":"LEFT(HLOOKUP($C60,DB!$1:$1048576,59,0),1)","v":"△"},{"$f":"LEFT(HLOOKUP($C60,DB!$1:$1048576,60,0),1)","v":"-"},{"$f":"LEFT(HLOOKUP($C60,DB!$1:$1048576,61,0),1)","v":"○"},{"$f":"LEFT(HLOOKUP($C60,DB!$1:$1048576,62,0),1)","v":"○"},{"$f":"LEFT(HLOOKUP($C60,DB!$1:$1048576,63,0),1)","v":"○"},{"$f":"HLOOKUP(C60,DB!$1:$1048576,78,0)","v":"60kg/m3（養生0.5日以上、室内配合）"},"種類:材料系\n改良対象土：泥土（コーン指数qc=100kN/m2程度、含水比100％程度）（第3種改良土（コーン指数400kN/m2以上）への改良）","×","×","○","×","×","○","○","×","○","○","○","×","×","×",{"$f":"HLOOKUP($C60,DB!$1:$1048576,9,0)","v":"-"},"A",2,{"$f":"VLOOKUP(AM60,条件!D:E,2,0)","v":1},"2021","0043",1,"2",{"$f":"VLOOKUP(LEFT(E60,2),条件!A:B,2,0)","v":"07"},212021004310207,32]
[{"$f":"IF(検索!$U$1=\"条件検索\", IF(X61=\"○\", COUNTIFS(X:X,\"○\",AV:AV,\"<\"&AV61)+1, \"-\"), IF(検索!$U$1=\"技術名検索\", IF(検索!$B$36=仕様の整理!E61, 仕様の整理!AV61, \"-\"), \"-\"))","v":"-"},58,"45-3","中性改質剤 ハードレックス シリーズ","KT-210043-A","事後評価未実施技術","○","令和7年10月","材料系","-","第4種建設発生土","第4種建設発生土（コーン指数qc=200kN/m2程度、含水比60％程度）（第3種改良土（コーン指数400kN/m2以上）への改良）","-",{"$f":"HLOOKUP(C61,DB!$1:$1048576,29,0)","v":"石灰系固化材（生石灰）による第4種建設発生土の地盤改良"},{"$f":"HLOOKUP(C61,DB!$1:$1048576,48,0)","v":"有"},{"$f":"LEFT(HLOOKUP($C61,DB!$1:$1048576,58,0),1)","v":"-"},{"$f":"LEFT(HLOOKUP($C61,DB!$1:$1048576,59,0),1)","v":"△"},{"$f":"LEFT(HLOOKUP($C61,DB!$1:$1048576,60,0),1)","v":"-"},{"$f":"LEFT(HLOOKUP($C61,DB!$1:$1048576,61,0),1)","v":"○"},{"$f":"LEFT(HLOOKUP($C61,DB!$1:$1048576,62,0),1)","v":"△"},{"$f":"LEFT(HLOOKUP($C61,DB!$1:$1048576,63,0),1)","v":"○"},{"$f":"HLOOKUP(C61,DB!$1:$1048576,78,0)","v":"30kg/m3（養生0.5日以上、室内配合）"},"種類:材料系\n改良対象土：第4種建設発生土（コーン指数qc=200kN/m2程度、含水比60％程度）（第3種改良土（コーン指数400kN/m2以上）への改良）","×","×","○","×","○","○","○","×","○","○","○","×","×","×",{"$f":"HLOOKUP($C61,DB!$1:$1048576,9,0)","v":"-"},"A",2,{"$f":"VLOOKUP(AM61,条件!D:E,2,0)","v":1},"2021","0043",1,"3",{"$f":"VLOOKUP(LEFT(E61,2),条件!A:B,2,0)","v":"07"},212021004310307,33]
[{"$f":"IF(検索!$U$1=\"条件検索\", IF(X62=\"○\", COUNTIFS(X:X,\"○\",AV:AV,\"<\"&AV62)+1, \"-\"), IF(検索!$U$1=\"技術名検索\", IF(検索!$B$36=仕様の整理!E62, 仕様の整理!AV62, \"-\"), \"-\"))","v":"-"},59,"45-4","中性改質剤 ハードレックス シリーズ","KT-210043-A","事後評価未実施技術","○","令和7年10月","材料系","-","泥土","泥土（コーン指数qc=100kN/m2程度、含水比100％程度）（第3種改良土（コーン指数400kN/m2以上）への改良）","-",{"$f":"HLOOKUP(C62,DB!$1:$1048576,29,0)","v":"石灰系固化材（生石灰）による泥土の地盤改良"},{"$f":"HLOOKUP(C62,DB!$1:$1048576,48,0)","v":"有"},{"$f":"LEFT(HLOOKUP($C62,DB!$1:$1048576,58,0),1)","v":"-"},{"$f":"LEFT(HLOOKUP($C62,DB!$1:$1048576,59,0),1)","v":"△"},{"$f":"LEFT(HLOOKUP($C62,DB!$1:$1048576,60,0),1)","v":"-"},{"$f":"LEFT(HLOOKUP($C62,DB!$1:$1048576,61,0),1)","v":"○"},{"$f":"LEFT(HLOOKUP($C62,DB!$1:$1048576,62,0),1)","v":"△"},{"$f":"LEFT(HLOOKUP($C62,DB!$1:$1048576,63,0),1)","v":"○"},{"$f":"HLOOKUP(C62,DB!$1:$1048576,78,0)","v":"60kg/m3（養生0.5日以上、室内配合）"},"種類:材料系\n改良対象土：泥土（コーン指数qc=100kN/m2程度、含水比100％程度）（第3種改良土（コーン指数400kN/m2以上）への改良）","×","×","○","×","×","○","○","×","○","○","○","×","×","×",{"$f":"HLOOKUP($C62,DB!$1:$1048576,9,0)","v":"-"},"A",2,{"$f":"VLOOKUP(AM62,条件!D:E,2,0)","v":1},"2021","0043",1,"4",{"$f":"VLOOKUP(LEFT(E62,2),条件!A:B,2,0)","v":"07"},212021004310407,34]
[{"$f":"IF(検索!$U$1=\"条件検索\", IF(X63=\"○\", COUNTIFS(X:X,\"○\",AV:AV,\"<\"&AV63)+1, \"-\"), IF(検索!$U$1=\"技術名検索\", IF(検索!$B$36=仕様の整理!E63, 仕様の整理!AV63, \"-\"), \"-\"))","v":"-"},60,"47-1","重金属不溶化材「グリーンライムMPシリーズ」","QS-210042-A","事後評価未実施技術","○","令和7年10月","材料系","-","-","フッ素（土壌溶出量8.0mg/L程度）を含有する土（土壌溶出量基準値0.8mg/L以下への改良）","フッ素による汚染地盤",{"$f":"HLOOKUP(C63,DB!$1:$1048576,29,0)","v":"セメント系固化材（六価クロム対応型）による特殊土の地盤改良"},{"$f":"HLOOKUP(C63,DB!$1:$1048576,48,0)","v":"無"},{"$f":"LEFT(HLOOKUP($C63,DB!$1:$1048576,58,0),1)","v":"-"},{"$f":"LEFT(HLOOKUP($C63,DB!$1:$1048576,59,0),1)","v":"△"},{"$f":"LEFT(HLOOKUP($C63,DB!$1:$1048576,60,0),1)","v":"-"},{"$f":"LEFT(HLOOKUP($C63,DB!$1:$1048576,61,0),1)","v":"○"},{"$f":"LEFT(HLOOKUP($C63,DB!$1:$1048576,62,0),1)","v":"○"},{"$f":"LEFT(HLOOKUP($C63,DB!$1:$1048576,63,0),1)","v":"○"},{"$f":"HLOOKUP(C63,DB!$1:$1048576,78,0)","v":"50kg/m3（養生3日、室内配合）"},"種類:材料系\n改良対象土：フッ素（土壌溶出量8.0mg/L程度）を含有する土（土壌溶出量基準値0.8mg/L以下への改良）","×","×","○","×","×","○","○","×","○","○","○","×","×","×",{"$f":"HLOOKUP($C63,DB!$1:$1048576,9,0)","v":"-"},"A",2,{"$f":"VLOOKUP(AM63,条件!D:E,2,0)","v":1},"2021","0042",1,"1",{"$f":"VLOOKUP(LEFT(E63,2),条件!A:B,2,0)","v":"01"},212021004210101,29]
[{"$f":"IF(検索!$U$1=\"条件検索\", IF(X64=\"○\", COUNTIFS(X:X,\"○\",AV:AV,\"<\"&AV64)+1, \"-\"), IF(検索!$U$1=\"技術名検索\", IF(検索!$B$36=仕様の整理!E64, 仕様の整理!AV64, \"-\"), \"-\"))","v":"-"},61,"47-2","重金属不溶化材「グリーンライムMPシリーズ」","QS-210042-A","事後評価未実施技術","○","令和7年10月","材料系","-","-","ヒ素（土壌溶出量0.1mg/L程度）を含有する土（土壌溶出量基準値0.01mg/L以下への改良）","ヒ素による汚染地盤",{"$f":"HLOOKUP(C64,DB!$1:$1048576,29,0)","v":"セメント系固化材（六価クロム対応型）による特殊土の地盤改良"},{"$f":"HLOOKUP(C64,DB!$1:$1048576,48,0)","v":"無"},{"$f":"LEFT(HLOOKUP($C64,DB!$1:$1048576,58,0),1)","v":"-"},{"$f":"LEFT(HLOOKUP($C64,DB!$1:$1048576,59,0),1)","v":"△"},{"$f":"LEFT(HLOOKUP($C64,DB!$1:$1048576,60,0),1)","v":"-"},{"$f":"LEFT(HLOOKUP($C64,DB!$1:$1048576,61,0),1)","v":"○"},{"$f":"LEFT(HLOOKUP($C64,DB!$1:$1048576,62,0),1)","v":"○"},{"$f":"LEFT(HLOOKUP($C64,DB!$1:$1048576,63,0),1)","v":"○"},{"$f":"HLOOKUP(C64,DB!$1:$1048576,78,0)","v":"50kg/m3（養生3日、室内配合）"},"種類:材料系\n改良対象土：ヒ素（土壌溶出量0.1mg/L程度）を含有する土（土壌溶出量基準値0.01mg/L以下への改良）","×","×","○","×","×","○","○","×","○","○","○","×","×","×",{"$f":"HLOOKUP($C64,DB!$1:$1048576,9,0)","v":"-"},"A",2,{"$f":"VLOOKUP(AM64,条件!D:E,2,0)","v":1},"2021","0042",1,"2",{"$f":"VLOOKUP(LEFT(E64,2),条件!A:B,2,0)","v":"01"},212021004210201,30]
[{"$f":"IF(検索!$U$1=\"条件検索\", IF(X65=\"○\", COUNTIFS(X:X,\"○\",AV:AV,\"<\"&AV65)+1, \"-\"), IF(検索!$U$1=\"技術名検索\", IF(検索!$B$36=仕様の整理!E65, 仕様の整理!AV65, \"-\"), \"-\"))","v":"-"},62,"51-1","重金属不溶化材スラリーTP-S","KK-230010-A","事後評価未実施技術","○","令和7年10月","材料系","-","-","フッ素（土壌溶出量8.0mg/L程度）を含有する土（土壌溶出量基準値0.8mg/L以下への改良）","フッ素による汚染地盤",{"$f":"HLOOKUP(C65,DB!$1:$1048576,29,0)","v":"セメント系固化材（六価クロム対応型）による特殊土の地盤改良"},{"$f":"HLOOKUP(C65,DB!$1:$1048576,48,0)","v":"無"},{"$f":"LEFT(HLOOKUP($C65,DB!$1:$1048576,58,0),1)","v":"-"},{"$f":"LEFT(HLOOKUP($C65,DB!$1:$1048576,59,0),1)","v":"○"},{"$f":"LEFT(HLOOKUP($C65,DB!$1:$1048576,60,0),1)","v":"-"},{"$f":"LEFT(HLOOKUP($C65,DB!$1:$1048576,61,0),1)","v":"-"},{"$f":"LEFT(HLOOKUP($C65,DB!$1:$1048576,62,0),1)","v":"△"},{"$f":"LEFT(HLOOKUP($C65,DB!$1:$1048576,63,0),1)","v":"○"},{"$f":"HLOOKUP(C65,DB!$1:$1048576,78,0)","v":"5kg/m3（養生0日、室内配合）"},"種類:材料系\n改良対象土：フッ素（土壌溶出量8.0mg/L程度）を含有する土（土壌溶出量基準値0.8mg/L以下への改良）","×","×","○","×","×","○","○","×","○","○","○","×","×","×",{"$f":"HLOOKUP($C65,DB!$1:$1048576,9,0)","v":"-"},"A",2,{"$f":"VLOOKUP(AM65,条件!D:E,2,0)","v":1},"2023","0010",1,"1",{"$f":"VLOOKUP(LEFT(E65,2),条件!A:B,2,0)","v":"04"},212023001010104,39]
[{"$f":"IF(検索!$U$1=\"条件検索\", IF(X66=\"○\", COUNTIFS(X:X,\"○\",AV:AV,\"<\"&AV66)+1, \"-\"), IF(検索!$U$1=\"技術名検索\", IF(検索!$B$36=仕様の整理!E66, 仕様の整理!AV66, \"-\"), \"-\"))","v":"-"},63,"51-2","重金属不溶化材スラリーTP-S","KK-230010-A","事後評価未実施技術","○","令和7年10月","材料系","-","-","ヒ素（土壌溶出量0.1mg/L程度）を含有する土（土壌溶出量基準値0.01mg/L以下への改良）","ヒ素による汚染地盤",{"$f":"HLOOKUP(C66,DB!$1:$1048576,29,0)","v":"セメント系固化材（六価クロム対応型）による特殊土の地盤改良"},{"$f":"HLOOKUP(C66,DB!$1:$1048576,48,0)","v":"無"},{"$f":"LEFT(HLOOKUP($C66,DB!$1:$1048576,58,0),1)","v":"-"},{"$f":"LEFT(HLOOKUP($C66,DB!$1:$1048576,59,0),1)","v":"○"},{"$f":"LEFT(HLOOKUP($C66,DB!$1:$1048576,60,0),1)","v":"-"},{"$f":"LEFT(HLOOKUP($C66,DB!$1:$1048576,61,0),1)","v":"-"},{"$f":"LEFT(HLOOKUP($C66,DB!$1:$1048576,62,0),1)","v":"△"},{"$f":"LEFT(HLOOKUP($C66,DB!$1:$1048576,63,0),1)","v":"○"},{"$f":"HLOOKUP(C66,DB!$1:$1048576,78,0)","v":"2kg/m3（養生0日、室内配合）"},"種類:材料系\n改良対象土：ヒ素（土壌溶出量0.1mg/L程度）を含有する土（土壌溶出量基準値0.01mg/L以下への改良）","×","×","○","×","×","○","○","×","○","○","○","×","×","×",{"$f":"HLOOKUP($C66,DB!$1:$1048576,9,0)","v":"-"},"A",2,{"$f":"VLOOKUP(AM66,条件!D:E,2,0)","v":1},"2023","0010",1,"2",{"$f":"VLOOKUP(LEFT(E66,2),条件!A:B,2,0)","v":"04"},212023001010204,40]
[{"$f":"IF(検索!$U$1=\"条件検索\", IF(X67=\"○\", COUNTIFS(X:X,\"○\",AV:AV,\"<\"&AV67)+1, \"-\"), IF(検索!$U$1=\"技術名検索\", IF(検索!$B$36=仕様の整理!E67, 仕様の整理!AV67, \"-\"), \"-\"))","v":"-"},64,"52-1","防塵タイプ中性土質改良材「セパットソイルSシリーズ」","KK-230021-A","事後評価未実施技術","○","令和7年10月","材料系","-","第4種建設発生土","第4種建設発生土（コーン指数qc=200kN/m2程度、含水比60％程度）（第3種改良土（コーン指数400kN/m2以上）への改良）","-",{"$f":"HLOOKUP(C67,DB!$1:$1048576,29,0)","v":"セメント系固化材（一般軟弱土用）による第4種建設発生土の地盤改良"},{"$f":"HLOOKUP(C67,DB!$1:$1048576,48,0)","v":"無"},{"$f":"LEFT(HLOOKUP($C67,DB!$1:$1048576,58,0),1)","v":"-"},{"$f":"LEFT(HLOOKUP($C67,DB!$1:$1048576,59,0),1)","v":"○"},{"$f":"LEFT(HLOOKUP($C67,DB!$1:$1048576,60,0),1)","v":"-"},{"$f":"LEFT(HLOOKUP($C67,DB!$1:$1048576,61,0),1)","v":"-"},{"$f":"LEFT(HLOOKUP($C67,DB!$1:$1048576,62,0),1)","v":"○"},{"$f":"LEFT(HLOOKUP($C67,DB!$1:$1048576,63,0),1)","v":"○"},{"$f":"HLOOKUP(C67,DB!$1:$1048576,78,0)","v":"20kg/m3（養生0日、含水比の低減効果なし）"},"種類:材料系\n改良対象土：第4種建設発生土（コーン指数qc=200kN/m2程度、含水比60％程度）（第3種改良土（コーン指数400kN/m2以上）への改良）",{"$f":"IF($Y$3=\"機械系\", IF(COUNTIF(Y67:AE67,\"○\")=6,\"○\",\"×\"), IF($Y$3=\"材料系\", IF(COUNTIF(Y67:AE67,\"○\")=6,\"○\",\"×\"), \"×\"))","v":"×"},"×",{"$f":"IF($Y$3=\"材料系\",\"×\",IF(Z$3=\"特に指定しない\",\"○\",IF(Z$3=J67,\"○\",\"×\")))","v":"○"},{"$f":"IF($Y$3=\"機械系\",\"×\",IF(AA$3=\"特に指定しない\",\"○\",IF(AA$3=N67,\"○\",\"×\")))","v":"×"},"○","○","○","×","○","○","○","×","×","×",{"$f":"HLOOKUP($C67,DB!$1:$1048576,9,0)","v":"-"},"A",2,{"$f":"VLOOKUP(AM67,条件!D:E,2,0)","v":1},"2023","0021",1,"1",{"$f":"VLOOKUP(LEFT(E67,2),条件!A:B,2,0)","v":"04"},212023002110104,41]
[{"$f":"IF(検索!$U$1=\"条件検索\", IF(X68=\"○\", COUNTIFS(X:X,\"○\",AV:AV,\"<\"&AV68)+1, \"-\"), IF(検索!$U$1=\"技術名検索\", IF(検索!$B$36=仕様の整理!E68, 仕様の整理!AV68, \"-\"), \"-\"))","v":"-"},65,"52-2","防塵タイプ中性土質改良材「セパットソイルSシリーズ」","KK-230021-A","事後評価未実施技術","○","令和7年10月","材料系","-","泥土","泥土（コーン指数qc=100kN/m2程度、含水比100％程度）（第3種改良土（コーン指数400kN/m2以上）への改良）","-",{"$f":"HLOOKUP(C68,DB!$1:$1048576,29,0)","v":"セメント系固化材（一般軟弱土用）による泥土の地盤改良"},{"$f":"HLOOKUP(C68,DB!$1:$1048576,48,0)","v":"無"},{"$f":"LEFT(HLOOKUP($C68,DB!$1:$1048576,58,0),1)","v":"-"},{"$f":"LEFT(HLOOKUP($C68,DB!$1:$1048576,59,0),1)","v":"○"},{"$f":"LEFT(HLOOKUP($C68,DB!$1:$1048576,60,0),1)","v":"-"},{"$f":"LEFT(HLOOKUP($C68,DB!$1:$1048576,61,0),1)","v":"-"},{"$f":"LEFT(HLOOKUP($C68,DB!$1:$1048576,62,0),1)","v":"○"},{"$f":"LEFT(HLOOKUP($C68,DB!$1:$1048576,63,0),1)","v":"○"},{"$f":"HLOOKUP(C68,DB!$1:$1048576,78,0)","v":"30kg/m3（養生0日、含水比の低減効果なし）"},{"$f":"$I$3&\":\"&I68&CHAR(10)&IF(I68=\"材料系\",$L$3&\"：\"&L68,IF(I68=\"機械系\",$J$3&\"：\"&J68&CHAR(10)&$V$3&\"：\"&V68&CHAR(10)&$L$3&\"：\"&L68))","v":"種類:材料系\n改良対象土：泥土（コーン指数qc=100kN/m2程度、含水比100％程度）（第3種改良土（コーン指数400kN/m2以上）への改良）"},"×",{"$f":"IF(Y$3=I68,\"○\",\"×\")","v":"×"},"○","×","×","○",{"$f":"IF(AD$3=\"特に指定しない\",\"○\",IF(AD$3=O68,\"○\",\"×\"))","v":"○"},{"$f":"IF(OR(AND(I68=\"機械系\", COUNTIF(AF68:AK68,\"○\")=3), AND(I68=\"材料系\", COUNTIF(AF68:AK68,\"○\")=4)), \"○\", \"×\")","v":"×"},"○","○","○","×","×","×",{"$f":"HLOOKUP($C68,DB!$1:$1048576,9,0)","v":"-"},"A",2,{"$f":"VLOOKUP(AM68,条件!D:E,2,0)","v":1},{"$f":"IFERROR(IF(VALUE(LEFT(MID(E68,FIND(\"-\",E68)+1,FIND(\"-\",E68,FIND(\"-\",E68)+1)-FIND(\"-\",E68)-1),2))>=90,\"19\"&LEFT(MID(E68,FIND(\"-\",E68)+1,FIND(\"-\",E68,FIND(\"-\",E68)+1)-FIND(\"-\",E68)-1),2),\"20\"&LEFT(MID(E68,FIND(\"-\",E68)+1,FIND(\"-\",E68,FIND(\"-\",E68)+1)-FIND(\"-\",E68)-1),2)),\"\")","v":"2023"},{"$f":"MID(E68, FIND(\"-\", E68) + 3, FIND(\"-\", E68, FIND(\"-\", E68) + 1) - FIND(\"-\", E68) - 3)","v":"0021"},{"$f":"IF(G68=\"\",2,1)","v":1},{"$f":"MID(C68,FIND(\"-\",C68)+1,LEN(C68))","v":"2"},{"$f":"VLOOKUP(LEFT(E68,2),条件!A:B,2,0)","v":"04"},212023002110204,{"$f":"_xlfn.RANK.EQ(AU68,AU:AU,1)","v":42}]
[{"$f":"IF(検索!$U$1=\"条件検索\", IF(X69=\"○\", COUNTIFS(X:X,\"○\",AV:AV,\"<\"&AV69)+1, \"-\"), IF(検索!$U$1=\"技術名検索\", IF(検索!$B$36=仕様の整理!E69, 仕様の整理!AV69, \"-\"), \"-\"))","v":"-"},66,"53-1","中性土壌改質剤アースレフォールシリーズ","KT-230185-A","事後評価未実施技術","○","令和7年12月","材料系","-","第4種建設発生土","第4種建設発生土（コーン指数qc=200kN/m2程度、含水比60％程度）（第3種改良土（コーン指数400kN/m2以上）への改良）","-",{"$f":"HLOOKUP(C69,DB!$1:$1048576,29,0)","v":"セメント系固化材（一般軟弱土用）による第4種建設発生土の地盤改良"},{"$f":"HLOOKUP(C69,DB!$1:$1048576,48,0)","v":"無"},{"$f":"LEFT(HLOOKUP($C69,DB!$1:$1048576,58,0),1)","v":"-"},{"$f":"LEFT(HLOOKUP($C69,DB!$1:$1048576,59,0),1)","v":"△"},{"$f":"LEFT(HLOOKUP($C69,DB!$1:$1048576,60,0),1)","v":"-"},{"$f":"LEFT(HLOOKUP($C69,DB!$1:$1048576,61,0),1)","v":"○"},{"$f":"LEFT(HLOOKUP($C69,DB!$1:$1048576,62,0),1)","v":"○"},{"$f":"LEFT(HLOOKUP($C69,DB!$1:$1048576,63,0),1)","v":"○"},{"$f":"HLOOKUP(C69,DB!$1:$1048576,78,0)","v":"30kg/m3（養生0日、室内配合）"},"種類:材料系\n改良対象土：第4種建設発生土（コーン指数qc=200kN/m2程度、含水比60％程度）（第3種改良土（コーン指数400kN/m2以上）への改良）","×","×","○","×",{"$f":"IF($AA$3=\"セメント系固化材（六価クロム対応型）による特殊土の地盤改良\",\"○\",IF(AB$3=K69,\"○\",\"×\"))","v":"○"},{"$f":"IF($AA$3<>\"セメント系固化材（六価クロム対応型）による特殊土の地盤改良\",\"○\",IF($AC$3=\"無し\",\"○\",IF(AC$3=M69,\"○\",\"×\")))","v":"○"},"○","×","○","○","○","×","×","×",{"$f":"HLOOKUP($C69,DB!$1:$1048576,9,0)","v":"-"},{"$f":"RIGHT($E69,LEN($E69)-FIND(\"-\",$E69,FIND(\"-\",$E69)+1))","v":"A"},{"$f":"IF(AND(AL69=\"◎\",AM69=\"A\"),1,2)","v":2},{"$f":"VLOOKUP(AM69,条件!D:E,2,0)","v":1},"2023","0185",1,"1",{"$f":"VLOOKUP(LEFT(E69,2),条件!A:B,2,0)","v":"07"},{"$f":"(AN69&AO69&AP69&AQ69&AR69&TEXT(AS69,\"00\")&AT69)*1","v":212023018510107},43]
[{"$f":"IF(検索!$U$1=\"条件検索\", IF(X70=\"○\", COUNTIFS(X:X,\"○\",AV:AV,\"<\"&AV70)+1, \"-\"), IF(検索!$U$1=\"技術名検索\", IF(検索!$B$36=仕様の整理!E70, 仕様の整理!AV70, \"-\"), \"-\"))","v":"-"},67,"53-2","中性土壌改質剤アースレフォールシリーズ","KT-230185-A","事後評価未実施技術","○","令和7年12月","材料系","-","泥土","泥土（コーン指数qc=100kN/m2程度、含水比100％程度）（第3種改良土（コーン指数400kN/m2以上）への改良）","-",{"$f":"HLOOKUP(C70,DB!$1:$1048576,29,0)","v":"セメント系固化材（一般軟弱土用）による泥土の地盤改良"},{"$f":"HLOOKUP(C70,DB!$1:$1048576,48,0)","v":"無"},{"$f":"LEFT(HLOOKUP($C70,DB!$1:$1048576,58,0),1)","v":"-"},{"$f":"LEFT(HLOOKUP($C70,DB!$1:$1048576,59,0),1)","v":"△"},{"$f":"LEFT(HLOOKUP($C70,DB!$1:$1048576,60,0),1)","v":"-"},{"$f":"LEFT(HLOOKUP($C70,DB!$1:$1048576,61,0),1)","v":"○"},{"$f":"LEFT(HLOOKUP($C70,DB!$1:$1048576,62,0),1)","v":"○"},{"$f":"LEFT(HLOOKUP($C70,DB!$1:$1048576,63,0),1)","v":"○"},{"$f":"HLOOKUP(C70,DB!$1:$1048576,78,0)","v":"50kg/m3（養生0日、室内配合）"},"種類:材料系\n改良対象土：泥土（コーン指数qc=100kN/m2程度、含水比100％程度）（第3種改良土（コーン指数400kN/m2以上）への改良）","×","×","○","×","×","○","○","×","○","○","○","×","×","×",{"$f":"HLOOKUP($C70,DB!$1:$1048576,9,0)","v":"-"},"A",2,{"$f":"VLOOKUP(AM70,条件!D:E,2,0)","v":1},"2023","0185",1,"2",{"$f":"VLOOKUP(LEFT(E70,2),条件!A:B,2,0)","v":"07"},212023018510207,44]
[{"$f":"IF(検索!$U$1=\"条件検索\", IF(X71=\"○\", COUNTIFS(X:X,\"○\",AV:AV,\"<\"&AV71)+1, \"-\"), IF(検索!$U$1=\"技術名検索\", IF(検索!$B$36=仕様の整理!E71, 仕様の整理!AV71, \"-\"), \"-\"))","v":"-"},68,"53-3","中性土壌改質剤アースレフォールシリーズ","KT-230185-A","事後評価未実施技術","○","令和7年12月","材料系","-","-","ヒ素（土壌溶出量0.1mg/L程度）を含有する土（土壌溶出量基準値0.01mg/L以下への改良）","ヒ素による汚染地盤",{"$f":"HLOOKUP(C71,DB!$1:$1048576,29,0)","v":"セメント系固化材（六価クロム対応型）による特殊土の地盤改良"},{"$f":"HLOOKUP(C71,DB!$1:$1048576,48,0)","v":"無"},{"$f":"LEFT(HLOOKUP($C71,DB!$1:$1048576,58,0),1)","v":"-"},{"$f":"LEFT(HLOOKUP($C71,DB!$1:$1048576,59,0),1)","v":"△"},{"$f":"LEFT(HLOOKUP($C71,DB!$1:$1048576,60,0),1)","v":"-"},{"$f":"LEFT(HLOOKUP($C71,DB!$1:$1048576,61,0),1)","v":"○"},{"$f":"LEFT(HLOOKUP($C71,DB!$1:$1048576,62,0),1)","v":"○"},{"$f":"LEFT(HLOOKUP($C71,DB!$1:$1048576,63,0),1)","v":"○"},{"$f":"HLOOKUP(C71,DB!$1:$1048576,78,0)","v":"45kg/m3（養生1日、室内配合）"},"種類:材料系\n改良対象土：ヒ素（土壌溶出量0.1mg/L程度）を含有する土（土壌溶出量基準値0.01mg/L以下への改良）","×","×","○","×","×","○","○","×",{"$f":"IF($Y$3=\"材料系\",\"×\",IF(COUNTIF($AF$3:$AK$3,\"✓\")=0,\"○\",IF(AF$3<>\"✓\",\"○\",IF(AND(AF$3=\"✓\",OR(AND($AE$3=\"優れている\",P71=\"○\"),AND($AE$3=\"同等以上\",OR(P71=\"○\",P71=\"△\")))),\"○\",\"×\"))))","v":"○"},{"$f":"IF($Y$3=\"材料系\",\"×\",IF(COUNTIF($AF$3:$AK$3,\"✓\")=0,\"○\",IF(AG$3<>\"✓\",\"○\",IF(AND(AG$3=\"✓\",OR(AND($AE$3=\"優れている\",Q71=\"○\"),AND($AE$3=\"同等以上\",OR(Q71=\"○\",Q71=\"△\")))),\"○\",\"×\"))))","v":"○"},{"$f":"IF(COUNTIF($AF$3:$AK$3,\"✓\")=0,\"○\",IF(AH$3<>\"✓\",\"○\",IF(AND(AH$3=\"✓\",OR(AND($AE$3=\"優れている\",R71=\"○\"),AND($AE$3=\"同等以上\",OR(R71=\"○\",R71=\"△\")))),\"○\",\"×\")))","v":"○"},{"$f":"IF($Y$3=\"機械系\",\"×\",IF(COUNTIF($AF$3:$AK$3,\"✓\")=0,\"○\",IF(AI$3<>\"✓\",\"○\",IF(AND(AI$3=\"✓\",OR(AND($AE$3=\"優れている\",S71=\"○\"),AND($AE$3=\"同等以上\",OR(S71=\"○\",S71=\"△\")))),\"○\",\"×\"))))","v":"×"},{"$f":"IF($Y$3=\"機械系\",\"×\",IF(COUNTIF($AF$3:$AK$3,\"✓\")=0,\"○\",IF(AJ$3<>\"✓\",\"○\",IF(AND(AJ$3=\"✓\",OR(AND($AE$3=\"優れている\",T71=\"○\"),AND($AE$3=\"同等以上\",OR(T71=\"○\",T71=\"△\")))),\"○\",\"×\"))))","v":"×"},{"$f":"IF($Y$3=\"機械系\",\"×\",IF(COUNTIF($AF$3:$AK$3,\"✓\")=0,\"○\",IF(AK$3<>\"✓\",\"○\",IF(AND(AK$3=\"✓\",OR(AND($AE$3=\"優れている\",U71=\"○\"),AND($AE$3=\"同等以上\",OR(U71=\"○\",U71=\"△\")))),\"○\",\"×\"))))","v":"×"},{"$f":"HLOOKUP($C71,DB!$1:$1048576,9,0)","v":"-"},"A",2,{"$f":"VLOOKUP(AM71,条件!D:E,2,0)","v":1},"2023","0185",1,"3",{"$f":"VLOOKUP(LEFT(E71,2),条件!A:B,2,0)","v":"07"},212023018510307,45]
[{"$f":"IF(検索!$U$1=\"条件検索\", IF(X72=\"○\", COUNTIFS(X:X,\"○\",AV:AV,\"<\"&AV72)+1, \"-\"), IF(検索!$U$1=\"技術名検索\", IF(検索!$B$36=仕様の整理!E72, 仕様の整理!AV72, \"-\"), \"-\"))","v":"-"},69,"54-1","泥土短期改質材「バサRaミクス」","TH-240004-A","事後評価未実施技術","○","令和7年12月","材料系","-","第4種建設発生土","第4種建設発生土（コーン指数qc=200kN/m2程度、含水比60％程度）（第3種改良土（コーン指数400kN/m2以上）への改良）","-",{"$f":"HLOOKUP(C72,DB!$1:$1048576,29,0)","v":"セメント系固化材（一般軟弱土用）による第4種建設発生土の地盤改良"},{"$f":"HLOOKUP(C72,DB!$1:$1048576,48,0)","v":"無"},{"$f":"LEFT(HLOOKUP($C72,DB!$1:$1048576,58,0),1)","v":"-"},{"$f":"LEFT(HLOOKUP($C72,DB!$1:$1048576,59,0),1)","v":"△"},{"$f":"LEFT(HLOOKUP($C72,DB!$1:$1048576,60,0),1)","v":"-"},{"$f":"LEFT(HLOOKUP($C72,DB!$1:$1048576,61,0),1)","v":"○"},{"$f":"LEFT(HLOOKUP($C72,DB!$1:$1048576,62,0),1)","v":"○"},{"$f":"LEFT(HLOOKUP($C72,DB!$1:$1048576,63,0),1)","v":"○"},{"$f":"HLOOKUP(C72,DB!$1:$1048576,78,0)","v":"150kg/m3（養生7日、室内配合）"},"種類:材料系\n改良対象土：第4種建設発生土（コーン指数qc=200kN/m2程度、含水比60％程度）（第3種改良土（コーン指数400kN/m2以上）への改良）","×","×","○","×","○","○","○","×","○","○","○","×","×","×",{"$f":"HLOOKUP($C72,DB!$1:$1048576,9,0)","v":"-"},"A",2,{"$f":"VLOOKUP(AM72,条件!D:E,2,0)","v":1},"2024","0004",1,"1",{"$f":"VLOOKUP(LEFT(E72,2),条件!A:B,2,0)","v":"08"},212024000410108,46]
[{"$f":"IF(検索!$U$1=\"条件検索\", IF(X73=\"○\", COUNTIFS(X:X,\"○\",AV:AV,\"<\"&AV73)+1, \"-\"), IF(検索!$U$1=\"技術名検索\", IF(検索!$B$36=仕様の整理!E73, 仕様の整理!AV73, \"-\"), \"-\"))","v":"-"},70,"54-2","泥土短期改質材「バサRaミクス」","TH-240004-A","事後評価未実施技術","○","令和7年12月","材料系","-","泥土","泥土（コーン指数qc=100kN/m2程度、含水比100％程度）（第3種改良土（コーン指数400kN/m2以上）への改良）","-",{"$f":"HLOOKUP(C73,DB!$1:$1048576,29,0)","v":"セメント系固化材（一般軟弱土用）による泥土の地盤改良"},{"$f":"HLOOKUP(C73,DB!$1:$1048576,48,0)","v":"無"},{"$f":"LEFT(HLOOKUP($C73,DB!$1:$1048576,58,0),1)","v":"-"},{"$f":"LEFT(HLOOKUP($C73,DB!$1:$1048576,59,0),1)","v":"△"},{"$f":"LEFT(HLOOKUP($C73,DB!$1:$1048576,60,0),1)","v":"-"},{"$f":"LEFT(HLOOKUP($C73,DB!$1:$1048576,61,0),1)","v":"○"},{"$f":"LEFT(HLOOKUP($C73,DB!$1:$1048576,62,0),1)","v":"○"},{"$f":"LEFT(HLOOKUP($C73,DB!$1:$1048576,63,0),1)","v":"○"},{"$f":"HLOOKUP(C73,DB!$1:$1048576,78,0)","v":"300kg/m3（養生7日、室内配合）"},"種類:材料系\n改良対象土：泥土（コーン指数qc=100kN/m2程度、含水比100％程度）（第3種改良土（コーン指数400kN/m2以上）への改良）","×","×","○","×","×","○","○","×","○","○","○","×","×","×",{"$f":"HLOOKUP($C73,DB!$1:$1048576,9,0)","v":"-"},"A",2,{"$f":"VLOOKUP(AM73,条件!D:E,2,0)","v":1},"2024","0004",1,"2",{"$f":"VLOOKUP(LEFT(E73,2),条件!A:B,2,0)","v":"08"},212024000410208,47]
[{"$f":"IF(検索!$U$1=\"条件検索\", IF(X74=\"○\", COUNTIFS(X:X,\"○\",AV:AV,\"<\"&AV74)+1, \"-\"), IF(検索!$U$1=\"技術名検索\", IF(検索!$B$36=仕様の整理!E74, 仕様の整理!AV74, \"-\"), \"-\"))","v":"-"},71,"55-1","土壌の中性固化材「グリーンライムNシリーズ」","KT-240091-A","事後評価未実施技術","○","令和7年12月","材料系","-","第4種建設発生土","第4種建設発生土（コーン指数qc=200kN/m2程度、含水比60％程度）（第3種改良土（コーン指数400kN/m2以上）への改良）","-",{"$f":"HLOOKUP(C74,DB!$1:$1048576,29,0)","v":"セメント系固化材（一般軟弱土用）による第4種建設発生土の地盤改良"},{"$f":"HLOOKUP(C74,DB!$1:$1048576,48,0)","v":"無"},{"$f":"LEFT(HLOOKUP($C74,DB!$1:$1048576,58,0),1)","v":"-"},{"$f":"LEFT(HLOOKUP($C74,DB!$1:$1048576,59,0),1)","v":"△"},{"$f":"LEFT(HLOOKUP($C74,DB!$1:$1048576,60,0),1)","v":"-"},{"$f":"LEFT(HLOOKUP($C74,DB!$1:$1048576,61,0),1)","v":"○"},{"$f":"LEFT(HLOOKUP($C74,DB!$1:$1048576,62,0),1)","v":"○"},{"$f":"LEFT(HLOOKUP($C74,DB!$1:$1048576,63,0),1)","v":"○"},{"$f":"HLOOKUP(C74,DB!$1:$1048576,78,0)","v":"80kg/m3（養生直後、室内配合）"},"種類:材料系\n改良対象土：第4種建設発生土（コーン指数qc=200kN/m2程度、含水比60％程度）（第3種改良土（コーン指数400kN/m2以上）への改良）","×","×","○","×","○","○","○","×","○","○","○","×","×","×",{"$f":"HLOOKUP($C74,DB!$1:$1048576,9,0)","v":"-"},"A",2,{"$f":"VLOOKUP(AM74,条件!D:E,2,0)","v":1},"2024","0091",1,"1",{"$f":"VLOOKUP(LEFT(E74,2),条件!A:B,2,0)","v":"07"},212024009110107,52]
[{"$f":"IF(検索!$U$1=\"条件検索\", IF(X75=\"○\", COUNTIFS(X:X,\"○\",AV:AV,\"<\"&AV75)+1, \"-\"), IF(検索!$U$1=\"技術名検索\", IF(検索!$B$36=仕様の整理!E75, 仕様の整理!AV75, \"-\"), \"-\"))","v":"-"},72,"55-2","土壌の中性固化材「グリーンライムNシリーズ」","KT-240091-A","事後評価未実施技術","○","令和7年12月","材料系","-","泥土","泥土（コーン指数qc=100kN/m2程度、含水比100％程度）（第3種改良土（コーン指数400kN/m2以上）への改良）","-",{"$f":"HLOOKUP(C75,DB!$1:$1048576,29,0)","v":"セメント系固化材（一般軟弱土用）による泥土の地盤改良"},{"$f":"HLOOKUP(C75,DB!$1:$1048576,48,0)","v":"無"},{"$f":"LEFT(HLOOKUP($C75,DB!$1:$1048576,58,0),1)","v":"-"},{"$f":"LEFT(HLOOKUP($C75,DB!$1:$1048576,59,0),1)","v":"△"},{"$f":"LEFT(HLOOKUP($C75,DB!$1:$1048576,60,0),1)","v":"-"},{"$f":"LEFT(HLOOKUP($C75,DB!$1:$1048576,61,0),1)","v":"○"},{"$f":"LEFT(HLOOKUP($C75,DB!$1:$1048576,62,0),1)","v":"○"},{"$f":"LEFT(HLOOKUP($C75,DB!$1:$1048576,63,0),1)","v":"○"},{"$f":"HLOOKUP(C75,DB!$1:$1048576,78,0)","v":"200kg/m3（養生直後、室内配合）"},"種類:材料系\n改良対象土：泥土（コーン指数qc=100kN/m2程度、含水比100％程度）（第3種改良土（コーン指数400kN/m2以上）への改良）","×","×","○","×","×","○","○","×","○","○","○","×","×","×",{"$f":"HLOOKUP($C75,DB!$1:$1048576,9,0)","v":"-"},"A",2,{"$f":"VLOOKUP(AM75,条件!D:E,2,0)","v":1},"2024","0091",1,"2",{"$f":"VLOOKUP(LEFT(E75,2),条件!A:B,2,0)","v":"07"},212024009110207,53]
[{"$f":"IF(検索!$U$1=\"条件検索\", IF(X76=\"○\", COUNTIFS(X:X,\"○\",AV:AV,\"<\"&AV76)+1, \"-\"), IF(検索!$U$1=\"技術名検索\", IF(検索!$B$36=仕様の整理!E76, 仕様の整理!AV76, \"-\"), \"-\"))","v":"-"},73,"55-3","土壌の中性固化材「グリーンライムNシリーズ」","KT-240091-A","事後評価未実施技術","○","令和7年12月","材料系","-","-","ヒ素（土壌溶出量0.1mg/L程度）を含有する土（土壌溶出量基準値0.01mg/L以下への改良）","ヒ素による汚染地盤",{"$f":"HLOOKUP(C76,DB!$1:$1048576,29,0)","v":"セメント系固化材（六価クロム対応型）による特殊土の地盤改良"},{"$f":"HLOOKUP(C76,DB!$1:$1048576,48,0)","v":"無"},{"$f":"LEFT(HLOOKUP($C76,DB!$1:$1048576,58,0),1)","v":"-"},{"$f":"LEFT(HLOOKUP($C76,DB!$1:$1048576,59,0),1)","v":"△"},{"$f":"LEFT(HLOOKUP($C76,DB!$1:$1048576,60,0),1)","v":"-"},{"$f":"LEFT(HLOOKUP($C76,DB!$1:$1048576,61,0),1)","v":"○"},{"$f":"LEFT(HLOOKUP($C76,DB!$1:$1048576,62,0),1)","v":"○"},{"$f":"LEFT(HLOOKUP($C76,DB!$1:$1048576,63,0),1)","v":"○"},{"$f":"HLOOKUP(C76,DB!$1:$1048576,78,0)","v":"100kg/m3（養生3日、室内配合）"},"種類:材料系\n改良対象土：ヒ素（土壌溶出量0.1mg/L程度）を含有する土（土壌溶出量基準値0.01mg/L以下への改良）","×","×","○","×","×","○","○","×","○","○","○","×","×","×",{"$f":"HLOOKUP($C76,DB!$1:$1048576,9,0)","v":"-"},"A",2,{"$f":"VLOOKUP(AM76,条件!D:E,2,0)","v":1},"2024","0091",1,"3",{"$f":"VLOOKUP(LEFT(E76,2),条件!A:B,2,0)","v":"07"},212024009110307,54]
[{"$f":"IF(検索!$U$1=\"条件検索\", IF(X77=\"○\", COUNTIFS(X:X,\"○\",AV:AV,\"<\"&AV77)+1, \"-\"), IF(検索!$U$1=\"技術名検索\", IF(検索!$B$36=仕様の整理!E77, 仕様の整理!AV77, \"-\"), \"-\"))","v":"-"},74,"55-4","土壌の中性固化材「グリーンライムNシリーズ」","KT-240091-A","事後評価未実施技術","○","令和7年12月","材料系","-","第4種建設発生土","第4種建設発生土（コーン指数qc=200kN/m2程度、含水比60％程度）（第3種改良土（コーン指数400kN/m2以上）への改良）","-",{"$f":"HLOOKUP(C77,DB!$1:$1048576,29,0)","v":"石灰系固化材（生石灰）による第4種建設発生土の地盤改良"},{"$f":"HLOOKUP(C77,DB!$1:$1048576,48,0)","v":"無"},{"$f":"LEFT(HLOOKUP($C77,DB!$1:$1048576,58,0),1)","v":"-"},{"$f":"LEFT(HLOOKUP($C77,DB!$1:$1048576,59,0),1)","v":"△"},{"$f":"LEFT(HLOOKUP($C77,DB!$1:$1048576,60,0),1)","v":"-"},{"$f":"LEFT(HLOOKUP($C77,DB!$1:$1048576,61,0),1)","v":"○"},{"$f":"LEFT(HLOOKUP($C77,DB!$1:$1048576,62,0),1)","v":"○"},{"$f":"LEFT(HLOOKUP($C77,DB!$1:$1048576,63,0),1)","v":"○"},{"$f":"HLOOKUP(C77,DB!$1:$1048576,78,0)","v":"80kg/m3（養生直後、室内配合）"},"種類:材料系\n改良対象土：第4種建設発生土（コーン指数qc=200kN/m2程度、含水比60％程度）（第3種改良土（コーン指数400kN/m2以上）への改良）","×","×","○","×","○","○","○","×","○","○","○","×","×","×",{"$f":"HLOOKUP($C77,DB!$1:$1048576,9,0)","v":"-"},"A",2,{"$f":"VLOOKUP(AM77,条件!D:E,2,0)","v":1},"2024","0091",1,"4",{"$f":"VLOOKUP(LEFT(E77,2),条件!A:B,2,0)","v":"07"},212024009110407,55]
[{"$f":"IF(検索!$U$1=\"条件検索\", IF(X78=\"○\", COUNTIFS(X:X,\"○\",AV:AV,\"<\"&AV78)+1, \"-\"), IF(検索!$U$1=\"技術名検索\", IF(検索!$B$36=仕様の整理!E78, 仕様の整理!AV78, \"-\"), \"-\"))","v":"-"},75,"55-5","土壌の中性固化材「グリーンライムNシリーズ」","KT-240091-A","事後評価未実施技術","○","令和7年12月","材料系","-","泥土","泥土（コーン指数qc=100kN/m2程度、含水比100％程度）（第3種改良土（コーン指数400kN/m2以上）への改良）","-",{"$f":"HLOOKUP(C78,DB!$1:$1048576,29,0)","v":"石灰系固化材（生石灰）による泥土の地盤改良"},{"$f":"HLOOKUP(C78,DB!$1:$1048576,48,0)","v":"無"},{"$f":"LEFT(HLOOKUP($C78,DB!$1:$1048576,58,0),1)","v":"-"},{"$f":"LEFT(HLOOKUP($C78,DB!$1:$1048576,59,0),1)","v":"△"},{"$f":"LEFT(HLOOKUP($C78,DB!$1:$1048576,60,0),1)","v":"-"},{"$f":"LEFT(HLOOKUP($C78,DB!$1:$1048576,61,0),1)","v":"○"},{"$f":"LEFT(HLOOKUP($C78,DB!$1:$1048576,62,0),1)","v":"○"},{"$f":"LEFT(HLOOKUP($C78,DB!$1:$1048576,63,0),1)","v":"○"},{"$f":"HLOOKUP(C78,DB!$1:$1048576,78,0)","v":"200kg/m3（養生直後、室内配合）"},"種類:材料系\n改良対象土：泥土（コーン指数qc=100kN/m2程度、含水比100％程度）（第3種改良土（コーン指数400kN/m2以上）への改良）","×","×","○","×","×","○","○","×","○","○","○","×","×","×",{"$f":"HLOOKUP($C78,DB!$1:$1048576,9,0)","v":"-"},"A",2,{"$f":"VLOOKUP(AM78,条件!D:E,2,0)","v":1},"2024","0091",1,"5",{"$f":"VLOOKUP(LEFT(E78,2),条件!A:B,2,0)","v":"07"},212024009110507,56]
[{"$f":"IF(検索!$U$1=\"条件検索\", IF(X79=\"○\", COUNTIFS(X:X,\"○\",AV:AV,\"<\"&AV79)+1, \"-\"), IF(検索!$U$1=\"技術名検索\", IF(検索!$B$36=仕様の整理!E79, 仕様の整理!AV79, \"-\"), \"-\"))","v":"-"},76,"56-1","土壌改良固化材「ハーデンＬ」","TH-240014-A","事後評価未実施技術","○","令和7年12月","材料系","-","第4種建設発生土","第4種建設発生土（コーン指数qc=200kN/m2程度、含水比60％程度）（第3種改良土（コーン指数400kN/m2以上）への改良）","-",{"$f":"HLOOKUP(C79,DB!$1:$1048576,29,0)","v":"セメント系固化材（一般軟弱土用）による第4種建設発生土の地盤改良"},{"$f":"HLOOKUP(C79,DB!$1:$1048576,48,0)","v":"無"},{"$f":"LEFT(HLOOKUP($C79,DB!$1:$1048576,58,0),1)","v":"-"},{"$f":"LEFT(HLOOKUP($C79,DB!$1:$1048576,59,0),1)","v":"△"},{"$f":"LEFT(HLOOKUP($C79,DB!$1:$1048576,60,0),1)","v":"-"},{"$f":"LEFT(HLOOKUP($C79,DB!$1:$1048576,61,0),1)","v":"○"},{"$f":"LEFT(HLOOKUP($C79,DB!$1:$1048576,62,0),1)","v":"○"},{"$f":"LEFT(HLOOKUP($C79,DB!$1:$1048576,63,0),1)","v":"○"},{"$f":"HLOOKUP(C79,DB!$1:$1048576,78,0)","v":"60kg/m3（養生7、室内配合）"},"種類:材料系\n改良対象土：第4種建設発生土（コーン指数qc=200kN/m2程度、含水比60％程度）（第3種改良土（コーン指数400kN/m2以上）への改良）","×","×","○","×","○","○","○","×","○","○","○","×","×","×",{"$f":"HLOOKUP($C79,DB!$1:$1048576,9,0)","v":"-"},"A",2,{"$f":"VLOOKUP(AM79,条件!D:E,2,0)","v":1},"2024","0014",1,"1",{"$f":"VLOOKUP(LEFT(E79,2),条件!A:B,2,0)","v":"08"},212024001410108,48]
[{"$f":"IF(検索!$U$1=\"条件検索\", IF(X80=\"○\", COUNTIFS(X:X,\"○\",AV:AV,\"<\"&AV80)+1, \"-\"), IF(検索!$U$1=\"技術名検索\", IF(検索!$B$36=仕様の整理!E80, 仕様の整理!AV80, \"-\"), \"-\"))","v":"-"},77,"56-2","土壌改良固化材「ハーデンＬ」","TH-240014-A","事後評価未実施技術","○","令和7年12月","材料系","-","泥土","泥土（コーン指数qc=100kN/m2程度、含水比100％程度）（第3種改良土（コーン指数400kN/m2以上）への改良）","-",{"$f":"HLOOKUP(C80,DB!$1:$1048576,29,0)","v":"セメント系固化材（一般軟弱土用）による泥土の地盤改良"},{"$f":"HLOOKUP(C80,DB!$1:$1048576,48,0)","v":"無"},{"$f":"LEFT(HLOOKUP($C80,DB!$1:$1048576,58,0),1)","v":"-"},{"$f":"LEFT(HLOOKUP($C80,DB!$1:$1048576,59,0),1)","v":"△"},{"$f":"LEFT(HLOOKUP($C80,DB!$1:$1048576,60,0),1)","v":"-"},{"$f":"LEFT(HLOOKUP($C80,DB!$1:$1048576,61,0),1)","v":"○"},{"$f":"LEFT(HLOOKUP($C80,DB!$1:$1048576,62,0),1)","v":"○"},{"$f":"LEFT(HLOOKUP($C80,DB!$1:$1048576,63,0),1)","v":"○"},{"$f":"HLOOKUP(C80,DB!$1:$1048576,78,0)","v":"80kg/m3（養生7、室内配合）"},"種類:材料系\n改良対象土：泥土（コーン指数qc=100kN/m2程度、含水比100％程度）（第3種改良土（コーン指数400kN/m2以上）への改良）","×","×","○","×","×","○","○","×","○","○","○","×","×","×",{"$f":"HLOOKUP($C80,DB!$1:$1048576,9,0)","v":"-"},"A",2,{"$f":"VLOOKUP(AM80,条件!D:E,2,0)","v":1},"2024","0014",1,"2",{"$f":"VLOOKUP(LEFT(E80,2),条件!A:B,2,0)","v":"08"},212024001410208,49]
[{"$f":"IF(検索!$U$1=\"条件検索\", IF(X81=\"○\", COUNTIFS(X:X,\"○\",AV:AV,\"<\"&AV81)+1, \"-\"), IF(検索!$U$1=\"技術名検索\", IF(検索!$B$36=仕様の整理!E81, 仕様の整理!AV81, \"-\"), \"-\"))","v":"-"},78,"56-3","土壌改良固化材「ハーデンＬ」","TH-240014-A","事後評価未実施技術","○","令和7年12月","材料系","-","第4種建設発生土","第4種建設発生土（コーン指数qc=200kN/m2程度、含水比60％程度）（第3種改良土（コーン指数400kN/m2以上）への改良）","-",{"$f":"HLOOKUP(C81,DB!$1:$1048576,29,0)","v":"石灰系固化材（生石灰）による第4種建設発生土の地盤改良"},{"$f":"HLOOKUP(C81,DB!$1:$1048576,48,0)","v":"無"},{"$f":"LEFT(HLOOKUP($C81,DB!$1:$1048576,58,0),1)","v":"-"},{"$f":"LEFT(HLOOKUP($C81,DB!$1:$1048576,59,0),1)","v":"△"},{"$f":"LEFT(HLOOKUP($C81,DB!$1:$1048576,60,0),1)","v":"-"},{"$f":"LEFT(HLOOKUP($C81,DB!$1:$1048576,61,0),1)","v":"○"},{"$f":"LEFT(HLOOKUP($C81,DB!$1:$1048576,62,0),1)","v":"○"},{"$f":"LEFT(HLOOKUP($C81,DB!$1:$1048576,63,0),1)","v":"○"},{"$f":"HLOOKUP(C81,DB!$1:$1048576,78,0)","v":"60kg/m3（養生7、室内配合）"},"種類:材料系\n改良対象土：第4種建設発生土（コーン指数qc=200kN/m2程度、含水比60％程度）（第3種改良土（コーン指数400kN/m2以上）への改良）","×","×","○","×","○","○","○","×","○","○","○","×","×","×",{"$f":"HLOOKUP($C81,DB!$1:$1048576,9,0)","v":"-"},"A",2,{"$f":"VLOOKUP(AM81,条件!D:E,2,0)","v":1},"2024","0014",1,"3",{"$f":"VLOOKUP(LEFT(E81,2),条件!A:B,2,0)","v":"08"},212024001410308,50]
[{"$f":"IF(検索!$U$1=\"条件検索\", IF(X82=\"○\", COUNTIFS(X:X,\"○\",AV:AV,\"<\"&AV82)+1, \"-\"), IF(検索!$U$1=\"技術名検索\", IF(検索!$B$36=仕様の整理!E82, 仕様の整理!AV82, \"-\"), \"-\"))","v":"-"},79,"56-4","土壌改良固化材「ハーデンＬ」","TH-240014-A","事後評価未実施技術","○","令和7年12月","材料系","-","泥土","泥土（コーン指数qc=100kN/m2程度、含水比100％程度）（第3種改良土（コーン指数400kN/m2以上）への改良）","-",{"$f":"HLOOKUP(C82,DB!$1:$1048576,29,0)","v":"石灰系固化材（生石灰）による泥土の地盤改良"},{"$f":"HLOOKUP(C82,DB!$1:$1048576,48,0)","v":"無"},{"$f":"LEFT(HLOOKUP($C82,DB!$1:$1048576,58,0),1)","v":"-"},{"$f":"LEFT(HLOOKUP($C82,DB!$1:$1048576,59,0),1)","v":"△"},{"$f":"LEFT(HLOOKUP($C82,DB!$1:$1048576,60,0),1)","v":"-"},{"$f":"LEFT(HLOOKUP($C82,DB!$1:$1048576,61,0),1)","v":"○"},{"$f":"LEFT(HLOOKUP($C82,DB!$1:$1048576,62,0),1)","v":"○"},{"$f":"LEFT(HLOOKUP($C82,DB!$1:$1048576,63,0),1)","v":"○"},{"$f":"HLOOKUP(C82,DB!$1:$1048576,78,0)","v":"80kg/m3（養生7、室内配合）"},"種類:材料系\n改良対象土：泥土（コーン指数qc=100kN/m2程度、含水比100％程度）（第3種改良土（コーン指数400kN/m2以上）への改良）","×","×","○","×","×","○","○","×","○","○","○","×","×","×",{"$f":"HLOOKUP($C82,DB!$1:$1048576,9,0)","v":"-"},"A",2,{"$f":"VLOOKUP(AM82,条件!D:E,2,0)","v":1},"2024","0014",1,"4",{"$f":"VLOOKUP(LEFT(E82,2),条件!A:B,2,0)","v":"08"},212024001410408,51]
[{"$f":"IF(検索!$U$1=\"条件検索\", IF(X83=\"○\", COUNTIFS(X:X,\"○\",AV:AV,\"<\"&AV83)+1, \"-\"), IF(検索!$U$1=\"技術名検索\", IF(検索!$B$36=仕様の整理!E83, 仕様の整理!AV83, \"-\"), \"-\"))","v":"-"},80,"57-1","土壌改良粉末中性固化剤「CS-1シリーズ」","KT-240137-A","事後評価未実施技術",null,"令和6年12月","材料系","-","第4種建設発生土","第4種建設発生土（コーン指数qc=200kN/m2程度、含水比60％程度）（第3種改良土（コーン指数400kN/m2以上）への改良）","-",{"$f":"HLOOKUP(C83,DB!$1:$1048576,29,0)","v":"-"},{"$f":"HLOOKUP(C83,DB!$1:$1048576,48,0)","v":"／"},{"$f":"LEFT(HLOOKUP($C83,DB!$1:$1048576,58,0),1)","v":"／"},{"$f":"LEFT(HLOOKUP($C83,DB!$1:$1048576,59,0),1)","v":"／"},{"$f":"LEFT(HLOOKUP($C83,DB!$1:$1048576,60,0),1)","v":"／"},{"$f":"LEFT(HLOOKUP($C83,DB!$1:$1048576,61,0),1)","v":"／"},{"$f":"LEFT(HLOOKUP($C83,DB!$1:$1048576,62,0),1)","v":"／"},{"$f":"LEFT(HLOOKUP($C83,DB!$1:$1048576,63,0),1)","v":"／"},{"$f":"HLOOKUP(C83,DB!$1:$1048576,78,0)","v":"／"},"種類:材料系\n改良対象土：第4種建設発生土（コーン指数qc=200kN/m2程度、含水比60％程度）（第3種改良土（コーン指数400kN/m2以上）への改良）","×","×","○","×","○","○","○","×","○","○","○","×","×","×",{"$f":"HLOOKUP($C83,DB!$1:$1048576,9,0)","v":"-"},"A",2,{"$f":"VLOOKUP(AM83,条件!D:E,2,0)","v":1},"2024","0137",2,"1",{"$f":"VLOOKUP(LEFT(E83,2),条件!A:B,2,0)","v":"07"},212024013720107,57]
[{"$f":"IF(検索!$U$1=\"条件検索\", IF(X84=\"○\", COUNTIFS(X:X,\"○\",AV:AV,\"<\"&AV84)+1, \"-\"), IF(検索!$U$1=\"技術名検索\", IF(検索!$B$36=仕様の整理!E84, 仕様の整理!AV84, \"-\"), \"-\"))","v":"-"},81,"57-2","土壌改良粉末中性固化剤「CS-1シリーズ」","KT-240137-A","事後評価未実施技術",null,"令和6年12月","材料系","-","泥土","泥土（コーン指数qc=100kN/m2程度、含水比100％程度）（第3種改良土（コーン指数400kN/m2以上）への改良）","-",{"$f":"HLOOKUP(C84,DB!$1:$1048576,29,0)","v":"-"},{"$f":"HLOOKUP(C84,DB!$1:$1048576,48,0)","v":"／"},{"$f":"LEFT(HLOOKUP($C84,DB!$1:$1048576,58,0),1)","v":"／"},{"$f":"LEFT(HLOOKUP($C84,DB!$1:$1048576,59,0),1)","v":"／"},{"$f":"LEFT(HLOOKUP($C84,DB!$1:$1048576,60,0),1)","v":"／"},{"$f":"LEFT(HLOOKUP($C84,DB!$1:$1048576,61,0),1)","v":"／"},{"$f":"LEFT(HLOOKUP($C84,DB!$1:$1048576,62,0),1)","v":"／"},{"$f":"LEFT(HLOOKUP($C84,DB!$1:$1048576,63,0),1)","v":"／"},{"$f":"HLOOKUP(C84,DB!$1:$1048576,78,0)","v":"／"},"種類:材料系\n改良対象土：泥土（コーン指数qc=100kN/m2程度、含水比100％程度）（第3種改良土（コーン指数400kN/m2以上）への改良）","×","×","○","×","×","○","○","×","○","○","○","×","×","×",{"$f":"HLOOKUP($C84,DB!$1:$1048576,9,0)","v":"-"},"A",2,{"$f":"VLOOKUP(AM84,条件!D:E,2,0)","v":1},"2024","0137",2,"2",{"$f":"VLOOKUP(LEFT(E84,2),条件!A:B,2,0)","v":"07"},212024013720207,58]
[{"$f":"IF(検索!$U$1=\"条件検索\", IF(X85=\"○\", COUNTIFS(X:X,\"○\",AV:AV,\"<\"&AV85)+1, \"-\"), IF(検索!$U$1=\"技術名検索\", IF(検索!$B$36=仕様の整理!E85, 仕様の整理!AV85, \"-\"), \"-\"))","v":"-"},82,"57-3","土壌改良粉末中性固化剤「CS-1シリーズ」","KT-240137-A","事後評価未実施技術",null,"令和6年12月","材料系","-","第4種建設発生土","第4種建設発生土（コーン指数qc=200kN/m2程度、含水比60％程度）（第3種改良土（コーン指数400kN/m2以上）への改良）","-",{"$f":"HLOOKUP(C85,DB!$1:$1048576,29,0)","v":"-"},{"$f":"HLOOKUP(C85,DB!$1:$1048576,48,0)","v":"／"},{"$f":"LEFT(HLOOKUP($C85,DB!$1:$1048576,58,0),1)","v":"／"},{"$f":"LEFT(HLOOKUP($C85,DB!$1:$1048576,59,0),1)","v":"／"},{"$f":"LEFT(HLOOKUP($C85,DB!$1:$1048576,60,0),1)","v":"／"},{"$f":"LEFT(HLOOKUP($C85,DB!$1:$1048576,61,0),1)","v":"／"},{"$f":"LEFT(HLOOKUP($C85,DB!$1:$1048576,62,0),1)","v":"／"},{"$f":"LEFT(HLOOKUP($C85,DB!$1:$1048576,63,0),1)","v":"／"},{"$f":"HLOOKUP(C85,DB!$1:$1048576,78,0)","v":"／"},"種類:材料系\n改良対象土：第4種建設発生土（コーン指数qc=200kN/m2程度、含水比60％程度）（第3種改良土（コーン指数400kN/m2以上）への改良）","×","×","○","×","○","○","○","×","○","○","○","×","×","×",{"$f":"HLOOKUP($C85,DB!$1:$1048576,9,0)","v":"-"},"A",2,{"$f":"VLOOKUP(AM85,条件!D:E,2,0)","v":1},"2024","0137",2,"3",{"$f":"VLOOKUP(LEFT(E85,2),条件!A:B,2,0)","v":"07"},212024013720307,59]
[{"$f":"IF(検索!$U$1=\"条件検索\", IF(X86=\"○\", COUNTIFS(X:X,\"○\",AV:AV,\"<\"&AV86)+1, \"-\"), IF(検索!$U$1=\"技術名検索\", IF(検索!$B$36=仕様の整理!E86, 仕様の整理!AV86, \"-\"), \"-\"))","v":"-"},83,"57-4","土壌改良粉末中性固化剤「CS-1シリーズ」","KT-240137-A","事後評価未実施技術",null,"令和6年12月","材料系","-","泥土","泥土（コーン指数qc=100kN/m2程度、含水比100％程度）（第3種改良土（コーン指数400kN/m2以上）への改良）","-",{"$f":"HLOOKUP(C86,DB!$1:$1048576,29,0)","v":"-"},{"$f":"HLOOKUP(C86,DB!$1:$1048576,48,0)","v":"／"},{"$f":"LEFT(HLOOKUP($C86,DB!$1:$1048576,58,0),1)","v":"／"},{"$f":"LEFT(HLOOKUP($C86,DB!$1:$1048576,59,0),1)","v":"／"},{"$f":"LEFT(HLOOKUP($C86,DB!$1:$1048576,60,0),1)","v":"／"},{"$f":"LEFT(HLOOKUP($C86,DB!$1:$1048576,61,0),1)","v":"／"},{"$f":"LEFT(HLOOKUP($C86,DB!$1:$1048576,62,0),1)","v":"／"},{"$f":"LEFT(HLOOKUP($C86,DB!$1:$1048576,63,0),1)","v":"／"},{"$f":"HLOOKUP(C86,DB!$1:$1048576,78,0)","v":"／"},"種類:材料系\n改良対象土：泥土（コーン指数qc=100kN/m2程度、含水比100％程度）（第3種改良土（コーン指数400kN/m2以上）への改良）","×","×","○","×","×","○","○","×","○","○","○","×","×","×",{"$f":"HLOOKUP($C86,DB!$1:$1048576,9,0)","v":"-"},"A",2,{"$f":"VLOOKUP(AM86,条件!D:E,2,0)","v":1},"2024","0137",2,"4",{"$f":"VLOOKUP(LEFT(E86,2),条件!A:B,2,0)","v":"07"},212024013720407,60]
[{"$f":"IF(検索!$U$1=\"条件検索\", IF(X87=\"○\", COUNTIFS(X:X,\"○\",AV:AV,\"<\"&AV87)+1, \"-\"), IF(検索!$U$1=\"技術名検索\", IF(検索!$B$36=仕様の整理!E87, 仕様の整理!AV87, \"-\"), \"-\"))","v":"-"},84,"57-5","土壌改良粉末中性固化剤「CS-1シリーズ」","KT-240137-A","事後評価未実施技術",null,"令和6年12月","材料系","-","-","フッ素（土壌溶出量8.0mg/L程度）を含有する土（土壌溶出量基準値0.8mg/L以下への改良）","フッ素による汚染地盤",{"$f":"HLOOKUP(C87,DB!$1:$1048576,29,0)","v":"-"},{"$f":"HLOOKUP(C87,DB!$1:$1048576,48,0)","v":"／"},{"$f":"LEFT(HLOOKUP($C87,DB!$1:$1048576,58,0),1)","v":"／"},{"$f":"LEFT(HLOOKUP($C87,DB!$1:$1048576,59,0),1)","v":"／"},{"$f":"LEFT(HLOOKUP($C87,DB!$1:$1048576,60,0),1)","v":"／"},{"$f":"LEFT(HLOOKUP($C87,DB!$1:$1048576,61,0),1)","v":"／"},{"$f":"LEFT(HLOOKUP($C87,DB!$1:$1048576,62,0),1)","v":"／"},{"$f":"LEFT(HLOOKUP($C87,DB!$1:$1048576,63,0),1)","v":"／"},{"$f":"HLOOKUP(C87,DB!$1:$1048576,78,0)","v":"／"},"種類:材料系\n改良対象土：フッ素（土壌溶出量8.0mg/L程度）を含有する土（土壌溶出量基準値0.8mg/L以下への改良）","×","×","○","×","×","○","○","×","○","○","○","×","×","×",{"$f":"HLOOKUP($C87,DB!$1:$1048576,9,0)","v":"-"},"A",2,{"$f":"VLOOKUP(AM87,条件!D:E,2,0)","v":1},"2024","0137",2,"5",{"$f":"VLOOKUP(LEFT(E87,2),条件!A:B,2,0)","v":"07"},212024013720507,61]
[{"$f":"IF(検索!$U$1=\"条件検索\", IF(X88=\"○\", COUNTIFS(X:X,\"○\",AV:AV,\"<\"&AV88)+1, \"-\"), IF(検索!$U$1=\"技術名検索\", IF(検索!$B$36=仕様の整理!E88, 仕様の整理!AV88, \"-\"), \"-\"))","v":"-"},85,"57-6","土壌改良粉末中性固化剤「CS-1シリーズ」","KT-240137-A","事後評価未実施技術",null,"令和6年12月","材料系","-","-","ヒ素（土壌溶出量0.1mg/L程度）を含有する土（土壌溶出量基準値0.01mg/L以下への改良）","ヒ素による汚染地盤",{"$f":"HLOOKUP(C88,DB!$1:$1048576,29,0)","v":"-"},{"$f":"HLOOKUP(C88,DB!$1:$1048576,48,0)","v":"／"},{"$f":"LEFT(HLOOKUP($C88,DB!$1:$1048576,58,0),1)","v":"／"},{"$f":"LEFT(HLOOKUP($C88,DB!$1:$1048576,59,0),1)","v":"／"},{"$f":"LEFT(HLOOKUP($C88,DB!$1:$1048576,60,0),1)","v":"／"},{"$f":"LEFT(HLOOKUP($C88,DB!$1:$1048576,61,0),1)","v":"／"},{"$f":"LEFT(HLOOKUP($C88,DB!$1:$1048576,62,0),1)","v":"／"},{"$f":"LEFT(HLOOKUP($C88,DB!$1:$1048576,63,0),1)","v":"／"},{"$f":"HLOOKUP(C88,DB!$1:$1048576,78,0)","v":"／"},"種類:材料系\n改良対象土：ヒ素（土壌溶出量0.1mg/L程度）を含有する土（土壌溶出量基準値0.01mg/L以下への改良）","×","×","○","×","×","○","○","×","○","○","○","×","×","×",{"$f":"HLOOKUP($C88,DB!$1:$1048576,9,0)","v":"-"},"A",2,{"$f":"VLOOKUP(AM88,条件!D:E,2,0)","v":1},"2024","0137",2,"6",{"$f":"VLOOKUP(LEFT(E88,2),条件!A:B,2,0)","v":"07"},212024013720607,62]
[{"$f":"IF(検索!$U$1=\"条件検索\", IF(X89=\"○\", COUNTIFS(X:X,\"○\",AV:AV,\"<\"&AV89)+1, \"-\"), IF(検索!$U$1=\"技術名検索\", IF(検索!$B$36=仕様の整理!E89, 仕様の整理!AV89, \"-\"), \"-\"))","v":"-"},86,"58-1","天然植物及び鉱物性由来セメント系固化材「オプスコン」","TH-250017-A","事後評価未実施技術",null,"令和7年10月","材料系","-","第4種建設発生土","第4種建設発生土（コーン指数qc=200kN/m2程度、含水比60％程度）（第3種改良土（コーン指数400kN/m2以上）への改良）","-",{"$f":"HLOOKUP(C89,DB!$1:$1048576,29,0)","v":"-"},{"$f":"HLOOKUP(C89,DB!$1:$1048576,48,0)","v":"／"},{"$f":"LEFT(HLOOKUP($C89,DB!$1:$1048576,58,0),1)","v":"／"},{"$f":"LEFT(HLOOKUP($C89,DB!$1:$1048576,59,0),1)","v":"／"},{"$f":"LEFT(HLOOKUP($C89,DB!$1:$1048576,60,0),1)","v":"／"},{"$f":"LEFT(HLOOKUP($C89,DB!$1:$1048576,61,0),1)","v":"／"},{"$f":"LEFT(HLOOKUP($C89,DB!$1:$1048576,62,0),1)","v":"／"},{"$f":"LEFT(HLOOKUP($C89,DB!$1:$1048576,63,0),1)","v":"／"},{"$f":"HLOOKUP(C89,DB!$1:$1048576,78,0)","v":"／"},{"$f":"$I$3&\":\"&I89&CHAR(10)&IF(I89=\"材料系\",$L$3&\"：\"&L89,IF(I89=\"機械系\",$J$3&\"：\"&J89&CHAR(10)&$V$3&\"：\"&V89&CHAR(10)&$L$3&\"：\"&L89))","v":"種類:材料系\n改良対象土：第4種建設発生土（コーン指数qc=200kN/m2程度、含水比60％程度）（第3種改良土（コーン指数400kN/m2以上）への改良）"},"×",{"$f":"IF(Y$3=I89,\"○\",\"×\")","v":"×"},"○","×","○","○",{"$f":"IF(AD$3=\"特に指定しない\",\"○\",IF(AD$3=O89,\"○\",\"×\"))","v":"○"},{"$f":"IF(OR(AND(I89=\"機械系\", COUNTIF(AF89:AK89,\"○\")=3), AND(I89=\"材料系\", COUNTIF(AF89:AK89,\"○\")=4)), \"○\", \"×\")","v":"×"},{"$f":"IF($Y$3=\"材料系\",\"×\",IF(COUNTIF($AF$3:$AK$3,\"✓\")=0,\"○\",IF(AF$3<>\"✓\",\"○\",IF(AND(AF$3=\"✓\",OR(AND($AE$3=\"優れている\",P89=\"○\"),AND($AE$3=\"同等以上\",OR(P89=\"○\",P89=\"△\")))),\"○\",\"×\"))))","v":"○"},{"$f":"IF($Y$3=\"材料系\",\"×\",IF(COUNTIF($AF$3:$AK$3,\"✓\")=0,\"○\",IF(AG$3<>\"✓\",\"○\",IF(AND(AG$3=\"✓\",OR(AND($AE$3=\"優れている\",Q89=\"○\"),AND($AE$3=\"同等以上\",OR(Q89=\"○\",Q89=\"△\")))),\"○\",\"×\"))))","v":"○"},{"$f":"IF(COUNTIF($AF$3:$AK$3,\"✓\")=0,\"○\",IF(AH$3<>\"✓\",\"○\",IF(AND(AH$3=\"✓\",OR(AND($AE$3=\"優れている\",R89=\"○\"),AND($AE$3=\"同等以上\",OR(R89=\"○\",R89=\"△\")))),\"○\",\"×\")))","v":"○"},{"$f":"IF($Y$3=\"機械系\",\"×\",IF(COUNTIF($AF$3:$AK$3,\"✓\")=0,\"○\",IF(AI$3<>\"✓\",\"○\",IF(AND(AI$3=\"✓\",OR(AND($AE$3=\"優れている\",S89=\"○\"),AND($AE$3=\"同等以上\",OR(S89=\"○\",S89=\"△\")))),\"○\",\"×\"))))","v":"×"},{"$f":"IF($Y$3=\"機械系\",\"×\",IF(COUNTIF($AF$3:$AK$3,\"✓\")=0,\"○\",IF(AJ$3<>\"✓\",\"○\",IF(AND(AJ$3=\"✓\",OR(AND($AE$3=\"優れている\",T89=\"○\"),AND($AE$3=\"同等以上\",OR(T89=\"○\",T89=\"△\")))),\"○\",\"×\"))))","v":"×"},{"$f":"IF($Y$3=\"機械系\",\"×\",IF(COUNTIF($AF$3:$AK$3,\"✓\")=0,\"○\",IF(AK$3<>\"✓\",\"○\",IF(AND(AK$3=\"✓\",OR(AND($AE$3=\"優れている\",U89=\"○\"),AND($AE$3=\"同等以上\",OR(U89=\"○\",U89=\"△\")))),\"○\",\"×\"))))","v":"×"},{"$f":"HLOOKUP($C89,DB!$1:$1048576,9,0)","v":"-"},"A",{"$f":"IF(AND(AL89=\"◎\",AM89=\"A\"),1,2)","v":2},{"$f":"VLOOKUP(AM89,条件!D:E,2,0)","v":1},{"$f":"IFERROR(IF(VALUE(LEFT(MID(E89,FIND(\"-\",E89)+1,FIND(\"-\",E89,FIND(\"-\",E89)+1)-FIND(\"-\",E89)-1),2))>=90,\"19\"&LEFT(MID(E89,FIND(\"-\",E89)+1,FIND(\"-\",E89,FIND(\"-\",E89)+1)-FIND(\"-\",E89)-1),2),\"20\"&LEFT(MID(E89,FIND(\"-\",E89)+1,FIND(\"-\",E89,FIND(\"-\",E89)+1)-FIND(\"-\",E89)-1),2)),\"\")","v":"2025"},{"$f":"MID(E89, FIND(\"-\", E89) + 3, FIND(\"-\", E89, FIND(\"-\", E89) + 1) - FIND(\"-\", E89) - 3)","v":"0017"},{"$f":"IF(G89=\"\",2,1)","v":2},{"$f":"MID(C89,FIND(\"-\",C89)+1,LEN(C89))","v":"1"},{"$f":"VLOOKUP(LEFT(E89,2),条件!A:B,2,0)","v":"08"},{"$f":"(AN89&AO89&AP89&AQ89&AR89&TEXT(AS89,\"00\")&AT89)*1","v":212025001720108},63]
[{"$f":"IF(検索!$U$1=\"条件検索\", IF(X90=\"○\", COUNTIFS(X:X,\"○\",AV:AV,\"<\"&AV90)+1, \"-\"), IF(検索!$U$1=\"技術名検索\", IF(検索!$B$36=仕様の整理!E90, 仕様の整理!AV90, \"-\"), \"-\"))","v":"-"},87,"58-2","天然植物及び鉱物性由来セメント系固化材「オプスコン」","TH-250017-A","事後評価未実施技術",null,"令和7年10月","材料系","-","泥土","泥土（コーン指数qc=100kN/m2程度、含水比100％程度）（第3種改良土（コーン指数400kN/m2以上）への改良）","-",{"$f":"HLOOKUP(C90,DB!$1:$1048576,29,0)","v":"-"},{"$f":"HLOOKUP(C90,DB!$1:$1048576,48,0)","v":"／"},{"$f":"LEFT(HLOOKUP($C90,DB!$1:$1048576,58,0),1)","v":"／"},{"$f":"LEFT(HLOOKUP($C90,DB!$1:$1048576,59,0),1)","v":"／"},{"$f":"LEFT(HLOOKUP($C90,DB!$1:$1048576,60,0),1)","v":"／"},{"$f":"LEFT(HLOOKUP($C90,DB!$1:$1048576,61,0),1)","v":"／"},{"$f":"LEFT(HLOOKUP($C90,DB!$1:$1048576,62,0),1)","v":"／"},{"$f":"LEFT(HLOOKUP($C90,DB!$1:$1048576,63,0),1)","v":"／"},{"$f":"HLOOKUP(C90,DB!$1:$1048576,78,0)","v":"／"},{"$f":"$I$3&\":\"&I90&CHAR(10)&IF(I90=\"材料系\",$L$3&\"：\"&L90,IF(I90=\"機械系\",$J$3&\"：\"&J90&CHAR(10)&$V$3&\"：\"&V90&CHAR(10)&$L$3&\"：\"&L90))","v":"種類:材料系\n改良対象土：泥土（コーン指数qc=100kN/m2程度、含水比100％程度）（第3種改良土（コーン指数400kN/m2以上）への改良）"},"×",{"$f":"IF(Y$3=I90,\"○\",\"×\")","v":"×"},"○","×","×","○",{"$f":"IF(AD$3=\"特に指定しない\",\"○\",IF(AD$3=O90,\"○\",\"×\"))","v":"○"},{"$f":"IF(OR(AND(I90=\"機械系\", COUNTIF(AF90:AK90,\"○\")=3), AND(I90=\"材料系\", COUNTIF(AF90:AK90,\"○\")=4)), \"○\", \"×\")","v":"×"},{"$f":"IF($Y$3=\"材料系\",\"×\",IF(COUNTIF($AF$3:$AK$3,\"✓\")=0,\"○\",IF(AF$3<>\"✓\",\"○\",IF(AND(AF$3=\"✓\",OR(AND($AE$3=\"優れている\",P90=\"○\"),AND($AE$3=\"同等以上\",OR(P90=\"○\",P90=\"△\")))),\"○\",\"×\"))))","v":"○"},{"$f":"IF($Y$3=\"材料系\",\"×\",IF(COUNTIF($AF$3:$AK$3,\"✓\")=0,\"○\",IF(AG$3<>\"✓\",\"○\",IF(AND(AG$3=\"✓\",OR(AND($AE$3=\"優れている\",Q90=\"○\"),AND($AE$3=\"同等以上\",OR(Q90=\"○\",Q90=\"△\")))),\"○\",\"×\"))))","v":"○"},{"$f":"IF(COUNTIF($AF$3:$AK$3,\"✓\")=0,\"○\",IF(AH$3<>\"✓\",\"○\",IF(AND(AH$3=\"✓\",OR(AND($AE$3=\"優れている\",R90=\"○\"),AND($AE$3=\"同等以上\",OR(R90=\"○\",R90=\"△\")))),\"○\",\"×\")))","v":"○"},{"$f":"IF($Y$3=\"機械系\",\"×\",IF(COUNTIF($AF$3:$AK$3,\"✓\")=0,\"○\",IF(AI$3<>\"✓\",\"○\",IF(AND(AI$3=\"✓\",OR(AND($AE$3=\"優れている\",S90=\"○\"),AND($AE$3=\"同等以上\",OR(S90=\"○\",S90=\"△\")))),\"○\",\"×\"))))","v":"×"},{"$f":"IF($Y$3=\"機械系\",\"×\",IF(COUNTIF($AF$3:$AK$3,\"✓\")=0,\"○\",IF(AJ$3<>\"✓\",\"○\",IF(AND(AJ$3=\"✓\",OR(AND($AE$3=\"優れている\",T90=\"○\"),AND($AE$3=\"同等以上\",OR(T90=\"○\",T90=\"△\")))),\"○\",\"×\"))))","v":"×"},{"$f":"IF($Y$3=\"機械系\",\"×\",IF(COUNTIF($AF$3:$AK$3,\"✓\")=0,\"○\",IF(AK$3<>\"✓\",\"○\",IF(AND(AK$3=\"✓\",OR(AND($AE$3=\"優れている\",U90=\"○\"),AND($AE$3=\"同等以上\",OR(U90=\"○\",U90=\"△\")))),\"○\",\"×\"))))","v":"×"},{"$f":"HLOOKUP($C90,DB!$1:$1048576,9,0)","v":"-"},"A",{"$f":"IF(AND(AL90=\"◎\",AM90=\"A\"),1,2)","v":2},{"$f":"VLOOKUP(AM90,条件!D:E,2,0)","v":1},{"$f":"IFERROR(IF(VALUE(LEFT(MID(E90,FIND(\"-\",E90)+1,FIND(\"-\",E90,FIND(\"-\",E90)+1)-FIND(\"-\",E90)-1),2))>=90,\"19\"&LEFT(MID(E90,FIND(\"-\",E90)+1,FIND(\"-\",E90,FIND(\"-\",E90)+1)-FIND(\"-\",E90)-1),2),\"20\"&LEFT(MID(E90,FIND(\"-\",E90)+1,FIND(\"-\",E90,FIND(\"-\",E90)+1)-FIND(\"-\",E90)-1),2)),\"\")","v":"2025"},{"$f":"MID(E90, FIND(\"-\", E90) + 3, FIND(\"-\", E90, FIND(\"-\", E90) + 1) - FIND(\"-\", E90) - 3)","v":"0017"},{"$f":"IF(G90=\"\",2,1)","v":2},{"$f":"MID(C90,FIND(\"-\",C90)+1,LEN(C90))","v":"2"},{"$f":"VLOOKUP(LEFT(E90,2),条件!A:B,2,0)","v":"08"},{"$f":"(AN90&AO90&AP90&AQ90&AR90&TEXT(AS90,\"00\")&AT90)*1","v":212025001720208},64]
[{"$f":"IF(検索!$U$1=\"条件検索\", IF(X91=\"○\", COUNTIFS(X:X,\"○\",AV:AV,\"<\"&AV91)+1, \"-\"), IF(検索!$U$1=\"技術名検索\", IF(検索!$B$36=仕様の整理!E91, 仕様の整理!AV91, \"-\"), \"-\"))","v":"-"},88,"58-3","天然植物及び鉱物性由来セメント系固化材「オプスコン」","TH-250017-A","事後評価未実施技術",null,"令和7年10月","材料系","-","第4種建設発生土","第4種建設発生土（コーン指数qc=200kN/m2程度、含水比60％程度）（第3種改良土（コーン指数400kN/m2以上）への改良）","-",{"$f":"HLOOKUP(C91,DB!$1:$1048576,29,0)","v":"-"},{"$f":"HLOOKUP(C91,DB!$1:$1048576,48,0)","v":"／"},{"$f":"LEFT(HLOOKUP($C91,DB!$1:$1048576,58,0),1)","v":"／"},{"$f":"LEFT(HLOOKUP($C91,DB!$1:$1048576,59,0),1)","v":"／"},{"$f":"LEFT(HLOOKUP($C91,DB!$1:$1048576,60,0),1)","v":"／"},{"$f":"LEFT(HLOOKUP($C91,DB!$1:$1048576,61,0),1)","v":"／"},{"$f":"LEFT(HLOOKUP($C91,DB!$1:$1048576,62,0),1)","v":"／"},{"$f":"LEFT(HLOOKUP($C91,DB!$1:$1048576,63,0),1)","v":"／"},{"$f":"HLOOKUP(C91,DB!$1:$1048576,78,0)","v":"／"},"種類:材料系\n改良対象土：第4種建設発生土（コーン指数qc=200kN/m2程度、含水比60％程度）（第3種改良土（コーン指数400kN/m2以上）への改良）","×","×","○","×","○","○","○","×","○","○","○","×","×","×",{"$f":"HLOOKUP($C91,DB!$1:$1048576,9,0)","v":"-"},"A",2,{"$f":"VLOOKUP(AM91,条件!D:E,2,0)","v":1},"2025","0017",2,"3",{"$f":"VLOOKUP(LEFT(E91,2),条件!A:B,2,0)","v":"08"},212025001720308,65]
[{"$f":"IF(検索!$U$1=\"条件検索\", IF(X92=\"○\", COUNTIFS(X:X,\"○\",AV:AV,\"<\"&AV92)+1, \"-\"), IF(検索!$U$1=\"技術名検索\", IF(検索!$B$36=仕様の整理!E92, 仕様の整理!AV92, \"-\"), \"-\"))","v":"-"},89,"58-4","天然植物及び鉱物性由来セメント系固化材「オプスコン」","TH-250017-A","事後評価未実施技術",null,"令和7年10月","材料系","-","泥土","泥土（コーン指数qc=100kN/m2程度、含水比100％程度）（第3種改良土（コーン指数400kN/m2以上）への改良）","-",{"$f":"HLOOKUP(C92,DB!$1:$1048576,29,0)","v":"-"},{"$f":"HLOOKUP(C92,DB!$1:$1048576,48,0)","v":"／"},{"$f":"LEFT(HLOOKUP($C92,DB!$1:$1048576,58,0),1)","v":"／"},{"$f":"LEFT(HLOOKUP($C92,DB!$1:$1048576,59,0),1)","v":"／"},{"$f":"LEFT(HLOOKUP($C92,DB!$1:$1048576,60,0),1)","v":"／"},{"$f":"LEFT(HLOOKUP($C92,DB!$1:$1048576,61,0),1)","v":"／"},{"$f":"LEFT(HLOOKUP($C92,DB!$1:$1048576,62,0),1)","v":"／"},{"$f":"LEFT(HLOOKUP($C92,DB!$1:$1048576,63,0),1)","v":"／"},{"$f":"HLOOKUP(C92,DB!$1:$1048576,78,0)","v":"／"},"種類:材料系\n改良対象土：泥土（コーン指数qc=100kN/m2程度、含水比100％程度）（第3種改良土（コーン指数400kN/m2以上）への改良）","×","×","○","×","×","○","○","×","○","○","○","×","×","×",{"$f":"HLOOKUP($C92,DB!$1:$1048576,9,0)","v":"-"},"A",2,{"$f":"VLOOKUP(AM92,条件!D:E,2,0)","v":1},"2025","0017",2,"4",{"$f":"VLOOKUP(LEFT(E92,2),条件!A:B,2,0)","v":"08"},212025001720408,66]
[{"$f":"IF(検索!$U$1=\"条件検索\", IF(X93=\"○\", COUNTIFS(X:X,\"○\",AV:AV,\"<\"&AV93)+1, \"-\"), IF(検索!$U$1=\"技術名検索\", IF(検索!$B$36=仕様の整理!E93, 仕様の整理!AV93, \"-\"), \"-\"))","v":"-"},90,"59-1","地盤改良材（アッシュベリー）","TH-250018-A","事後評価未実施技術",null,"令和7年11月","材料系","-","第4種建設発生土","第4種建設発生土（コーン指数qc=200kN/m2程度、含水比60％程度）（第3種改良土（コーン指数400kN/m2以上）への改良）",null,{"$f":"HLOOKUP(C93,DB!$1:$1048576,29,0)","v":"-"},{"$f":"HLOOKUP(C93,DB!$1:$1048576,48,0)","v":"／"},{"$f":"LEFT(HLOOKUP($C93,DB!$1:$1048576,58,0),1)","v":"／"},{"$f":"LEFT(HLOOKUP($C93,DB!$1:$1048576,59,0),1)","v":"／"},{"$f":"LEFT(HLOOKUP($C93,DB!$1:$1048576,60,0),1)","v":"／"},{"$f":"LEFT(HLOOKUP($C93,DB!$1:$1048576,61,0),1)","v":"／"},{"$f":"LEFT(HLOOKUP($C93,DB!$1:$1048576,62,0),1)","v":"／"},{"$f":"LEFT(HLOOKUP($C93,DB!$1:$1048576,63,0),1)","v":"／"},{"$f":"HLOOKUP(C93,DB!$1:$1048576,78,0)","v":"／"},"種類:材料系\n改良対象土：第4種建設発生土（コーン指数qc=200kN/m2程度、含水比60％程度）（第3種改良土（コーン指数400kN/m2以上）への改良）","×","×","○","×","○","○","○","×","○","○","○","×","×","×",{"$f":"HLOOKUP($C93,DB!$1:$1048576,9,0)","v":"-"},"A",2,{"$f":"VLOOKUP(AM93,条件!D:E,2,0)","v":1},"2025","0018",2,"1",{"$f":"VLOOKUP(LEFT(E93,2),条件!A:B,2,0)","v":"08"},212025001820108,67]
[{"$f":"IF(検索!$U$1=\"条件検索\", IF(X94=\"○\", COUNTIFS(X:X,\"○\",AV:AV,\"<\"&AV94)+1, \"-\"), IF(検索!$U$1=\"技術名検索\", IF(検索!$B$36=仕様の整理!E94, 仕様の整理!AV94, \"-\"), \"-\"))","v":"-"},91,"59-2","地盤改良材（アッシュベリー）","TH-250018-A","事後評価未実施技術",null,"令和7年11月","材料系","-","泥土","泥土（コーン指数qc=100kN/m2程度、含水比100％程度）（第3種改良土（コーン指数400kN/m2以上）への改良）",null,{"$f":"HLOOKUP(C94,DB!$1:$1048576,29,0)","v":"-"},{"$f":"HLOOKUP(C94,DB!$1:$1048576,48,0)","v":"／"},{"$f":"LEFT(HLOOKUP($C94,DB!$1:$1048576,58,0),1)","v":"／"},{"$f":"LEFT(HLOOKUP($C94,DB!$1:$1048576,59,0),1)","v":"／"},{"$f":"LEFT(HLOOKUP($C94,DB!$1:$1048576,60,0),1)","v":"／"},{"$f":"LEFT(HLOOKUP($C94,DB!$1:$1048576,61,0),1)","v":"／"},{"$f":"LEFT(HLOOKUP($C94,DB!$1:$1048576,62,0),1)","v":"／"},{"$f":"LEFT(HLOOKUP($C94,DB!$1:$1048576,63,0),1)","v":"／"},{"$f":"HLOOKUP(C94,DB!$1:$1048576,78,0)","v":"／"},"種類:材料系\n改良対象土：泥土（コーン指数qc=100kN/m2程度、含水比100％程度）（第3種改良土（コーン指数400kN/m2以上）への改良）","×","×","○","×","×","○","○","×","○","○","○","×","×","×",{"$f":"HLOOKUP($C94,DB!$1:$1048576,9,0)","v":"-"},"A",2,{"$f":"VLOOKUP(AM94,条件!D:E,2,0)","v":1},"2025","0018",2,"2",{"$f":"VLOOKUP(LEFT(E94,2),条件!A:B,2,0)","v":"08"},212025001820208,68]
[{"$f":"IF(検索!$U$1=\"条件検索\", IF(X95=\"○\", COUNTIFS(X:X,\"○\",AV:AV,\"<\"&AV95)+1, \"-\"), IF(検索!$U$1=\"技術名検索\", IF(検索!$B$36=仕様の整理!E95, 仕様の整理!AV95, \"-\"), \"-\"))","v":"-"},92,"59-3","地盤改良材（アッシュベリー）","TH-250018-A","事後評価未実施技術",null,"令和7年11月","材料系","-","第4種建設発生土","第4種建設発生土（コーン指数qc=200kN/m2程度、含水比60％程度）（第3種改良土（コーン指数400kN/m2以上）への改良）",null,{"$f":"HLOOKUP(C95,DB!$1:$1048576,29,0)","v":"-"},{"$f":"HLOOKUP(C95,DB!$1:$1048576,48,0)","v":"／"},{"$f":"LEFT(HLOOKUP($C95,DB!$1:$1048576,58,0),1)","v":"／"},{"$f":"LEFT(HLOOKUP($C95,DB!$1:$1048576,59,0),1)","v":"／"},{"$f":"LEFT(HLOOKUP($C95,DB!$1:$1048576,60,0),1)","v":"／"},{"$f":"LEFT(HLOOKUP($C95,DB!$1:$1048576,61,0),1)","v":"／"},{"$f":"LEFT(HLOOKUP($C95,DB!$1:$1048576,62,0),1)","v":"／"},{"$f":"LEFT(HLOOKUP($C95,DB!$1:$1048576,63,0),1)","v":"／"},{"$f":"HLOOKUP(C95,DB!$1:$1048576,78,0)","v":"／"},"種類:材料系\n改良対象土：第4種建設発生土（コーン指数qc=200kN/m2程度、含水比60％程度）（第3種改良土（コーン指数400kN/m2以上）への改良）","×","×","○","×","○","○","○","×","○","○","○","×","×","×",{"$f":"HLOOKUP($C95,DB!$1:$1048576,9,0)","v":"-"},"A",2,{"$f":"VLOOKUP(AM95,条件!D:E,2,0)","v":1},"2025","0018",2,"3",{"$f":"VLOOKUP(LEFT(E95,2),条件!A:B,2,0)","v":"08"},212025001820308,69]
[{"$f":"IF(検索!$U$1=\"条件検索\", IF(X96=\"○\", COUNTIFS(X:X,\"○\",AV:AV,\"<\"&AV96)+1, \"-\"), IF(検索!$U$1=\"技術名検索\", IF(検索!$B$36=仕様の整理!E96, 仕様の整理!AV96, \"-\"), \"-\"))","v":"-"},93,"59-4","地盤改良材（アッシュベリー）","TH-250018-A","事後評価未実施技術",null,"令和7年11月","材料系","-","泥土","泥土（コーン指数qc=100kN/m2程度、含水比100％程度）（第3種改良土（コーン指数400kN/m2以上）への改良）",null,{"$f":"HLOOKUP(C96,DB!$1:$1048576,29,0)","v":"-"},{"$f":"HLOOKUP(C96,DB!$1:$1048576,48,0)","v":"／"},{"$f":"LEFT(HLOOKUP($C96,DB!$1:$1048576,58,0),1)","v":"／"},{"$f":"LEFT(HLOOKUP($C96,DB!$1:$1048576,59,0),1)","v":"／"},{"$f":"LEFT(HLOOKUP($C96,DB!$1:$1048576,60,0),1)","v":"／"},{"$f":"LEFT(HLOOKUP($C96,DB!$1:$1048576,61,0),1)","v":"／"},{"$f":"LEFT(HLOOKUP($C96,DB!$1:$1048576,62,0),1)","v":"／"},{"$f":"LEFT(HLOOKUP($C96,DB!$1:$1048576,63,0),1)","v":"／"},{"$f":"HLOOKUP(C96,DB!$1:$1048576,78,0)","v":"／"},"種類:材料系\n改良対象土：泥土（コーン指数qc=100kN/m2程度、含水比100％程度）（第3種改良土（コーン指数400kN/m2以上）への改良）","×","×","○","×","×","○","○","×","○","○","○","×","×","×",{"$f":"HLOOKUP($C96,DB!$1:$1048576,9,0)","v":"-"},"A",2,{"$f":"VLOOKUP(AM96,条件!D:E,2,0)","v":1},"2025","0018",2,"4",{"$f":"VLOOKUP(LEFT(E96,2),条件!A:B,2,0)","v":"08"},212025001820408,70]

{"sheet":"条件","index":6,"n_rows":31,"n_cols":9,"rows_kept":31,"cut":false,"hidden":false,"merged":[]}
[null,null,null,null,null,"検索用"]
["QS","01",null,"VR",1,null,"KT-090048-VG","回転式破砕混合工法による建設発生土リサイクル技術",{"$f":"IF(LEN(G2)-LEN(SUBSTITUTE(G2,\"-\",\"\"))>=2,LEFT(G2,FIND(\"-\",G2,FIND(\"-\",G2)+1)-1),G2)","v":"KT-090048"}]
["QSK","01",null,"VE",1,null,"KK-980012-VG","万能土質改良機による建設発生土再利用システム",{"$f":"IF(LEN(G3)-LEN(SUBSTITUTE(G3,\"-\",\"\"))>=2,LEFT(G3,FIND(\"-\",G3,FIND(\"-\",G3)+1)-1),G3)","v":"KK-980012"}]
["SK","02",null,"AE",1,null,"HR-060002-VG","ESR工法","HR-060002"]
["SKK","02",null,"A",1,null,"CB-030057-VG","泥土再資源化技術E3(イーキューブ)システム","CB-030057"]
["CG","03",null,"VG",2,null,"KT-200094-A","自走型回転式破砕混合機（TMSP1500）","KT-200094"]
["CGK","03",null,null,null,null,"KT-210047-VE","ＳＴＢ－ＩＣＴ粒度改良工法","KT-210047"]
["KK","04",null,null,null,null,"SK-220002-A","建設発生土等の固化材によるリサイクル改良土化","SK-220002"]
["KKK","04",null,null,null,null,"TH-160010-VE","吸水性泥土改質材 「ワトル」","TH-160010"]
["CB","05",null,null,null,null,"CBK-150001-VR","カルシア改質土","CBK-150001"]
["CBK","05",null,null,null,null,"KK-010008-VG","SEリバース(セメント不含有品、一般・汚泥・防塵シリーズ)","KK-010008"]
["HR","06",null,null,null,null,"TH-100029-VG","レストム工法","TH-100029"]
["HRK","06",null,null,null,null,"TH-020042-VG","ボンテラン工法","TH-020042"]
["KT","07",null,null,null,null,"CB-010011-VG","FTマッドキラー工法","CB-010011"]
["KTK","07",null,null,null,null,"KT-180019-A","サラサクリーン","KT-180019"]
["TH","08",null,null,null,null,"KK-170046-A","非セメント系中性固化材セーフティーソイル","KK-170046"]
["THK","08",null,null,null,null,"KT-190100-A","LDH系重金属類吸着剤「メタルグリッドA」","KT-190100"]
["HK","09",null,null,null,null,"CG-200006-A","重金属不溶化材「ポーラミックス」","CG-200006"]
["HKK","09",null,null,null,null,"KT-200060-A","中和不溶化改質剤 メタルシャット シリーズ","KT-200060"]
["TS",10,null,null,null,null,"KT-200135-A","重金属不溶化材「メタルキャッチャーＺ」","KT-200135"]
[null,null,null,null,null,null,"KT-210043-A","中性改質剤 ハードレックス シリーズ","KT-210043"]
[null,null,null,null,null,null,"QS-210042-A","重金属不溶化材「グリーンライムMPシリーズ」","QS-210042"]
[null,null,null,null,null,null,"KK-230010-A","重金属不溶化材スラリーTP-S","KK-230010"]
[null,null,null,null,null,null,"KK-230021-A","防塵タイプ中性土質改良材「セパットソイルSシリーズ」","KK-230021"]
[null,null,null,null,null,null,"KT-230185-A","中性土壌改質剤アースレフォールシリーズ","KT-230185"]
[null,null,null,null,null,null,"TH-240004-A","泥土短期改質材「バサRaミクス」","TH-240004"]
[null,null,null,null,null,null,"KT-240091-A","土壌の中性固化材「グリーンライムNシリーズ」","KT-240091"]
[null,null,null,null,null,null,"TH-240014-A","土壌改良固化材「ハーデンＬ」","TH-240014"]
[null,null,null,null,null,null,"KT-240137-A","土壌改良粉末中性固化剤「CS-1シリーズ」","KT-240137"]
[null,null,null,null,null,null,"TH-250017-A","天然植物及び鉱物性由来セメント系固化材「オプスコン」",{"$f":"IF(LEN(G30)-LEN(SUBSTITUTE(G30,\"-\",\"\"))>=2,LEFT(G30,FIND(\"-\",G30,FIND(\"-\",G30)+1)-1),G30)","v":"TH-250017"}]
[null,null,null,null,null,null,"TH-250018-A","地盤改良材（アッシュベリー）","TH-250018"]

{"sheet":"同意書","index":7,"n_rows":22,"n_cols":3,"rows_kept":22,"cut":false,"hidden":false,"merged":[[3,2,3,18],[4,2,4,18],[5,2,5,18]]}
[]
[null,"工法比較表データベース借用同意書"]
[]
[null,"業務名・工事名"]
[null,"会社名"]
[null,"氏名"]
[]
[]
[]
[null,"借用者は、工法比較法データベース（以下「DB」と称する）を九州技術事務所から借用する場合に際し、以下の事項を遵守することを同意いたします。 "]
[null,"（使用目的）","1).借用者は、DBを借用申請書に記載された業務・工事にのみ使用します。なお、DBのリバースエンジニアリング、配布及び公衆送信等はいかなる目的においても行いません。"]
[null,"（使用範囲)","2).DBの使用は、九州地方整備局管内の業務・工事における関係者に限定します。"]
[null,"（データの複製）","3).借用者は、九州技術事務所から借用したデータの複製は行いません。"]
[null,"（権利関係）","4).DB及びDBを利用したものに係わる権利は、いずれも借用者に帰属しないことを確認します。"]
[null,"（守秘義務）","5).借用者は、DBによって知り得た情報を他に漏らしません。"]
[null,"（免責事項）","6).借用者は、DBの使用によって損害及び紛争等が生じても、九州技術事務所が一切責任を負わないことに同意します。 "]
[null,"（同意内容の変更）","7).借用者は、この同意書の内容に変更が生じた場合、その変更が生じた日から２週間以内に九州技術事務所（qsr-kyugi-netis@ki.mlit.go.jp）へ報告します。"]
[null,"（利用実態調査の記入）","8).借用者は、利用実態調査を正確かつ誠実に記入し、利用期限内に提出することを同意します。"]
[null,"（協議事項）","9).借用者は、本同意書に定めのない事項及び本同意書に関して疑義が生じた事項に関しては、九州技術事務所（qsr-kyugi-netis@ki.mlit.go.jp）と協議します。  "]
[]
[]
[null,"同意"]